BEGIN:VCALENDAR
VERSION:2.0
PRODID:-//Holy Family Catholic Church - ECPv6.15.20//NONSGML v1.0//EN
CALSCALE:GREGORIAN
METHOD:PUBLISH
X-ORIGINAL-URL:https://hfparish.com
X-WR-CALDESC:Events for Holy Family Catholic Church
REFRESH-INTERVAL;VALUE=DURATION:PT1H
X-Robots-Tag:noindex
X-PUBLISHED-TTL:PT1H
BEGIN:VTIMEZONE
TZID:America/Los_Angeles
BEGIN:DAYLIGHT
TZOFFSETFROM:-0800
TZOFFSETTO:-0700
TZNAME:PDT
DTSTART:20220313T100000
END:DAYLIGHT
BEGIN:STANDARD
TZOFFSETFROM:-0700
TZOFFSETTO:-0800
TZNAME:PST
DTSTART:20221106T090000
END:STANDARD
BEGIN:DAYLIGHT
TZOFFSETFROM:-0800
TZOFFSETTO:-0700
TZNAME:PDT
DTSTART:20230312T100000
END:DAYLIGHT
BEGIN:STANDARD
TZOFFSETFROM:-0700
TZOFFSETTO:-0800
TZNAME:PST
DTSTART:20231105T090000
END:STANDARD
BEGIN:DAYLIGHT
TZOFFSETFROM:-0800
TZOFFSETTO:-0700
TZNAME:PDT
DTSTART:20240310T100000
END:DAYLIGHT
BEGIN:STANDARD
TZOFFSETFROM:-0700
TZOFFSETTO:-0800
TZNAME:PST
DTSTART:20241103T090000
END:STANDARD
END:VTIMEZONE
BEGIN:VEVENT
DTSTART;TZID=America/Los_Angeles:20231102T080000
DTEND;TZID=America/Los_Angeles:20231102T090000
DTSTAMP:20260425T150757
CREATED:20201106T220137Z
LAST-MODIFIED:20201106T220137Z
UID:4907-1698912000-1698915600@hfparish.com
SUMMARY:Thursday Mass
DESCRIPTION:
URL:https://hfparish.com/event/thursday-mass-2-2023-11-02/
END:VEVENT
BEGIN:VEVENT
DTSTART;TZID=America/Los_Angeles:20231103T080000
DTEND;TZID=America/Los_Angeles:20231103T090000
DTSTAMP:20260425T150757
CREATED:20201106T220328Z
LAST-MODIFIED:20201106T220328Z
UID:4908-1698998400-1699002000@hfparish.com
SUMMARY:Friday Mass
DESCRIPTION:
URL:https://hfparish.com/event/friday-mass-2023-11-03/
END:VEVENT
BEGIN:VEVENT
DTSTART;TZID=America/Los_Angeles:20231104T160000
DTEND;TZID=America/Los_Angeles:20231104T170000
DTSTAMP:20260425T150757
CREATED:20201106T220418Z
LAST-MODIFIED:20201106T220418Z
UID:4909-1699113600-1699117200@hfparish.com
SUMMARY:Saturday Mass
DESCRIPTION:
URL:https://hfparish.com/event/saturday-mass-2023-11-04/
END:VEVENT
BEGIN:VEVENT
DTSTART;TZID=America/Los_Angeles:20231105T090000
DTEND;TZID=America/Los_Angeles:20231105T100000
DTSTAMP:20260425T150757
CREATED:20201106T220522Z
LAST-MODIFIED:20201106T220522Z
UID:4913-1699174800-1699178400@hfparish.com
SUMMARY:Sunday Mass
DESCRIPTION:
URL:https://hfparish.com/event/sunday-mass-2023-11-05/
END:VEVENT
BEGIN:VEVENT
DTSTART;TZID=America/Los_Angeles:20231106T080000
DTEND;TZID=America/Los_Angeles:20231106T083000
DTSTAMP:20260425T150757
CREATED:20201106T215649Z
LAST-MODIFIED:20201106T215649Z
UID:4914-1699257600-1699259400@hfparish.com
SUMMARY:Monday Mass
DESCRIPTION:
URL:https://hfparish.com/event/monday-mass-2-2023-11-06/
END:VEVENT
BEGIN:VEVENT
DTSTART;TZID=America/Los_Angeles:20231106T084500
DTEND;TZID=America/Los_Angeles:20231106T100000
DTSTAMP:20260425T150757
CREATED:20220228T233517Z
LAST-MODIFIED:20220228T233517Z
UID:5353-1699260300-1699264800@hfparish.com
SUMMARY:Ladies Prayer Group
DESCRIPTION:
URL:https://hfparish.com/event/ladies-prayer-group-2-2023-11-06/
LOCATION:Holy Family Church Hall\, 1109 Chestnut St\, Clarkston\, WA\, 99403\, United States
END:VEVENT
BEGIN:VEVENT
DTSTART;TZID=America/Los_Angeles:20231109T080000
DTEND;TZID=America/Los_Angeles:20231109T090000
DTSTAMP:20260425T150757
CREATED:20201106T220137Z
LAST-MODIFIED:20201106T220137Z
UID:4919-1699516800-1699520400@hfparish.com
SUMMARY:Thursday Mass
DESCRIPTION:
URL:https://hfparish.com/event/thursday-mass-2-2023-11-09/
END:VEVENT
BEGIN:VEVENT
DTSTART;TZID=America/Los_Angeles:20231110T080000
DTEND;TZID=America/Los_Angeles:20231110T090000
DTSTAMP:20260425T150757
CREATED:20201106T220328Z
LAST-MODIFIED:20201106T220328Z
UID:4925-1699603200-1699606800@hfparish.com
SUMMARY:Friday Mass
DESCRIPTION:
URL:https://hfparish.com/event/friday-mass-2023-11-10/
END:VEVENT
BEGIN:VEVENT
DTSTART;TZID=America/Los_Angeles:20231111T160000
DTEND;TZID=America/Los_Angeles:20231111T170000
DTSTAMP:20260425T150757
CREATED:20201106T220418Z
LAST-MODIFIED:20201106T220418Z
UID:4926-1699718400-1699722000@hfparish.com
SUMMARY:Saturday Mass
DESCRIPTION:
URL:https://hfparish.com/event/saturday-mass-2023-11-11/
END:VEVENT
BEGIN:VEVENT
DTSTART;TZID=America/Los_Angeles:20231112T090000
DTEND;TZID=America/Los_Angeles:20231112T100000
DTSTAMP:20260425T150757
CREATED:20201106T220522Z
LAST-MODIFIED:20201106T220522Z
UID:4927-1699779600-1699783200@hfparish.com
SUMMARY:Sunday Mass
DESCRIPTION:
URL:https://hfparish.com/event/sunday-mass-2023-11-12/
END:VEVENT
BEGIN:VEVENT
DTSTART;TZID=America/Los_Angeles:20231113T080000
DTEND;TZID=America/Los_Angeles:20231113T083000
DTSTAMP:20260425T150757
CREATED:20201106T215649Z
LAST-MODIFIED:20201106T215649Z
UID:4928-1699862400-1699864200@hfparish.com
SUMMARY:Monday Mass
DESCRIPTION:
URL:https://hfparish.com/event/monday-mass-2-2023-11-13/
END:VEVENT
BEGIN:VEVENT
DTSTART;TZID=America/Los_Angeles:20231113T084500
DTEND;TZID=America/Los_Angeles:20231113T100000
DTSTAMP:20260425T150757
CREATED:20220228T233517Z
LAST-MODIFIED:20220228T233517Z
UID:5354-1699865100-1699869600@hfparish.com
SUMMARY:Ladies Prayer Group
DESCRIPTION:
URL:https://hfparish.com/event/ladies-prayer-group-2-2023-11-13/
LOCATION:Holy Family Church Hall\, 1109 Chestnut St\, Clarkston\, WA\, 99403\, United States
END:VEVENT
BEGIN:VEVENT
DTSTART;TZID=America/Los_Angeles:20231116T080000
DTEND;TZID=America/Los_Angeles:20231116T090000
DTSTAMP:20260425T150757
CREATED:20201106T220137Z
LAST-MODIFIED:20201106T220137Z
UID:4933-1700121600-1700125200@hfparish.com
SUMMARY:Thursday Mass
DESCRIPTION:
URL:https://hfparish.com/event/thursday-mass-2-2023-11-16/
END:VEVENT
BEGIN:VEVENT
DTSTART;TZID=America/Los_Angeles:20231117T080000
DTEND;TZID=America/Los_Angeles:20231117T090000
DTSTAMP:20260425T150757
CREATED:20201106T220328Z
LAST-MODIFIED:20201106T220328Z
UID:4934-1700208000-1700211600@hfparish.com
SUMMARY:Friday Mass
DESCRIPTION:
URL:https://hfparish.com/event/friday-mass-2023-11-17/
END:VEVENT
BEGIN:VEVENT
DTSTART;TZID=America/Los_Angeles:20231118T160000
DTEND;TZID=America/Los_Angeles:20231118T170000
DTSTAMP:20260425T150757
CREATED:20201106T220418Z
LAST-MODIFIED:20201106T220418Z
UID:4938-1700323200-1700326800@hfparish.com
SUMMARY:Saturday Mass
DESCRIPTION:
URL:https://hfparish.com/event/saturday-mass-2023-11-18/
END:VEVENT
BEGIN:VEVENT
DTSTART;TZID=America/Los_Angeles:20231119T090000
DTEND;TZID=America/Los_Angeles:20231119T100000
DTSTAMP:20260425T150757
CREATED:20201106T220522Z
LAST-MODIFIED:20201106T220522Z
UID:4939-1700384400-1700388000@hfparish.com
SUMMARY:Sunday Mass
DESCRIPTION:
URL:https://hfparish.com/event/sunday-mass-2023-11-19/
END:VEVENT
BEGIN:VEVENT
DTSTART;TZID=America/Los_Angeles:20231120T080000
DTEND;TZID=America/Los_Angeles:20231120T083000
DTSTAMP:20260425T150757
CREATED:20201106T215649Z
LAST-MODIFIED:20201106T215649Z
UID:4940-1700467200-1700469000@hfparish.com
SUMMARY:Monday Mass
DESCRIPTION:
URL:https://hfparish.com/event/monday-mass-2-2023-11-20/
END:VEVENT
BEGIN:VEVENT
DTSTART;TZID=America/Los_Angeles:20231120T084500
DTEND;TZID=America/Los_Angeles:20231120T100000
DTSTAMP:20260425T150757
CREATED:20220228T233517Z
LAST-MODIFIED:20220228T233517Z
UID:5355-1700469900-1700474400@hfparish.com
SUMMARY:Ladies Prayer Group
DESCRIPTION:
URL:https://hfparish.com/event/ladies-prayer-group-2-2023-11-20/
LOCATION:Holy Family Church Hall\, 1109 Chestnut St\, Clarkston\, WA\, 99403\, United States
END:VEVENT
BEGIN:VEVENT
DTSTART;TZID=America/Los_Angeles:20231123T080000
DTEND;TZID=America/Los_Angeles:20231123T090000
DTSTAMP:20260425T150757
CREATED:20201106T220137Z
LAST-MODIFIED:20201106T220137Z
UID:4941-1700726400-1700730000@hfparish.com
SUMMARY:Thursday Mass
DESCRIPTION:
URL:https://hfparish.com/event/thursday-mass-2-2023-11-23/
END:VEVENT
BEGIN:VEVENT
DTSTART;TZID=America/Los_Angeles:20231124T080000
DTEND;TZID=America/Los_Angeles:20231124T090000
DTSTAMP:20260425T150757
CREATED:20201106T220328Z
LAST-MODIFIED:20201106T220328Z
UID:4942-1700812800-1700816400@hfparish.com
SUMMARY:Friday Mass
DESCRIPTION:
URL:https://hfparish.com/event/friday-mass-2023-11-24/
END:VEVENT
BEGIN:VEVENT
DTSTART;TZID=America/Los_Angeles:20231125T160000
DTEND;TZID=America/Los_Angeles:20231125T170000
DTSTAMP:20260425T150757
CREATED:20201106T220418Z
LAST-MODIFIED:20201106T220418Z
UID:4943-1700928000-1700931600@hfparish.com
SUMMARY:Saturday Mass
DESCRIPTION:
URL:https://hfparish.com/event/saturday-mass-2023-11-25/
END:VEVENT
BEGIN:VEVENT
DTSTART;TZID=America/Los_Angeles:20231126T090000
DTEND;TZID=America/Los_Angeles:20231126T100000
DTSTAMP:20260425T150757
CREATED:20201106T220522Z
LAST-MODIFIED:20201106T220522Z
UID:4944-1700989200-1700992800@hfparish.com
SUMMARY:Sunday Mass
DESCRIPTION:
URL:https://hfparish.com/event/sunday-mass-2023-11-26/
END:VEVENT
BEGIN:VEVENT
DTSTART;TZID=America/Los_Angeles:20231127T080000
DTEND;TZID=America/Los_Angeles:20231127T083000
DTSTAMP:20260425T150757
CREATED:20201106T215649Z
LAST-MODIFIED:20201106T215649Z
UID:4945-1701072000-1701073800@hfparish.com
SUMMARY:Monday Mass
DESCRIPTION:
URL:https://hfparish.com/event/monday-mass-2-2023-11-27/
END:VEVENT
BEGIN:VEVENT
DTSTART;TZID=America/Los_Angeles:20231127T084500
DTEND;TZID=America/Los_Angeles:20231127T100000
DTSTAMP:20260425T150757
CREATED:20220228T233517Z
LAST-MODIFIED:20220228T233517Z
UID:5356-1701074700-1701079200@hfparish.com
SUMMARY:Ladies Prayer Group
DESCRIPTION:
URL:https://hfparish.com/event/ladies-prayer-group-2-2023-11-27/
LOCATION:Holy Family Church Hall\, 1109 Chestnut St\, Clarkston\, WA\, 99403\, United States
END:VEVENT
BEGIN:VEVENT
DTSTART;TZID=America/Los_Angeles:20231130T080000
DTEND;TZID=America/Los_Angeles:20231130T090000
DTSTAMP:20260425T150757
CREATED:20201106T220137Z
LAST-MODIFIED:20201106T220137Z
UID:4947-1701331200-1701334800@hfparish.com
SUMMARY:Thursday Mass
DESCRIPTION:
URL:https://hfparish.com/event/thursday-mass-2-2023-11-30/
END:VEVENT
END:VCALENDAR