BEGIN:VCALENDAR
VERSION:2.0
PRODID:-//Holy Family Catholic Church - ECPv6.15.20//NONSGML v1.0//EN
CALSCALE:GREGORIAN
METHOD:PUBLISH
X-ORIGINAL-URL:https://hfparish.com
X-WR-CALDESC:Events for Holy Family Catholic Church
REFRESH-INTERVAL;VALUE=DURATION:PT1H
X-Robots-Tag:noindex
X-PUBLISHED-TTL:PT1H
BEGIN:VTIMEZONE
TZID:America/Los_Angeles
BEGIN:DAYLIGHT
TZOFFSETFROM:-0800
TZOFFSETTO:-0700
TZNAME:PDT
DTSTART:20220313T100000
END:DAYLIGHT
BEGIN:STANDARD
TZOFFSETFROM:-0700
TZOFFSETTO:-0800
TZNAME:PST
DTSTART:20221106T090000
END:STANDARD
BEGIN:DAYLIGHT
TZOFFSETFROM:-0800
TZOFFSETTO:-0700
TZNAME:PDT
DTSTART:20230312T100000
END:DAYLIGHT
BEGIN:STANDARD
TZOFFSETFROM:-0700
TZOFFSETTO:-0800
TZNAME:PST
DTSTART:20231105T090000
END:STANDARD
BEGIN:DAYLIGHT
TZOFFSETFROM:-0800
TZOFFSETTO:-0700
TZNAME:PDT
DTSTART:20240310T100000
END:DAYLIGHT
BEGIN:STANDARD
TZOFFSETFROM:-0700
TZOFFSETTO:-0800
TZNAME:PST
DTSTART:20241103T090000
END:STANDARD
END:VTIMEZONE
BEGIN:VEVENT
DTSTART;TZID=America/Los_Angeles:20231201T080000
DTEND;TZID=America/Los_Angeles:20231201T090000
DTSTAMP:20260425T131448
CREATED:20201106T220328Z
LAST-MODIFIED:20201106T220328Z
UID:4954-1701417600-1701421200@hfparish.com
SUMMARY:Friday Mass
DESCRIPTION:
URL:https://hfparish.com/event/friday-mass-2023-12-01/
END:VEVENT
BEGIN:VEVENT
DTSTART;TZID=America/Los_Angeles:20231202T160000
DTEND;TZID=America/Los_Angeles:20231202T170000
DTSTAMP:20260425T131448
CREATED:20201106T220418Z
LAST-MODIFIED:20201106T220418Z
UID:4955-1701532800-1701536400@hfparish.com
SUMMARY:Saturday Mass
DESCRIPTION:
URL:https://hfparish.com/event/saturday-mass-2023-12-02/
END:VEVENT
BEGIN:VEVENT
DTSTART;TZID=America/Los_Angeles:20231203T090000
DTEND;TZID=America/Los_Angeles:20231203T100000
DTSTAMP:20260425T131448
CREATED:20201106T220522Z
LAST-MODIFIED:20201106T220522Z
UID:4960-1701594000-1701597600@hfparish.com
SUMMARY:Sunday Mass
DESCRIPTION:
URL:https://hfparish.com/event/sunday-mass-2023-12-03/
END:VEVENT
BEGIN:VEVENT
DTSTART;TZID=America/Los_Angeles:20231204T080000
DTEND;TZID=America/Los_Angeles:20231204T083000
DTSTAMP:20260425T131448
CREATED:20201106T215649Z
LAST-MODIFIED:20201106T215649Z
UID:4961-1701676800-1701678600@hfparish.com
SUMMARY:Monday Mass
DESCRIPTION:
URL:https://hfparish.com/event/monday-mass-2-2023-12-04/
END:VEVENT
BEGIN:VEVENT
DTSTART;TZID=America/Los_Angeles:20231204T084500
DTEND;TZID=America/Los_Angeles:20231204T100000
DTSTAMP:20260425T131448
CREATED:20220228T233517Z
LAST-MODIFIED:20220228T233517Z
UID:5357-1701679500-1701684000@hfparish.com
SUMMARY:Ladies Prayer Group
DESCRIPTION:
URL:https://hfparish.com/event/ladies-prayer-group-2-2023-12-04/
LOCATION:Holy Family Church Hall\, 1109 Chestnut St\, Clarkston\, WA\, 99403\, United States
END:VEVENT
BEGIN:VEVENT
DTSTART;TZID=America/Los_Angeles:20231207T080000
DTEND;TZID=America/Los_Angeles:20231207T090000
DTSTAMP:20260425T131448
CREATED:20201106T220137Z
LAST-MODIFIED:20201106T220137Z
UID:4962-1701936000-1701939600@hfparish.com
SUMMARY:Thursday Mass
DESCRIPTION:
URL:https://hfparish.com/event/thursday-mass-2-2023-12-07/
END:VEVENT
BEGIN:VEVENT
DTSTART;TZID=America/Los_Angeles:20231208T080000
DTEND;TZID=America/Los_Angeles:20231208T090000
DTSTAMP:20260425T131448
CREATED:20201106T220328Z
LAST-MODIFIED:20201106T220328Z
UID:4969-1702022400-1702026000@hfparish.com
SUMMARY:Friday Mass
DESCRIPTION:
URL:https://hfparish.com/event/friday-mass-2023-12-08/
END:VEVENT
BEGIN:VEVENT
DTSTART;TZID=America/Los_Angeles:20231209T160000
DTEND;TZID=America/Los_Angeles:20231209T170000
DTSTAMP:20260425T131448
CREATED:20201106T220418Z
LAST-MODIFIED:20201106T220418Z
UID:4973-1702137600-1702141200@hfparish.com
SUMMARY:Saturday Mass
DESCRIPTION:
URL:https://hfparish.com/event/saturday-mass-2023-12-09/
END:VEVENT
BEGIN:VEVENT
DTSTART;TZID=America/Los_Angeles:20231210T090000
DTEND;TZID=America/Los_Angeles:20231210T100000
DTSTAMP:20260425T131448
CREATED:20201106T220522Z
LAST-MODIFIED:20201106T220522Z
UID:4974-1702198800-1702202400@hfparish.com
SUMMARY:Sunday Mass
DESCRIPTION:
URL:https://hfparish.com/event/sunday-mass-2023-12-10/
END:VEVENT
BEGIN:VEVENT
DTSTART;TZID=America/Los_Angeles:20231211T080000
DTEND;TZID=America/Los_Angeles:20231211T083000
DTSTAMP:20260425T131448
CREATED:20201106T215649Z
LAST-MODIFIED:20201106T215649Z
UID:4975-1702281600-1702283400@hfparish.com
SUMMARY:Monday Mass
DESCRIPTION:
URL:https://hfparish.com/event/monday-mass-2-2023-12-11/
END:VEVENT
BEGIN:VEVENT
DTSTART;TZID=America/Los_Angeles:20231211T084500
DTEND;TZID=America/Los_Angeles:20231211T100000
DTSTAMP:20260425T131448
CREATED:20220228T233517Z
LAST-MODIFIED:20220228T233517Z
UID:5358-1702284300-1702288800@hfparish.com
SUMMARY:Ladies Prayer Group
DESCRIPTION:
URL:https://hfparish.com/event/ladies-prayer-group-2-2023-12-11/
LOCATION:Holy Family Church Hall\, 1109 Chestnut St\, Clarkston\, WA\, 99403\, United States
END:VEVENT
BEGIN:VEVENT
DTSTART;TZID=America/Los_Angeles:20231214T080000
DTEND;TZID=America/Los_Angeles:20231214T090000
DTSTAMP:20260425T131448
CREATED:20201106T220137Z
LAST-MODIFIED:20201106T220137Z
UID:4982-1702540800-1702544400@hfparish.com
SUMMARY:Thursday Mass
DESCRIPTION:
URL:https://hfparish.com/event/thursday-mass-2-2023-12-14/
END:VEVENT
BEGIN:VEVENT
DTSTART;TZID=America/Los_Angeles:20231215T080000
DTEND;TZID=America/Los_Angeles:20231215T090000
DTSTAMP:20260425T131448
CREATED:20201106T220328Z
LAST-MODIFIED:20201106T220328Z
UID:4983-1702627200-1702630800@hfparish.com
SUMMARY:Friday Mass
DESCRIPTION:
URL:https://hfparish.com/event/friday-mass-2023-12-15/
END:VEVENT
BEGIN:VEVENT
DTSTART;TZID=America/Los_Angeles:20231216T160000
DTEND;TZID=America/Los_Angeles:20231216T170000
DTSTAMP:20260425T131448
CREATED:20201106T220418Z
LAST-MODIFIED:20201106T220418Z
UID:4986-1702742400-1702746000@hfparish.com
SUMMARY:Saturday Mass
DESCRIPTION:
URL:https://hfparish.com/event/saturday-mass-2023-12-16/
END:VEVENT
BEGIN:VEVENT
DTSTART;TZID=America/Los_Angeles:20231217T090000
DTEND;TZID=America/Los_Angeles:20231217T100000
DTSTAMP:20260425T131448
CREATED:20201106T220522Z
LAST-MODIFIED:20201106T220522Z
UID:4993-1702803600-1702807200@hfparish.com
SUMMARY:Sunday Mass
DESCRIPTION:
URL:https://hfparish.com/event/sunday-mass-2023-12-17/
END:VEVENT
BEGIN:VEVENT
DTSTART;TZID=America/Los_Angeles:20231218T080000
DTEND;TZID=America/Los_Angeles:20231218T083000
DTSTAMP:20260425T131448
CREATED:20201106T215649Z
LAST-MODIFIED:20201106T215649Z
UID:4994-1702886400-1702888200@hfparish.com
SUMMARY:Monday Mass
DESCRIPTION:
URL:https://hfparish.com/event/monday-mass-2-2023-12-18/
END:VEVENT
BEGIN:VEVENT
DTSTART;TZID=America/Los_Angeles:20231218T084500
DTEND;TZID=America/Los_Angeles:20231218T100000
DTSTAMP:20260425T131448
CREATED:20220228T233517Z
LAST-MODIFIED:20220228T233517Z
UID:5359-1702889100-1702893600@hfparish.com
SUMMARY:Ladies Prayer Group
DESCRIPTION:
URL:https://hfparish.com/event/ladies-prayer-group-2-2023-12-18/
LOCATION:Holy Family Church Hall\, 1109 Chestnut St\, Clarkston\, WA\, 99403\, United States
END:VEVENT
BEGIN:VEVENT
DTSTART;TZID=America/Los_Angeles:20231221T080000
DTEND;TZID=America/Los_Angeles:20231221T090000
DTSTAMP:20260425T131448
CREATED:20201106T220137Z
LAST-MODIFIED:20201106T220137Z
UID:4999-1703145600-1703149200@hfparish.com
SUMMARY:Thursday Mass
DESCRIPTION:
URL:https://hfparish.com/event/thursday-mass-2-2023-12-21/
END:VEVENT
BEGIN:VEVENT
DTSTART;TZID=America/Los_Angeles:20231222T080000
DTEND;TZID=America/Los_Angeles:20231222T090000
DTSTAMP:20260425T131448
CREATED:20201106T220328Z
LAST-MODIFIED:20201106T220328Z
UID:5000-1703232000-1703235600@hfparish.com
SUMMARY:Friday Mass
DESCRIPTION:
URL:https://hfparish.com/event/friday-mass-2023-12-22/
END:VEVENT
BEGIN:VEVENT
DTSTART;TZID=America/Los_Angeles:20231223T160000
DTEND;TZID=America/Los_Angeles:20231223T170000
DTSTAMP:20260425T131448
CREATED:20201106T220418Z
LAST-MODIFIED:20201106T220418Z
UID:5003-1703347200-1703350800@hfparish.com
SUMMARY:Saturday Mass
DESCRIPTION:
URL:https://hfparish.com/event/saturday-mass-2023-12-23/
END:VEVENT
BEGIN:VEVENT
DTSTART;TZID=America/Los_Angeles:20231224T090000
DTEND;TZID=America/Los_Angeles:20231224T100000
DTSTAMP:20260425T131448
CREATED:20201106T220522Z
LAST-MODIFIED:20201106T220522Z
UID:5004-1703408400-1703412000@hfparish.com
SUMMARY:Sunday Mass
DESCRIPTION:
URL:https://hfparish.com/event/sunday-mass-2023-12-24/
END:VEVENT
BEGIN:VEVENT
DTSTART;TZID=America/Los_Angeles:20231225T080000
DTEND;TZID=America/Los_Angeles:20231225T083000
DTSTAMP:20260425T131448
CREATED:20201106T215649Z
LAST-MODIFIED:20201106T215649Z
UID:5005-1703491200-1703493000@hfparish.com
SUMMARY:Monday Mass
DESCRIPTION:
URL:https://hfparish.com/event/monday-mass-2-2023-12-25/
END:VEVENT
BEGIN:VEVENT
DTSTART;TZID=America/Los_Angeles:20231225T084500
DTEND;TZID=America/Los_Angeles:20231225T100000
DTSTAMP:20260425T131448
CREATED:20220228T233517Z
LAST-MODIFIED:20220228T233517Z
UID:5360-1703493900-1703498400@hfparish.com
SUMMARY:Ladies Prayer Group
DESCRIPTION:
URL:https://hfparish.com/event/ladies-prayer-group-2-2023-12-25/
LOCATION:Holy Family Church Hall\, 1109 Chestnut St\, Clarkston\, WA\, 99403\, United States
END:VEVENT
BEGIN:VEVENT
DTSTART;TZID=America/Los_Angeles:20231228T080000
DTEND;TZID=America/Los_Angeles:20231228T090000
DTSTAMP:20260425T131448
CREATED:20201106T220137Z
LAST-MODIFIED:20201106T220137Z
UID:5017-1703750400-1703754000@hfparish.com
SUMMARY:Thursday Mass
DESCRIPTION:
URL:https://hfparish.com/event/thursday-mass-2-2023-12-28/
END:VEVENT
BEGIN:VEVENT
DTSTART;TZID=America/Los_Angeles:20231229T080000
DTEND;TZID=America/Los_Angeles:20231229T090000
DTSTAMP:20260425T131448
CREATED:20201106T220328Z
LAST-MODIFIED:20201106T220328Z
UID:5018-1703836800-1703840400@hfparish.com
SUMMARY:Friday Mass
DESCRIPTION:
URL:https://hfparish.com/event/friday-mass-2023-12-29/
END:VEVENT
BEGIN:VEVENT
DTSTART;TZID=America/Los_Angeles:20231230T160000
DTEND;TZID=America/Los_Angeles:20231230T170000
DTSTAMP:20260425T131448
CREATED:20201106T220418Z
LAST-MODIFIED:20201106T220418Z
UID:5019-1703952000-1703955600@hfparish.com
SUMMARY:Saturday Mass
DESCRIPTION:
URL:https://hfparish.com/event/saturday-mass-2023-12-30/
END:VEVENT
BEGIN:VEVENT
DTSTART;TZID=America/Los_Angeles:20231231T090000
DTEND;TZID=America/Los_Angeles:20231231T100000
DTSTAMP:20260425T131448
CREATED:20201106T220522Z
LAST-MODIFIED:20201106T220522Z
UID:5020-1704013200-1704016800@hfparish.com
SUMMARY:Sunday Mass
DESCRIPTION:
URL:https://hfparish.com/event/sunday-mass-2023-12-31/
END:VEVENT
END:VCALENDAR