BEGIN:VCALENDAR
VERSION:2.0
PRODID:-//Holy Family Catholic Church - ECPv6.15.20//NONSGML v1.0//EN
CALSCALE:GREGORIAN
METHOD:PUBLISH
X-ORIGINAL-URL:https://hfparish.com
X-WR-CALDESC:Events for Holy Family Catholic Church
REFRESH-INTERVAL;VALUE=DURATION:PT1H
X-Robots-Tag:noindex
X-PUBLISHED-TTL:PT1H
BEGIN:VTIMEZONE
TZID:America/Los_Angeles
BEGIN:DAYLIGHT
TZOFFSETFROM:-0800
TZOFFSETTO:-0700
TZNAME:PDT
DTSTART:20230312T100000
END:DAYLIGHT
BEGIN:STANDARD
TZOFFSETFROM:-0700
TZOFFSETTO:-0800
TZNAME:PST
DTSTART:20231105T090000
END:STANDARD
BEGIN:DAYLIGHT
TZOFFSETFROM:-0800
TZOFFSETTO:-0700
TZNAME:PDT
DTSTART:20240310T100000
END:DAYLIGHT
BEGIN:STANDARD
TZOFFSETFROM:-0700
TZOFFSETTO:-0800
TZNAME:PST
DTSTART:20241103T090000
END:STANDARD
BEGIN:DAYLIGHT
TZOFFSETFROM:-0800
TZOFFSETTO:-0700
TZNAME:PDT
DTSTART:20250309T100000
END:DAYLIGHT
BEGIN:STANDARD
TZOFFSETFROM:-0700
TZOFFSETTO:-0800
TZNAME:PST
DTSTART:20251102T090000
END:STANDARD
END:VTIMEZONE
BEGIN:VEVENT
DTSTART;TZID=America/Los_Angeles:20241002T093000
DTEND;TZID=America/Los_Angeles:20241002T103000
DTSTAMP:20260424T183508
CREATED:20220228T230818Z
LAST-MODIFIED:20220228T230818Z
UID:6102-1727861400-1727865000@hfparish.com
SUMMARY:Confession
DESCRIPTION:Confessions are every Wednesday after Mass unless otherwise announced.
URL:https://hfparish.com/event/confession-2024-10-02/
END:VEVENT
BEGIN:VEVENT
DTSTART;TZID=America/Los_Angeles:20241003T080000
DTEND;TZID=America/Los_Angeles:20241003T090000
DTSTAMP:20260424T183508
CREATED:20201106T220137Z
LAST-MODIFIED:20201106T220137Z
UID:6106-1727942400-1727946000@hfparish.com
SUMMARY:Thursday Mass
DESCRIPTION:
URL:https://hfparish.com/event/thursday-mass-2-2024-10-03/
END:VEVENT
BEGIN:VEVENT
DTSTART;TZID=America/Los_Angeles:20241004T080000
DTEND;TZID=America/Los_Angeles:20241004T090000
DTSTAMP:20260424T183508
CREATED:20201106T220328Z
LAST-MODIFIED:20201106T220328Z
UID:6110-1728028800-1728032400@hfparish.com
SUMMARY:Friday Mass
DESCRIPTION:
URL:https://hfparish.com/event/friday-mass-2024-10-04/
END:VEVENT
BEGIN:VEVENT
DTSTART;TZID=America/Los_Angeles:20241005T150000
DTEND;TZID=America/Los_Angeles:20241005T153000
DTSTAMP:20260424T183508
CREATED:20220228T230620Z
LAST-MODIFIED:20220228T230620Z
UID:6111-1728140400-1728142200@hfparish.com
SUMMARY:Confessions
DESCRIPTION:Confessions are held every Saturday unless otherwise announced.
URL:https://hfparish.com/event/confessions-2-2024-10-05/
END:VEVENT
BEGIN:VEVENT
DTSTART;TZID=America/Los_Angeles:20241005T160000
DTEND;TZID=America/Los_Angeles:20241005T170000
DTSTAMP:20260424T183508
CREATED:20201106T220418Z
LAST-MODIFIED:20201106T220418Z
UID:6112-1728144000-1728147600@hfparish.com
SUMMARY:Saturday Mass
DESCRIPTION:
URL:https://hfparish.com/event/saturday-mass-2024-10-05/
END:VEVENT
BEGIN:VEVENT
DTSTART;TZID=America/Los_Angeles:20241006T090000
DTEND;TZID=America/Los_Angeles:20241006T100000
DTSTAMP:20260424T183508
CREATED:20201106T220522Z
LAST-MODIFIED:20201106T220522Z
UID:6113-1728205200-1728208800@hfparish.com
SUMMARY:Sunday Mass
DESCRIPTION:
URL:https://hfparish.com/event/sunday-mass-2024-10-06/
END:VEVENT
BEGIN:VEVENT
DTSTART;TZID=America/Los_Angeles:20241007T080000
DTEND;TZID=America/Los_Angeles:20241007T083000
DTSTAMP:20260424T183508
CREATED:20201106T215649Z
LAST-MODIFIED:20201106T215649Z
UID:6117-1728288000-1728289800@hfparish.com
SUMMARY:Monday Mass
DESCRIPTION:
URL:https://hfparish.com/event/monday-mass-2-2024-10-07/
END:VEVENT
BEGIN:VEVENT
DTSTART;TZID=America/Los_Angeles:20241007T084500
DTEND;TZID=America/Los_Angeles:20241007T100000
DTSTAMP:20260424T183508
CREATED:20220228T233517Z
LAST-MODIFIED:20220228T233517Z
UID:6118-1728290700-1728295200@hfparish.com
SUMMARY:Ladies Prayer Group
DESCRIPTION:
URL:https://hfparish.com/event/ladies-prayer-group-2-2024-10-07/
LOCATION:Holy Family Church Hall\, 1109 Chestnut St\, Clarkston\, WA\, 99403\, United States
END:VEVENT
BEGIN:VEVENT
DTSTART;TZID=America/Los_Angeles:20241009T093000
DTEND;TZID=America/Los_Angeles:20241009T103000
DTSTAMP:20260424T183508
CREATED:20220228T230818Z
LAST-MODIFIED:20220228T230818Z
UID:6119-1728466200-1728469800@hfparish.com
SUMMARY:Confession
DESCRIPTION:Confessions are every Wednesday after Mass unless otherwise announced.
URL:https://hfparish.com/event/confession-2024-10-09/
END:VEVENT
BEGIN:VEVENT
DTSTART;TZID=America/Los_Angeles:20241010T080000
DTEND;TZID=America/Los_Angeles:20241010T090000
DTSTAMP:20260424T183508
CREATED:20201106T220137Z
LAST-MODIFIED:20201106T220137Z
UID:6122-1728547200-1728550800@hfparish.com
SUMMARY:Thursday Mass
DESCRIPTION:
URL:https://hfparish.com/event/thursday-mass-2-2024-10-10/
END:VEVENT
BEGIN:VEVENT
DTSTART;TZID=America/Los_Angeles:20241011T080000
DTEND;TZID=America/Los_Angeles:20241011T090000
DTSTAMP:20260424T183508
CREATED:20201106T220328Z
LAST-MODIFIED:20201106T220328Z
UID:6125-1728633600-1728637200@hfparish.com
SUMMARY:Friday Mass
DESCRIPTION:
URL:https://hfparish.com/event/friday-mass-2024-10-11/
END:VEVENT
BEGIN:VEVENT
DTSTART;TZID=America/Los_Angeles:20241012T150000
DTEND;TZID=America/Los_Angeles:20241012T153000
DTSTAMP:20260424T183508
CREATED:20220228T230620Z
LAST-MODIFIED:20220228T230620Z
UID:6126-1728745200-1728747000@hfparish.com
SUMMARY:Confessions
DESCRIPTION:Confessions are held every Saturday unless otherwise announced.
URL:https://hfparish.com/event/confessions-2-2024-10-12/
END:VEVENT
BEGIN:VEVENT
DTSTART;TZID=America/Los_Angeles:20241012T160000
DTEND;TZID=America/Los_Angeles:20241012T170000
DTSTAMP:20260424T183508
CREATED:20201106T220418Z
LAST-MODIFIED:20201106T220418Z
UID:6127-1728748800-1728752400@hfparish.com
SUMMARY:Saturday Mass
DESCRIPTION:
URL:https://hfparish.com/event/saturday-mass-2024-10-12/
END:VEVENT
BEGIN:VEVENT
DTSTART;TZID=America/Los_Angeles:20241013T090000
DTEND;TZID=America/Los_Angeles:20241013T100000
DTSTAMP:20260424T183508
CREATED:20201106T220522Z
LAST-MODIFIED:20201106T220522Z
UID:6131-1728810000-1728813600@hfparish.com
SUMMARY:Sunday Mass
DESCRIPTION:
URL:https://hfparish.com/event/sunday-mass-2024-10-13/
END:VEVENT
BEGIN:VEVENT
DTSTART;TZID=America/Los_Angeles:20241014T080000
DTEND;TZID=America/Los_Angeles:20241014T083000
DTSTAMP:20260424T183508
CREATED:20201106T215649Z
LAST-MODIFIED:20201106T215649Z
UID:6132-1728892800-1728894600@hfparish.com
SUMMARY:Monday Mass
DESCRIPTION:
URL:https://hfparish.com/event/monday-mass-2-2024-10-14/
END:VEVENT
BEGIN:VEVENT
DTSTART;TZID=America/Los_Angeles:20241014T084500
DTEND;TZID=America/Los_Angeles:20241014T100000
DTSTAMP:20260424T183508
CREATED:20220228T233517Z
LAST-MODIFIED:20220228T233517Z
UID:6133-1728895500-1728900000@hfparish.com
SUMMARY:Ladies Prayer Group
DESCRIPTION:
URL:https://hfparish.com/event/ladies-prayer-group-2-2024-10-14/
LOCATION:Holy Family Church Hall\, 1109 Chestnut St\, Clarkston\, WA\, 99403\, United States
END:VEVENT
BEGIN:VEVENT
DTSTART;TZID=America/Los_Angeles:20241016T093000
DTEND;TZID=America/Los_Angeles:20241016T103000
DTSTAMP:20260424T183508
CREATED:20220228T230818Z
LAST-MODIFIED:20220228T230818Z
UID:6134-1729071000-1729074600@hfparish.com
SUMMARY:Confession
DESCRIPTION:Confessions are every Wednesday after Mass unless otherwise announced.
URL:https://hfparish.com/event/confession-2024-10-16/
END:VEVENT
BEGIN:VEVENT
DTSTART;TZID=America/Los_Angeles:20241017T080000
DTEND;TZID=America/Los_Angeles:20241017T090000
DTSTAMP:20260424T183508
CREATED:20201106T220137Z
LAST-MODIFIED:20201106T220137Z
UID:6137-1729152000-1729155600@hfparish.com
SUMMARY:Thursday Mass
DESCRIPTION:
URL:https://hfparish.com/event/thursday-mass-2-2024-10-17/
END:VEVENT
BEGIN:VEVENT
DTSTART;TZID=America/Los_Angeles:20241018T080000
DTEND;TZID=America/Los_Angeles:20241018T090000
DTSTAMP:20260424T183508
CREATED:20201106T220328Z
LAST-MODIFIED:20201106T220328Z
UID:6138-1729238400-1729242000@hfparish.com
SUMMARY:Friday Mass
DESCRIPTION:
URL:https://hfparish.com/event/friday-mass-2024-10-18/
END:VEVENT
BEGIN:VEVENT
DTSTART;TZID=America/Los_Angeles:20241019T150000
DTEND;TZID=America/Los_Angeles:20241019T153000
DTSTAMP:20260424T183508
CREATED:20220228T230620Z
LAST-MODIFIED:20220228T230620Z
UID:6144-1729350000-1729351800@hfparish.com
SUMMARY:Confessions
DESCRIPTION:Confessions are held every Saturday unless otherwise announced.
URL:https://hfparish.com/event/confessions-2-2024-10-19/
END:VEVENT
BEGIN:VEVENT
DTSTART;TZID=America/Los_Angeles:20241019T160000
DTEND;TZID=America/Los_Angeles:20241019T170000
DTSTAMP:20260424T183508
CREATED:20201106T220418Z
LAST-MODIFIED:20201106T220418Z
UID:6145-1729353600-1729357200@hfparish.com
SUMMARY:Saturday Mass
DESCRIPTION:
URL:https://hfparish.com/event/saturday-mass-2024-10-19/
END:VEVENT
BEGIN:VEVENT
DTSTART;TZID=America/Los_Angeles:20241020T090000
DTEND;TZID=America/Los_Angeles:20241020T100000
DTSTAMP:20260424T183508
CREATED:20201106T220522Z
LAST-MODIFIED:20201106T220522Z
UID:6148-1729414800-1729418400@hfparish.com
SUMMARY:Sunday Mass
DESCRIPTION:
URL:https://hfparish.com/event/sunday-mass-2024-10-20/
END:VEVENT
BEGIN:VEVENT
DTSTART;TZID=America/Los_Angeles:20241021T080000
DTEND;TZID=America/Los_Angeles:20241021T083000
DTSTAMP:20260424T183508
CREATED:20201106T215649Z
LAST-MODIFIED:20201106T215649Z
UID:6150-1729497600-1729499400@hfparish.com
SUMMARY:Monday Mass
DESCRIPTION:
URL:https://hfparish.com/event/monday-mass-2-2024-10-21/
END:VEVENT
BEGIN:VEVENT
DTSTART;TZID=America/Los_Angeles:20241021T084500
DTEND;TZID=America/Los_Angeles:20241021T100000
DTSTAMP:20260424T183508
CREATED:20220228T233517Z
LAST-MODIFIED:20220228T233517Z
UID:6151-1729500300-1729504800@hfparish.com
SUMMARY:Ladies Prayer Group
DESCRIPTION:
URL:https://hfparish.com/event/ladies-prayer-group-2-2024-10-21/
LOCATION:Holy Family Church Hall\, 1109 Chestnut St\, Clarkston\, WA\, 99403\, United States
END:VEVENT
BEGIN:VEVENT
DTSTART;TZID=America/Los_Angeles:20241023T093000
DTEND;TZID=America/Los_Angeles:20241023T103000
DTSTAMP:20260424T183508
CREATED:20220228T230818Z
LAST-MODIFIED:20220228T230818Z
UID:6152-1729675800-1729679400@hfparish.com
SUMMARY:Confession
DESCRIPTION:Confessions are every Wednesday after Mass unless otherwise announced.
URL:https://hfparish.com/event/confession-2024-10-23/
END:VEVENT
BEGIN:VEVENT
DTSTART;TZID=America/Los_Angeles:20241024T080000
DTEND;TZID=America/Los_Angeles:20241024T090000
DTSTAMP:20260424T183508
CREATED:20201106T220137Z
LAST-MODIFIED:20201106T220137Z
UID:6156-1729756800-1729760400@hfparish.com
SUMMARY:Thursday Mass
DESCRIPTION:
URL:https://hfparish.com/event/thursday-mass-2-2024-10-24/
END:VEVENT
BEGIN:VEVENT
DTSTART;TZID=America/Los_Angeles:20241025T080000
DTEND;TZID=America/Los_Angeles:20241025T090000
DTSTAMP:20260424T183508
CREATED:20201106T220328Z
LAST-MODIFIED:20201106T220328Z
UID:6160-1729843200-1729846800@hfparish.com
SUMMARY:Friday Mass
DESCRIPTION:
URL:https://hfparish.com/event/friday-mass-2024-10-25/
END:VEVENT
BEGIN:VEVENT
DTSTART;TZID=America/Los_Angeles:20241026T150000
DTEND;TZID=America/Los_Angeles:20241026T153000
DTSTAMP:20260424T183508
CREATED:20220228T230620Z
LAST-MODIFIED:20220228T230620Z
UID:6162-1729954800-1729956600@hfparish.com
SUMMARY:Confessions
DESCRIPTION:Confessions are held every Saturday unless otherwise announced.
URL:https://hfparish.com/event/confessions-2-2024-10-26/
END:VEVENT
BEGIN:VEVENT
DTSTART;TZID=America/Los_Angeles:20241026T160000
DTEND;TZID=America/Los_Angeles:20241026T170000
DTSTAMP:20260424T183508
CREATED:20201106T220418Z
LAST-MODIFIED:20201106T220418Z
UID:6163-1729958400-1729962000@hfparish.com
SUMMARY:Saturday Mass
DESCRIPTION:
URL:https://hfparish.com/event/saturday-mass-2024-10-26/
END:VEVENT
BEGIN:VEVENT
DTSTART;TZID=America/Los_Angeles:20241027T090000
DTEND;TZID=America/Los_Angeles:20241027T100000
DTSTAMP:20260424T183508
CREATED:20201106T220522Z
LAST-MODIFIED:20201106T220522Z
UID:6166-1730019600-1730023200@hfparish.com
SUMMARY:Sunday Mass
DESCRIPTION:
URL:https://hfparish.com/event/sunday-mass-2024-10-27/
END:VEVENT
END:VCALENDAR