BEGIN:VCALENDAR
VERSION:2.0
PRODID:-//Holy Family Catholic Church - ECPv6.15.20//NONSGML v1.0//EN
CALSCALE:GREGORIAN
METHOD:PUBLISH
X-WR-CALNAME:Holy Family Catholic Church
X-ORIGINAL-URL:https://hfparish.com
X-WR-CALDESC:Events for Holy Family Catholic Church
REFRESH-INTERVAL;VALUE=DURATION:PT1H
X-Robots-Tag:noindex
X-PUBLISHED-TTL:PT1H
BEGIN:VTIMEZONE
TZID:America/Los_Angeles
BEGIN:DAYLIGHT
TZOFFSETFROM:-0800
TZOFFSETTO:-0700
TZNAME:PDT
DTSTART:20240310T100000
END:DAYLIGHT
BEGIN:STANDARD
TZOFFSETFROM:-0700
TZOFFSETTO:-0800
TZNAME:PST
DTSTART:20241103T090000
END:STANDARD
BEGIN:DAYLIGHT
TZOFFSETFROM:-0800
TZOFFSETTO:-0700
TZNAME:PDT
DTSTART:20250309T100000
END:DAYLIGHT
BEGIN:STANDARD
TZOFFSETFROM:-0700
TZOFFSETTO:-0800
TZNAME:PST
DTSTART:20251102T090000
END:STANDARD
BEGIN:DAYLIGHT
TZOFFSETFROM:-0800
TZOFFSETTO:-0700
TZNAME:PDT
DTSTART:20260308T100000
END:DAYLIGHT
BEGIN:STANDARD
TZOFFSETFROM:-0700
TZOFFSETTO:-0800
TZNAME:PST
DTSTART:20261101T090000
END:STANDARD
END:VTIMEZONE
BEGIN:VEVENT
DTSTART;TZID=America/Los_Angeles:20250101T093000
DTEND;TZID=America/Los_Angeles:20250101T103000
DTSTAMP:20260424T123807
CREATED:20220228T230818Z
LAST-MODIFIED:20220228T230818Z
UID:6319-1735723800-1735727400@hfparish.com
SUMMARY:Confession
DESCRIPTION:Confessions are every Wednesday after Mass unless otherwise announced.
URL:https://hfparish.com/event/confession-2025-01-01/
END:VEVENT
BEGIN:VEVENT
DTSTART;TZID=America/Los_Angeles:20250102T080000
DTEND;TZID=America/Los_Angeles:20250102T090000
DTSTAMP:20260424T123807
CREATED:20201106T220137Z
LAST-MODIFIED:20201106T220137Z
UID:6320-1735804800-1735808400@hfparish.com
SUMMARY:Thursday Mass
DESCRIPTION:
URL:https://hfparish.com/event/thursday-mass-2-2025-01-02/
END:VEVENT
BEGIN:VEVENT
DTSTART;TZID=America/Los_Angeles:20250103T080000
DTEND;TZID=America/Los_Angeles:20250103T090000
DTSTAMP:20260424T123807
CREATED:20201106T220328Z
LAST-MODIFIED:20201106T220328Z
UID:6321-1735891200-1735894800@hfparish.com
SUMMARY:Friday Mass
DESCRIPTION:
URL:https://hfparish.com/event/friday-mass-2025-01-03/
END:VEVENT
BEGIN:VEVENT
DTSTART;TZID=America/Los_Angeles:20250104T150000
DTEND;TZID=America/Los_Angeles:20250104T153000
DTSTAMP:20260424T123807
CREATED:20220228T230620Z
LAST-MODIFIED:20220228T230620Z
UID:6322-1736002800-1736004600@hfparish.com
SUMMARY:Confessions
DESCRIPTION:Confessions are held every Saturday unless otherwise announced.
URL:https://hfparish.com/event/confessions-2-2025-01-04/
END:VEVENT
BEGIN:VEVENT
DTSTART;TZID=America/Los_Angeles:20250104T160000
DTEND;TZID=America/Los_Angeles:20250104T170000
DTSTAMP:20260424T123807
CREATED:20201106T220418Z
LAST-MODIFIED:20201106T220418Z
UID:6323-1736006400-1736010000@hfparish.com
SUMMARY:Saturday Mass
DESCRIPTION:
URL:https://hfparish.com/event/saturday-mass-2025-01-04/
END:VEVENT
BEGIN:VEVENT
DTSTART;TZID=America/Los_Angeles:20250105T090000
DTEND;TZID=America/Los_Angeles:20250105T100000
DTSTAMP:20260424T123807
CREATED:20201106T220522Z
LAST-MODIFIED:20201106T220522Z
UID:6330-1736067600-1736071200@hfparish.com
SUMMARY:Sunday Mass
DESCRIPTION:
URL:https://hfparish.com/event/sunday-mass-2025-01-05/
END:VEVENT
BEGIN:VEVENT
DTSTART;TZID=America/Los_Angeles:20250106T080000
DTEND;TZID=America/Los_Angeles:20250106T083000
DTSTAMP:20260424T123807
CREATED:20201106T215649Z
LAST-MODIFIED:20201106T215649Z
UID:6335-1736150400-1736152200@hfparish.com
SUMMARY:Monday Mass
DESCRIPTION:
URL:https://hfparish.com/event/monday-mass-2-2025-01-06/
END:VEVENT
BEGIN:VEVENT
DTSTART;TZID=America/Los_Angeles:20250106T084500
DTEND;TZID=America/Los_Angeles:20250106T100000
DTSTAMP:20260424T123807
CREATED:20220228T233517Z
LAST-MODIFIED:20220228T233517Z
UID:6336-1736153100-1736157600@hfparish.com
SUMMARY:Ladies Prayer Group
DESCRIPTION:
URL:https://hfparish.com/event/ladies-prayer-group-2-2025-01-06/
LOCATION:Holy Family Church Hall\, 1109 Chestnut St\, Clarkston\, WA\, 99403\, United States
END:VEVENT
BEGIN:VEVENT
DTSTART;TZID=America/Los_Angeles:20250108T093000
DTEND;TZID=America/Los_Angeles:20250108T103000
DTSTAMP:20260424T123807
CREATED:20220228T230818Z
LAST-MODIFIED:20220228T230818Z
UID:6337-1736328600-1736332200@hfparish.com
SUMMARY:Confession
DESCRIPTION:Confessions are every Wednesday after Mass unless otherwise announced.
URL:https://hfparish.com/event/confession-2025-01-08/
END:VEVENT
BEGIN:VEVENT
DTSTART;TZID=America/Los_Angeles:20250109T080000
DTEND;TZID=America/Los_Angeles:20250109T090000
DTSTAMP:20260424T123807
CREATED:20201106T220137Z
LAST-MODIFIED:20201106T220137Z
UID:6339-1736409600-1736413200@hfparish.com
SUMMARY:Thursday Mass
DESCRIPTION:
URL:https://hfparish.com/event/thursday-mass-2-2025-01-09/
END:VEVENT
BEGIN:VEVENT
DTSTART;TZID=America/Los_Angeles:20250110T080000
DTEND;TZID=America/Los_Angeles:20250110T090000
DTSTAMP:20260424T123807
CREATED:20201106T220328Z
LAST-MODIFIED:20201106T220328Z
UID:6341-1736496000-1736499600@hfparish.com
SUMMARY:Friday Mass
DESCRIPTION:
URL:https://hfparish.com/event/friday-mass-2025-01-10/
END:VEVENT
BEGIN:VEVENT
DTSTART;TZID=America/Los_Angeles:20250111T150000
DTEND;TZID=America/Los_Angeles:20250111T153000
DTSTAMP:20260424T123807
CREATED:20220228T230620Z
LAST-MODIFIED:20220228T230620Z
UID:6346-1736607600-1736609400@hfparish.com
SUMMARY:Confessions
DESCRIPTION:Confessions are held every Saturday unless otherwise announced.
URL:https://hfparish.com/event/confessions-2-2025-01-11/
END:VEVENT
BEGIN:VEVENT
DTSTART;TZID=America/Los_Angeles:20250111T160000
DTEND;TZID=America/Los_Angeles:20250111T170000
DTSTAMP:20260424T123807
CREATED:20201106T220418Z
LAST-MODIFIED:20201106T220418Z
UID:6347-1736611200-1736614800@hfparish.com
SUMMARY:Saturday Mass
DESCRIPTION:
URL:https://hfparish.com/event/saturday-mass-2025-01-11/
END:VEVENT
BEGIN:VEVENT
DTSTART;TZID=America/Los_Angeles:20250112T090000
DTEND;TZID=America/Los_Angeles:20250112T100000
DTSTAMP:20260424T123807
CREATED:20201106T220522Z
LAST-MODIFIED:20201106T220522Z
UID:6349-1736672400-1736676000@hfparish.com
SUMMARY:Sunday Mass
DESCRIPTION:
URL:https://hfparish.com/event/sunday-mass-2025-01-12/
END:VEVENT
BEGIN:VEVENT
DTSTART;TZID=America/Los_Angeles:20250113T080000
DTEND;TZID=America/Los_Angeles:20250113T083000
DTSTAMP:20260424T123807
CREATED:20201106T215649Z
LAST-MODIFIED:20201106T215649Z
UID:6352-1736755200-1736757000@hfparish.com
SUMMARY:Monday Mass
DESCRIPTION:
URL:https://hfparish.com/event/monday-mass-2-2025-01-13/
END:VEVENT
BEGIN:VEVENT
DTSTART;TZID=America/Los_Angeles:20250113T084500
DTEND;TZID=America/Los_Angeles:20250113T100000
DTSTAMP:20260424T123807
CREATED:20220228T233517Z
LAST-MODIFIED:20220228T233517Z
UID:6353-1736757900-1736762400@hfparish.com
SUMMARY:Ladies Prayer Group
DESCRIPTION:
URL:https://hfparish.com/event/ladies-prayer-group-2-2025-01-13/
LOCATION:Holy Family Church Hall\, 1109 Chestnut St\, Clarkston\, WA\, 99403\, United States
END:VEVENT
BEGIN:VEVENT
DTSTART;TZID=America/Los_Angeles:20250115T093000
DTEND;TZID=America/Los_Angeles:20250115T103000
DTSTAMP:20260424T123807
CREATED:20220228T230818Z
LAST-MODIFIED:20220228T230818Z
UID:6354-1736933400-1736937000@hfparish.com
SUMMARY:Confession
DESCRIPTION:Confessions are every Wednesday after Mass unless otherwise announced.
URL:https://hfparish.com/event/confession-2025-01-15/
END:VEVENT
BEGIN:VEVENT
DTSTART;TZID=America/Los_Angeles:20250116T080000
DTEND;TZID=America/Los_Angeles:20250116T090000
DTSTAMP:20260424T123807
CREATED:20201106T220137Z
LAST-MODIFIED:20201106T220137Z
UID:6361-1737014400-1737018000@hfparish.com
SUMMARY:Thursday Mass
DESCRIPTION:
URL:https://hfparish.com/event/thursday-mass-2-2025-01-16/
END:VEVENT
BEGIN:VEVENT
DTSTART;TZID=America/Los_Angeles:20250117T080000
DTEND;TZID=America/Los_Angeles:20250117T090000
DTSTAMP:20260424T123807
CREATED:20201106T220328Z
LAST-MODIFIED:20201106T220328Z
UID:6365-1737100800-1737104400@hfparish.com
SUMMARY:Friday Mass
DESCRIPTION:
URL:https://hfparish.com/event/friday-mass-2025-01-17/
END:VEVENT
BEGIN:VEVENT
DTSTART;TZID=America/Los_Angeles:20250118T150000
DTEND;TZID=America/Los_Angeles:20250118T153000
DTSTAMP:20260424T123807
CREATED:20220228T230620Z
LAST-MODIFIED:20220228T230620Z
UID:6368-1737212400-1737214200@hfparish.com
SUMMARY:Confessions
DESCRIPTION:Confessions are held every Saturday unless otherwise announced.
URL:https://hfparish.com/event/confessions-2-2025-01-18/
END:VEVENT
BEGIN:VEVENT
DTSTART;TZID=America/Los_Angeles:20250118T160000
DTEND;TZID=America/Los_Angeles:20250118T170000
DTSTAMP:20260424T123807
CREATED:20201106T220418Z
LAST-MODIFIED:20201106T220418Z
UID:6369-1737216000-1737219600@hfparish.com
SUMMARY:Saturday Mass
DESCRIPTION:
URL:https://hfparish.com/event/saturday-mass-2025-01-18/
END:VEVENT
BEGIN:VEVENT
DTSTART;TZID=America/Los_Angeles:20250119T090000
DTEND;TZID=America/Los_Angeles:20250119T100000
DTSTAMP:20260424T123807
CREATED:20201106T220522Z
LAST-MODIFIED:20201106T220522Z
UID:6371-1737277200-1737280800@hfparish.com
SUMMARY:Sunday Mass
DESCRIPTION:
URL:https://hfparish.com/event/sunday-mass-2025-01-19/
END:VEVENT
BEGIN:VEVENT
DTSTART;TZID=America/Los_Angeles:20250120T080000
DTEND;TZID=America/Los_Angeles:20250120T083000
DTSTAMP:20260424T123807
CREATED:20201106T215649Z
LAST-MODIFIED:20201106T215649Z
UID:6375-1737360000-1737361800@hfparish.com
SUMMARY:Monday Mass
DESCRIPTION:
URL:https://hfparish.com/event/monday-mass-2-2025-01-20/
END:VEVENT
BEGIN:VEVENT
DTSTART;TZID=America/Los_Angeles:20250120T084500
DTEND;TZID=America/Los_Angeles:20250120T100000
DTSTAMP:20260424T123807
CREATED:20220228T233517Z
LAST-MODIFIED:20220228T233517Z
UID:6376-1737362700-1737367200@hfparish.com
SUMMARY:Ladies Prayer Group
DESCRIPTION:
URL:https://hfparish.com/event/ladies-prayer-group-2-2025-01-20/
LOCATION:Holy Family Church Hall\, 1109 Chestnut St\, Clarkston\, WA\, 99403\, United States
END:VEVENT
BEGIN:VEVENT
DTSTART;TZID=America/Los_Angeles:20250122T093000
DTEND;TZID=America/Los_Angeles:20250122T103000
DTSTAMP:20260424T123807
CREATED:20220228T230818Z
LAST-MODIFIED:20220228T230818Z
UID:6377-1737538200-1737541800@hfparish.com
SUMMARY:Confession
DESCRIPTION:Confessions are every Wednesday after Mass unless otherwise announced.
URL:https://hfparish.com/event/confession-2025-01-22/
END:VEVENT
BEGIN:VEVENT
DTSTART;TZID=America/Los_Angeles:20250123T080000
DTEND;TZID=America/Los_Angeles:20250123T090000
DTSTAMP:20260424T123807
CREATED:20201106T220137Z
LAST-MODIFIED:20201106T220137Z
UID:6379-1737619200-1737622800@hfparish.com
SUMMARY:Thursday Mass
DESCRIPTION:
URL:https://hfparish.com/event/thursday-mass-2-2025-01-23/
END:VEVENT
BEGIN:VEVENT
DTSTART;TZID=America/Los_Angeles:20250124T080000
DTEND;TZID=America/Los_Angeles:20250124T090000
DTSTAMP:20260424T123807
CREATED:20201106T220328Z
LAST-MODIFIED:20201106T220328Z
UID:6381-1737705600-1737709200@hfparish.com
SUMMARY:Friday Mass
DESCRIPTION:
URL:https://hfparish.com/event/friday-mass-2025-01-24/
END:VEVENT
BEGIN:VEVENT
DTSTART;TZID=America/Los_Angeles:20250125T150000
DTEND;TZID=America/Los_Angeles:20250125T153000
DTSTAMP:20260424T123807
CREATED:20220228T230620Z
LAST-MODIFIED:20220228T230620Z
UID:6382-1737817200-1737819000@hfparish.com
SUMMARY:Confessions
DESCRIPTION:Confessions are held every Saturday unless otherwise announced.
URL:https://hfparish.com/event/confessions-2-2025-01-25/
END:VEVENT
BEGIN:VEVENT
DTSTART;TZID=America/Los_Angeles:20250125T160000
DTEND;TZID=America/Los_Angeles:20250125T170000
DTSTAMP:20260424T123807
CREATED:20201106T220418Z
LAST-MODIFIED:20201106T220418Z
UID:6383-1737820800-1737824400@hfparish.com
SUMMARY:Saturday Mass
DESCRIPTION:
URL:https://hfparish.com/event/saturday-mass-2025-01-25/
END:VEVENT
BEGIN:VEVENT
DTSTART;TZID=America/Los_Angeles:20250126T090000
DTEND;TZID=America/Los_Angeles:20250126T100000
DTSTAMP:20260424T123807
CREATED:20201106T220522Z
LAST-MODIFIED:20201106T220522Z
UID:6386-1737882000-1737885600@hfparish.com
SUMMARY:Sunday Mass
DESCRIPTION:
URL:https://hfparish.com/event/sunday-mass-2025-01-26/
END:VEVENT
END:VCALENDAR