BEGIN:VCALENDAR
VERSION:2.0
PRODID:-//Holy Family Catholic Church - ECPv6.15.20//NONSGML v1.0//EN
CALSCALE:GREGORIAN
METHOD:PUBLISH
X-WR-CALNAME:Holy Family Catholic Church
X-ORIGINAL-URL:https://hfparish.com
X-WR-CALDESC:Events for Holy Family Catholic Church
REFRESH-INTERVAL;VALUE=DURATION:PT1H
X-Robots-Tag:noindex
X-PUBLISHED-TTL:PT1H
BEGIN:VTIMEZONE
TZID:America/Los_Angeles
BEGIN:DAYLIGHT
TZOFFSETFROM:-0800
TZOFFSETTO:-0700
TZNAME:PDT
DTSTART:20240310T100000
END:DAYLIGHT
BEGIN:STANDARD
TZOFFSETFROM:-0700
TZOFFSETTO:-0800
TZNAME:PST
DTSTART:20241103T090000
END:STANDARD
BEGIN:DAYLIGHT
TZOFFSETFROM:-0800
TZOFFSETTO:-0700
TZNAME:PDT
DTSTART:20250309T100000
END:DAYLIGHT
BEGIN:STANDARD
TZOFFSETFROM:-0700
TZOFFSETTO:-0800
TZNAME:PST
DTSTART:20251102T090000
END:STANDARD
BEGIN:DAYLIGHT
TZOFFSETFROM:-0800
TZOFFSETTO:-0700
TZNAME:PDT
DTSTART:20260308T100000
END:DAYLIGHT
BEGIN:STANDARD
TZOFFSETFROM:-0700
TZOFFSETTO:-0800
TZNAME:PST
DTSTART:20261101T090000
END:STANDARD
END:VTIMEZONE
BEGIN:VEVENT
DTSTART;TZID=America/Los_Angeles:20250301T150000
DTEND;TZID=America/Los_Angeles:20250301T153000
DTSTAMP:20260424T090521
CREATED:20220228T230620Z
LAST-MODIFIED:20220228T230620Z
UID:6470-1740841200-1740843000@hfparish.com
SUMMARY:Confessions
DESCRIPTION:Confessions are held every Saturday unless otherwise announced.
URL:https://hfparish.com/event/confessions-2-2025-03-01/
END:VEVENT
BEGIN:VEVENT
DTSTART;TZID=America/Los_Angeles:20250301T160000
DTEND;TZID=America/Los_Angeles:20250301T170000
DTSTAMP:20260424T090521
CREATED:20201106T220418Z
LAST-MODIFIED:20201106T220418Z
UID:6471-1740844800-1740848400@hfparish.com
SUMMARY:Saturday Mass
DESCRIPTION:
URL:https://hfparish.com/event/saturday-mass-2025-03-01/
END:VEVENT
BEGIN:VEVENT
DTSTART;TZID=America/Los_Angeles:20250302T090000
DTEND;TZID=America/Los_Angeles:20250302T100000
DTSTAMP:20260424T090521
CREATED:20201106T220522Z
LAST-MODIFIED:20201106T220522Z
UID:6472-1740906000-1740909600@hfparish.com
SUMMARY:Sunday Mass
DESCRIPTION:
URL:https://hfparish.com/event/sunday-mass-2025-03-02/
END:VEVENT
BEGIN:VEVENT
DTSTART;TZID=America/Los_Angeles:20250303T080000
DTEND;TZID=America/Los_Angeles:20250303T083000
DTSTAMP:20260424T090521
CREATED:20201106T215649Z
LAST-MODIFIED:20201106T215649Z
UID:6481-1740988800-1740990600@hfparish.com
SUMMARY:Monday Mass
DESCRIPTION:
URL:https://hfparish.com/event/monday-mass-2-2025-03-03/
END:VEVENT
BEGIN:VEVENT
DTSTART;TZID=America/Los_Angeles:20250303T084500
DTEND;TZID=America/Los_Angeles:20250303T100000
DTSTAMP:20260424T090521
CREATED:20220228T233517Z
LAST-MODIFIED:20220228T233517Z
UID:6482-1740991500-1740996000@hfparish.com
SUMMARY:Ladies Prayer Group
DESCRIPTION:
URL:https://hfparish.com/event/ladies-prayer-group-2-2025-03-03/
LOCATION:Holy Family Church Hall\, 1109 Chestnut St\, Clarkston\, WA\, 99403\, United States
END:VEVENT
BEGIN:VEVENT
DTSTART;TZID=America/Los_Angeles:20250305T093000
DTEND;TZID=America/Los_Angeles:20250305T103000
DTSTAMP:20260424T090521
CREATED:20220228T230818Z
LAST-MODIFIED:20220228T230818Z
UID:6484-1741167000-1741170600@hfparish.com
SUMMARY:Confession
DESCRIPTION:Confessions are every Wednesday after Mass unless otherwise announced.
URL:https://hfparish.com/event/confession-2025-03-05/
END:VEVENT
BEGIN:VEVENT
DTSTART;TZID=America/Los_Angeles:20250306T080000
DTEND;TZID=America/Los_Angeles:20250306T090000
DTSTAMP:20260424T090521
CREATED:20201106T220137Z
LAST-MODIFIED:20201106T220137Z
UID:6485-1741248000-1741251600@hfparish.com
SUMMARY:Thursday Mass
DESCRIPTION:
URL:https://hfparish.com/event/thursday-mass-2-2025-03-06/
END:VEVENT
BEGIN:VEVENT
DTSTART;TZID=America/Los_Angeles:20250307T080000
DTEND;TZID=America/Los_Angeles:20250307T090000
DTSTAMP:20260424T090521
CREATED:20201106T220328Z
LAST-MODIFIED:20201106T220328Z
UID:6488-1741334400-1741338000@hfparish.com
SUMMARY:Friday Mass
DESCRIPTION:
URL:https://hfparish.com/event/friday-mass-2025-03-07/
END:VEVENT
BEGIN:VEVENT
DTSTART;TZID=America/Los_Angeles:20250308T150000
DTEND;TZID=America/Los_Angeles:20250308T153000
DTSTAMP:20260424T090521
CREATED:20220228T230620Z
LAST-MODIFIED:20220228T230620Z
UID:6489-1741446000-1741447800@hfparish.com
SUMMARY:Confessions
DESCRIPTION:Confessions are held every Saturday unless otherwise announced.
URL:https://hfparish.com/event/confessions-2-2025-03-08/
END:VEVENT
BEGIN:VEVENT
DTSTART;TZID=America/Los_Angeles:20250308T160000
DTEND;TZID=America/Los_Angeles:20250308T170000
DTSTAMP:20260424T090521
CREATED:20201106T220418Z
LAST-MODIFIED:20201106T220418Z
UID:6490-1741449600-1741453200@hfparish.com
SUMMARY:Saturday Mass
DESCRIPTION:
URL:https://hfparish.com/event/saturday-mass-2025-03-08/
END:VEVENT
BEGIN:VEVENT
DTSTART;TZID=America/Los_Angeles:20250309T090000
DTEND;TZID=America/Los_Angeles:20250309T100000
DTSTAMP:20260424T090521
CREATED:20201106T220522Z
LAST-MODIFIED:20201106T220522Z
UID:6491-1741510800-1741514400@hfparish.com
SUMMARY:Sunday Mass
DESCRIPTION:
URL:https://hfparish.com/event/sunday-mass-2025-03-09/
END:VEVENT
BEGIN:VEVENT
DTSTART;TZID=America/Los_Angeles:20250310T080000
DTEND;TZID=America/Los_Angeles:20250310T083000
DTSTAMP:20260424T090521
CREATED:20201106T215649Z
LAST-MODIFIED:20201106T215649Z
UID:6492-1741593600-1741595400@hfparish.com
SUMMARY:Monday Mass
DESCRIPTION:
URL:https://hfparish.com/event/monday-mass-2-2025-03-10/
END:VEVENT
BEGIN:VEVENT
DTSTART;TZID=America/Los_Angeles:20250310T084500
DTEND;TZID=America/Los_Angeles:20250310T100000
DTSTAMP:20260424T090521
CREATED:20220228T233517Z
LAST-MODIFIED:20220228T233517Z
UID:6493-1741596300-1741600800@hfparish.com
SUMMARY:Ladies Prayer Group
DESCRIPTION:
URL:https://hfparish.com/event/ladies-prayer-group-2-2025-03-10/
LOCATION:Holy Family Church Hall\, 1109 Chestnut St\, Clarkston\, WA\, 99403\, United States
END:VEVENT
BEGIN:VEVENT
DTSTART;TZID=America/Los_Angeles:20250312T093000
DTEND;TZID=America/Los_Angeles:20250312T103000
DTSTAMP:20260424T090521
CREATED:20220228T230818Z
LAST-MODIFIED:20220228T230818Z
UID:6495-1741771800-1741775400@hfparish.com
SUMMARY:Confession
DESCRIPTION:Confessions are every Wednesday after Mass unless otherwise announced.
URL:https://hfparish.com/event/confession-2025-03-12/
END:VEVENT
BEGIN:VEVENT
DTSTART;TZID=America/Los_Angeles:20250313T080000
DTEND;TZID=America/Los_Angeles:20250313T090000
DTSTAMP:20260424T090521
CREATED:20201106T220137Z
LAST-MODIFIED:20201106T220137Z
UID:6498-1741852800-1741856400@hfparish.com
SUMMARY:Thursday Mass
DESCRIPTION:
URL:https://hfparish.com/event/thursday-mass-2-2025-03-13/
END:VEVENT
BEGIN:VEVENT
DTSTART;TZID=America/Los_Angeles:20250314T080000
DTEND;TZID=America/Los_Angeles:20250314T090000
DTSTAMP:20260424T090521
CREATED:20201106T220328Z
LAST-MODIFIED:20201106T220328Z
UID:6499-1741939200-1741942800@hfparish.com
SUMMARY:Friday Mass
DESCRIPTION:
URL:https://hfparish.com/event/friday-mass-2025-03-14/
END:VEVENT
BEGIN:VEVENT
DTSTART;TZID=America/Los_Angeles:20250315T150000
DTEND;TZID=America/Los_Angeles:20250315T153000
DTSTAMP:20260424T090521
CREATED:20220228T230620Z
LAST-MODIFIED:20220228T230620Z
UID:6502-1742050800-1742052600@hfparish.com
SUMMARY:Confessions
DESCRIPTION:Confessions are held every Saturday unless otherwise announced.
URL:https://hfparish.com/event/confessions-2-2025-03-15/
END:VEVENT
BEGIN:VEVENT
DTSTART;TZID=America/Los_Angeles:20250315T160000
DTEND;TZID=America/Los_Angeles:20250315T170000
DTSTAMP:20260424T090521
CREATED:20201106T220418Z
LAST-MODIFIED:20201106T220418Z
UID:6503-1742054400-1742058000@hfparish.com
SUMMARY:Saturday Mass
DESCRIPTION:
URL:https://hfparish.com/event/saturday-mass-2025-03-15/
END:VEVENT
BEGIN:VEVENT
DTSTART;TZID=America/Los_Angeles:20250316T090000
DTEND;TZID=America/Los_Angeles:20250316T100000
DTSTAMP:20260424T090521
CREATED:20201106T220522Z
LAST-MODIFIED:20201106T220522Z
UID:6508-1742115600-1742119200@hfparish.com
SUMMARY:Sunday Mass
DESCRIPTION:
URL:https://hfparish.com/event/sunday-mass-2025-03-16/
END:VEVENT
BEGIN:VEVENT
DTSTART;TZID=America/Los_Angeles:20250317T080000
DTEND;TZID=America/Los_Angeles:20250317T083000
DTSTAMP:20260424T090521
CREATED:20201106T215649Z
LAST-MODIFIED:20201106T215649Z
UID:6509-1742198400-1742200200@hfparish.com
SUMMARY:Monday Mass
DESCRIPTION:
URL:https://hfparish.com/event/monday-mass-2-2025-03-17/
END:VEVENT
BEGIN:VEVENT
DTSTART;TZID=America/Los_Angeles:20250317T084500
DTEND;TZID=America/Los_Angeles:20250317T100000
DTSTAMP:20260424T090521
CREATED:20220228T233517Z
LAST-MODIFIED:20220228T233517Z
UID:6510-1742201100-1742205600@hfparish.com
SUMMARY:Ladies Prayer Group
DESCRIPTION:
URL:https://hfparish.com/event/ladies-prayer-group-2-2025-03-17/
LOCATION:Holy Family Church Hall\, 1109 Chestnut St\, Clarkston\, WA\, 99403\, United States
END:VEVENT
BEGIN:VEVENT
DTSTART;TZID=America/Los_Angeles:20250319T093000
DTEND;TZID=America/Los_Angeles:20250319T103000
DTSTAMP:20260424T090521
CREATED:20220228T230818Z
LAST-MODIFIED:20220228T230818Z
UID:6514-1742376600-1742380200@hfparish.com
SUMMARY:Confession
DESCRIPTION:Confessions are every Wednesday after Mass unless otherwise announced.
URL:https://hfparish.com/event/confession-2025-03-19/
END:VEVENT
BEGIN:VEVENT
DTSTART;TZID=America/Los_Angeles:20250320T080000
DTEND;TZID=America/Los_Angeles:20250320T090000
DTSTAMP:20260424T090521
CREATED:20201106T220137Z
LAST-MODIFIED:20201106T220137Z
UID:6517-1742457600-1742461200@hfparish.com
SUMMARY:Thursday Mass
DESCRIPTION:
URL:https://hfparish.com/event/thursday-mass-2-2025-03-20/
END:VEVENT
BEGIN:VEVENT
DTSTART;TZID=America/Los_Angeles:20250321T080000
DTEND;TZID=America/Los_Angeles:20250321T090000
DTSTAMP:20260424T090521
CREATED:20201106T220328Z
LAST-MODIFIED:20201106T220328Z
UID:6518-1742544000-1742547600@hfparish.com
SUMMARY:Friday Mass
DESCRIPTION:
URL:https://hfparish.com/event/friday-mass-2025-03-21/
END:VEVENT
BEGIN:VEVENT
DTSTART;TZID=America/Los_Angeles:20250322T150000
DTEND;TZID=America/Los_Angeles:20250322T153000
DTSTAMP:20260424T090521
CREATED:20220228T230620Z
LAST-MODIFIED:20220228T230620Z
UID:6522-1742655600-1742657400@hfparish.com
SUMMARY:Confessions
DESCRIPTION:Confessions are held every Saturday unless otherwise announced.
URL:https://hfparish.com/event/confessions-2-2025-03-22/
END:VEVENT
BEGIN:VEVENT
DTSTART;TZID=America/Los_Angeles:20250322T160000
DTEND;TZID=America/Los_Angeles:20250322T170000
DTSTAMP:20260424T090521
CREATED:20201106T220418Z
LAST-MODIFIED:20201106T220418Z
UID:6523-1742659200-1742662800@hfparish.com
SUMMARY:Saturday Mass
DESCRIPTION:
URL:https://hfparish.com/event/saturday-mass-2025-03-22/
END:VEVENT
BEGIN:VEVENT
DTSTART;TZID=America/Los_Angeles:20250323T090000
DTEND;TZID=America/Los_Angeles:20250323T100000
DTSTAMP:20260424T090521
CREATED:20201106T220522Z
LAST-MODIFIED:20201106T220522Z
UID:6528-1742720400-1742724000@hfparish.com
SUMMARY:Sunday Mass
DESCRIPTION:
URL:https://hfparish.com/event/sunday-mass-2025-03-23/
END:VEVENT
BEGIN:VEVENT
DTSTART;TZID=America/Los_Angeles:20250324T080000
DTEND;TZID=America/Los_Angeles:20250324T083000
DTSTAMP:20260424T090521
CREATED:20201106T215649Z
LAST-MODIFIED:20201106T215649Z
UID:6529-1742803200-1742805000@hfparish.com
SUMMARY:Monday Mass
DESCRIPTION:
URL:https://hfparish.com/event/monday-mass-2-2025-03-24/
END:VEVENT
BEGIN:VEVENT
DTSTART;TZID=America/Los_Angeles:20250324T084500
DTEND;TZID=America/Los_Angeles:20250324T100000
DTSTAMP:20260424T090521
CREATED:20220228T233517Z
LAST-MODIFIED:20220228T233517Z
UID:6530-1742805900-1742810400@hfparish.com
SUMMARY:Ladies Prayer Group
DESCRIPTION:
URL:https://hfparish.com/event/ladies-prayer-group-2-2025-03-24/
LOCATION:Holy Family Church Hall\, 1109 Chestnut St\, Clarkston\, WA\, 99403\, United States
END:VEVENT
BEGIN:VEVENT
DTSTART;TZID=America/Los_Angeles:20250326T093000
DTEND;TZID=America/Los_Angeles:20250326T103000
DTSTAMP:20260424T090521
CREATED:20220228T230818Z
LAST-MODIFIED:20220228T230818Z
UID:6533-1742981400-1742985000@hfparish.com
SUMMARY:Confession
DESCRIPTION:Confessions are every Wednesday after Mass unless otherwise announced.
URL:https://hfparish.com/event/confession-2025-03-26/
END:VEVENT
END:VCALENDAR