BEGIN:VCALENDAR
VERSION:2.0
PRODID:-//Holy Family Catholic Church - ECPv6.15.20//NONSGML v1.0//EN
CALSCALE:GREGORIAN
METHOD:PUBLISH
X-WR-CALNAME:Holy Family Catholic Church
X-ORIGINAL-URL:https://hfparish.com
X-WR-CALDESC:Events for Holy Family Catholic Church
REFRESH-INTERVAL;VALUE=DURATION:PT1H
X-Robots-Tag:noindex
X-PUBLISHED-TTL:PT1H
BEGIN:VTIMEZONE
TZID:America/Los_Angeles
BEGIN:DAYLIGHT
TZOFFSETFROM:-0800
TZOFFSETTO:-0700
TZNAME:PDT
DTSTART:20240310T100000
END:DAYLIGHT
BEGIN:STANDARD
TZOFFSETFROM:-0700
TZOFFSETTO:-0800
TZNAME:PST
DTSTART:20241103T090000
END:STANDARD
BEGIN:DAYLIGHT
TZOFFSETFROM:-0800
TZOFFSETTO:-0700
TZNAME:PDT
DTSTART:20250309T100000
END:DAYLIGHT
BEGIN:STANDARD
TZOFFSETFROM:-0700
TZOFFSETTO:-0800
TZNAME:PST
DTSTART:20251102T090000
END:STANDARD
BEGIN:DAYLIGHT
TZOFFSETFROM:-0800
TZOFFSETTO:-0700
TZNAME:PDT
DTSTART:20260308T100000
END:DAYLIGHT
BEGIN:STANDARD
TZOFFSETFROM:-0700
TZOFFSETTO:-0800
TZNAME:PST
DTSTART:20261101T090000
END:STANDARD
END:VTIMEZONE
BEGIN:VEVENT
DTSTART;TZID=America/Los_Angeles:20250402T093000
DTEND;TZID=America/Los_Angeles:20250402T103000
DTSTAMP:20260424T070812
CREATED:20220228T230818Z
LAST-MODIFIED:20220228T230818Z
UID:6554-1743586200-1743589800@hfparish.com
SUMMARY:Confession
DESCRIPTION:Confessions are every Wednesday after Mass unless otherwise announced.
URL:https://hfparish.com/event/confession-2025-04-02/
END:VEVENT
BEGIN:VEVENT
DTSTART;TZID=America/Los_Angeles:20250403T080000
DTEND;TZID=America/Los_Angeles:20250403T090000
DTSTAMP:20260424T070812
CREATED:20201106T220137Z
LAST-MODIFIED:20201106T220137Z
UID:6555-1743667200-1743670800@hfparish.com
SUMMARY:Thursday Mass
DESCRIPTION:
URL:https://hfparish.com/event/thursday-mass-2-2025-04-03/
END:VEVENT
BEGIN:VEVENT
DTSTART;TZID=America/Los_Angeles:20250404T080000
DTEND;TZID=America/Los_Angeles:20250404T090000
DTSTAMP:20260424T070812
CREATED:20201106T220328Z
LAST-MODIFIED:20201106T220328Z
UID:6556-1743753600-1743757200@hfparish.com
SUMMARY:Friday Mass
DESCRIPTION:
URL:https://hfparish.com/event/friday-mass-2025-04-04/
END:VEVENT
BEGIN:VEVENT
DTSTART;TZID=America/Los_Angeles:20250405T150000
DTEND;TZID=America/Los_Angeles:20250405T153000
DTSTAMP:20260424T070812
CREATED:20220228T230620Z
LAST-MODIFIED:20220228T230620Z
UID:6557-1743865200-1743867000@hfparish.com
SUMMARY:Confessions
DESCRIPTION:Confessions are held every Saturday unless otherwise announced.
URL:https://hfparish.com/event/confessions-2-2025-04-05/
END:VEVENT
BEGIN:VEVENT
DTSTART;TZID=America/Los_Angeles:20250405T160000
DTEND;TZID=America/Los_Angeles:20250405T170000
DTSTAMP:20260424T070812
CREATED:20201106T220418Z
LAST-MODIFIED:20201106T220418Z
UID:6558-1743868800-1743872400@hfparish.com
SUMMARY:Saturday Mass
DESCRIPTION:
URL:https://hfparish.com/event/saturday-mass-2025-04-05/
END:VEVENT
BEGIN:VEVENT
DTSTART;TZID=America/Los_Angeles:20250406T090000
DTEND;TZID=America/Los_Angeles:20250406T100000
DTSTAMP:20260424T070812
CREATED:20201106T220522Z
LAST-MODIFIED:20201106T220522Z
UID:6564-1743930000-1743933600@hfparish.com
SUMMARY:Sunday Mass
DESCRIPTION:
URL:https://hfparish.com/event/sunday-mass-2025-04-06/
END:VEVENT
BEGIN:VEVENT
DTSTART;TZID=America/Los_Angeles:20250407T080000
DTEND;TZID=America/Los_Angeles:20250407T083000
DTSTAMP:20260424T070812
CREATED:20201106T215649Z
LAST-MODIFIED:20201106T215649Z
UID:6565-1744012800-1744014600@hfparish.com
SUMMARY:Monday Mass
DESCRIPTION:
URL:https://hfparish.com/event/monday-mass-2-2025-04-07/
END:VEVENT
BEGIN:VEVENT
DTSTART;TZID=America/Los_Angeles:20250407T084500
DTEND;TZID=America/Los_Angeles:20250407T100000
DTSTAMP:20260424T070812
CREATED:20220228T233517Z
LAST-MODIFIED:20220228T233517Z
UID:6566-1744015500-1744020000@hfparish.com
SUMMARY:Ladies Prayer Group
DESCRIPTION:
URL:https://hfparish.com/event/ladies-prayer-group-2-2025-04-07/
LOCATION:Holy Family Church Hall\, 1109 Chestnut St\, Clarkston\, WA\, 99403\, United States
END:VEVENT
BEGIN:VEVENT
DTSTART;TZID=America/Los_Angeles:20250409T093000
DTEND;TZID=America/Los_Angeles:20250409T103000
DTSTAMP:20260424T070812
CREATED:20220228T230818Z
LAST-MODIFIED:20220228T230818Z
UID:6570-1744191000-1744194600@hfparish.com
SUMMARY:Confession
DESCRIPTION:Confessions are every Wednesday after Mass unless otherwise announced.
URL:https://hfparish.com/event/confession-2025-04-09/
END:VEVENT
BEGIN:VEVENT
DTSTART;TZID=America/Los_Angeles:20250410T080000
DTEND;TZID=America/Los_Angeles:20250410T090000
DTSTAMP:20260424T070812
CREATED:20201106T220137Z
LAST-MODIFIED:20201106T220137Z
UID:6574-1744272000-1744275600@hfparish.com
SUMMARY:Thursday Mass
DESCRIPTION:
URL:https://hfparish.com/event/thursday-mass-2-2025-04-10/
END:VEVENT
BEGIN:VEVENT
DTSTART;TZID=America/Los_Angeles:20250411T080000
DTEND;TZID=America/Los_Angeles:20250411T090000
DTSTAMP:20260424T070812
CREATED:20201106T220328Z
LAST-MODIFIED:20201106T220328Z
UID:6576-1744358400-1744362000@hfparish.com
SUMMARY:Friday Mass
DESCRIPTION:
URL:https://hfparish.com/event/friday-mass-2025-04-11/
END:VEVENT
BEGIN:VEVENT
DTSTART;TZID=America/Los_Angeles:20250412T150000
DTEND;TZID=America/Los_Angeles:20250412T153000
DTSTAMP:20260424T070812
CREATED:20220228T230620Z
LAST-MODIFIED:20220228T230620Z
UID:6578-1744470000-1744471800@hfparish.com
SUMMARY:Confessions
DESCRIPTION:Confessions are held every Saturday unless otherwise announced.
URL:https://hfparish.com/event/confessions-2-2025-04-12/
END:VEVENT
BEGIN:VEVENT
DTSTART;TZID=America/Los_Angeles:20250412T160000
DTEND;TZID=America/Los_Angeles:20250412T170000
DTSTAMP:20260424T070812
CREATED:20201106T220418Z
LAST-MODIFIED:20201106T220418Z
UID:6579-1744473600-1744477200@hfparish.com
SUMMARY:Saturday Mass
DESCRIPTION:
URL:https://hfparish.com/event/saturday-mass-2025-04-12/
END:VEVENT
BEGIN:VEVENT
DTSTART;TZID=America/Los_Angeles:20250413T090000
DTEND;TZID=America/Los_Angeles:20250413T100000
DTSTAMP:20260424T070812
CREATED:20201106T220522Z
LAST-MODIFIED:20201106T220522Z
UID:6583-1744534800-1744538400@hfparish.com
SUMMARY:Sunday Mass
DESCRIPTION:
URL:https://hfparish.com/event/sunday-mass-2025-04-13/
END:VEVENT
BEGIN:VEVENT
DTSTART;TZID=America/Los_Angeles:20250414T080000
DTEND;TZID=America/Los_Angeles:20250414T083000
DTSTAMP:20260424T070812
CREATED:20201106T215649Z
LAST-MODIFIED:20201106T215649Z
UID:6584-1744617600-1744619400@hfparish.com
SUMMARY:Monday Mass
DESCRIPTION:
URL:https://hfparish.com/event/monday-mass-2-2025-04-14/
END:VEVENT
BEGIN:VEVENT
DTSTART;TZID=America/Los_Angeles:20250414T084500
DTEND;TZID=America/Los_Angeles:20250414T100000
DTSTAMP:20260424T070812
CREATED:20220228T233517Z
LAST-MODIFIED:20220228T233517Z
UID:6585-1744620300-1744624800@hfparish.com
SUMMARY:Ladies Prayer Group
DESCRIPTION:
URL:https://hfparish.com/event/ladies-prayer-group-2-2025-04-14/
LOCATION:Holy Family Church Hall\, 1109 Chestnut St\, Clarkston\, WA\, 99403\, United States
END:VEVENT
BEGIN:VEVENT
DTSTART;TZID=America/Los_Angeles:20250416T093000
DTEND;TZID=America/Los_Angeles:20250416T103000
DTSTAMP:20260424T070812
CREATED:20220228T230818Z
LAST-MODIFIED:20220228T230818Z
UID:6586-1744795800-1744799400@hfparish.com
SUMMARY:Confession
DESCRIPTION:Confessions are every Wednesday after Mass unless otherwise announced.
URL:https://hfparish.com/event/confession-2025-04-16/
END:VEVENT
BEGIN:VEVENT
DTSTART;TZID=America/Los_Angeles:20250417T080000
DTEND;TZID=America/Los_Angeles:20250417T090000
DTSTAMP:20260424T070812
CREATED:20201106T220137Z
LAST-MODIFIED:20201106T220137Z
UID:6587-1744876800-1744880400@hfparish.com
SUMMARY:Thursday Mass
DESCRIPTION:
URL:https://hfparish.com/event/thursday-mass-2-2025-04-17/
END:VEVENT
BEGIN:VEVENT
DTSTART;TZID=America/Los_Angeles:20250418T080000
DTEND;TZID=America/Los_Angeles:20250418T090000
DTSTAMP:20260424T070812
CREATED:20201106T220328Z
LAST-MODIFIED:20201106T220328Z
UID:6588-1744963200-1744966800@hfparish.com
SUMMARY:Friday Mass
DESCRIPTION:
URL:https://hfparish.com/event/friday-mass-2025-04-18/
END:VEVENT
BEGIN:VEVENT
DTSTART;TZID=America/Los_Angeles:20250419T150000
DTEND;TZID=America/Los_Angeles:20250419T153000
DTSTAMP:20260424T070812
CREATED:20220228T230620Z
LAST-MODIFIED:20220228T230620Z
UID:6591-1745074800-1745076600@hfparish.com
SUMMARY:Confessions
DESCRIPTION:Confessions are held every Saturday unless otherwise announced.
URL:https://hfparish.com/event/confessions-2-2025-04-19/
END:VEVENT
BEGIN:VEVENT
DTSTART;TZID=America/Los_Angeles:20250419T160000
DTEND;TZID=America/Los_Angeles:20250419T170000
DTSTAMP:20260424T070812
CREATED:20201106T220418Z
LAST-MODIFIED:20201106T220418Z
UID:6592-1745078400-1745082000@hfparish.com
SUMMARY:Saturday Mass
DESCRIPTION:
URL:https://hfparish.com/event/saturday-mass-2025-04-19/
END:VEVENT
BEGIN:VEVENT
DTSTART;TZID=America/Los_Angeles:20250420T090000
DTEND;TZID=America/Los_Angeles:20250420T100000
DTSTAMP:20260424T070812
CREATED:20201106T220522Z
LAST-MODIFIED:20201106T220522Z
UID:6593-1745139600-1745143200@hfparish.com
SUMMARY:Sunday Mass
DESCRIPTION:
URL:https://hfparish.com/event/sunday-mass-2025-04-20/
END:VEVENT
BEGIN:VEVENT
DTSTART;TZID=America/Los_Angeles:20250421T080000
DTEND;TZID=America/Los_Angeles:20250421T083000
DTSTAMP:20260424T070812
CREATED:20201106T215649Z
LAST-MODIFIED:20201106T215649Z
UID:6600-1745222400-1745224200@hfparish.com
SUMMARY:Monday Mass
DESCRIPTION:
URL:https://hfparish.com/event/monday-mass-2-2025-04-21/
END:VEVENT
BEGIN:VEVENT
DTSTART;TZID=America/Los_Angeles:20250421T084500
DTEND;TZID=America/Los_Angeles:20250421T100000
DTSTAMP:20260424T070812
CREATED:20220228T233517Z
LAST-MODIFIED:20220228T233517Z
UID:6601-1745225100-1745229600@hfparish.com
SUMMARY:Ladies Prayer Group
DESCRIPTION:
URL:https://hfparish.com/event/ladies-prayer-group-2-2025-04-21/
LOCATION:Holy Family Church Hall\, 1109 Chestnut St\, Clarkston\, WA\, 99403\, United States
END:VEVENT
BEGIN:VEVENT
DTSTART;TZID=America/Los_Angeles:20250423T093000
DTEND;TZID=America/Los_Angeles:20250423T103000
DTSTAMP:20260424T070812
CREATED:20220228T230818Z
LAST-MODIFIED:20220228T230818Z
UID:6603-1745400600-1745404200@hfparish.com
SUMMARY:Confession
DESCRIPTION:Confessions are every Wednesday after Mass unless otherwise announced.
URL:https://hfparish.com/event/confession-2025-04-23/
END:VEVENT
BEGIN:VEVENT
DTSTART;TZID=America/Los_Angeles:20250424T080000
DTEND;TZID=America/Los_Angeles:20250424T090000
DTSTAMP:20260424T070812
CREATED:20201106T220137Z
LAST-MODIFIED:20201106T220137Z
UID:6604-1745481600-1745485200@hfparish.com
SUMMARY:Thursday Mass
DESCRIPTION:
URL:https://hfparish.com/event/thursday-mass-2-2025-04-24/
END:VEVENT
BEGIN:VEVENT
DTSTART;TZID=America/Los_Angeles:20250425T080000
DTEND;TZID=America/Los_Angeles:20250425T090000
DTSTAMP:20260424T070812
CREATED:20201106T220328Z
LAST-MODIFIED:20201106T220328Z
UID:6606-1745568000-1745571600@hfparish.com
SUMMARY:Friday Mass
DESCRIPTION:
URL:https://hfparish.com/event/friday-mass-2025-04-25/
END:VEVENT
BEGIN:VEVENT
DTSTART;TZID=America/Los_Angeles:20250426T150000
DTEND;TZID=America/Los_Angeles:20250426T153000
DTSTAMP:20260424T070812
CREATED:20220228T230620Z
LAST-MODIFIED:20220228T230620Z
UID:6608-1745679600-1745681400@hfparish.com
SUMMARY:Confessions
DESCRIPTION:Confessions are held every Saturday unless otherwise announced.
URL:https://hfparish.com/event/confessions-2-2025-04-26/
END:VEVENT
BEGIN:VEVENT
DTSTART;TZID=America/Los_Angeles:20250426T160000
DTEND;TZID=America/Los_Angeles:20250426T170000
DTSTAMP:20260424T070812
CREATED:20201106T220418Z
LAST-MODIFIED:20201106T220418Z
UID:6609-1745683200-1745686800@hfparish.com
SUMMARY:Saturday Mass
DESCRIPTION:
URL:https://hfparish.com/event/saturday-mass-2025-04-26/
END:VEVENT
BEGIN:VEVENT
DTSTART;TZID=America/Los_Angeles:20250427T090000
DTEND;TZID=America/Los_Angeles:20250427T100000
DTSTAMP:20260424T070812
CREATED:20201106T220522Z
LAST-MODIFIED:20201106T220522Z
UID:6617-1745744400-1745748000@hfparish.com
SUMMARY:Sunday Mass
DESCRIPTION:
URL:https://hfparish.com/event/sunday-mass-2025-04-27/
END:VEVENT
END:VCALENDAR