BEGIN:VCALENDAR
VERSION:2.0
PRODID:-//Holy Family Catholic Church - ECPv6.15.20//NONSGML v1.0//EN
CALSCALE:GREGORIAN
METHOD:PUBLISH
X-ORIGINAL-URL:https://hfparish.com
X-WR-CALDESC:Events for Holy Family Catholic Church
REFRESH-INTERVAL;VALUE=DURATION:PT1H
X-Robots-Tag:noindex
X-PUBLISHED-TTL:PT1H
BEGIN:VTIMEZONE
TZID:America/Los_Angeles
BEGIN:DAYLIGHT
TZOFFSETFROM:-0800
TZOFFSETTO:-0700
TZNAME:PDT
DTSTART:20240310T100000
END:DAYLIGHT
BEGIN:STANDARD
TZOFFSETFROM:-0700
TZOFFSETTO:-0800
TZNAME:PST
DTSTART:20241103T090000
END:STANDARD
BEGIN:DAYLIGHT
TZOFFSETFROM:-0800
TZOFFSETTO:-0700
TZNAME:PDT
DTSTART:20250309T100000
END:DAYLIGHT
BEGIN:STANDARD
TZOFFSETFROM:-0700
TZOFFSETTO:-0800
TZNAME:PST
DTSTART:20251102T090000
END:STANDARD
BEGIN:DAYLIGHT
TZOFFSETFROM:-0800
TZOFFSETTO:-0700
TZNAME:PDT
DTSTART:20260308T100000
END:DAYLIGHT
BEGIN:STANDARD
TZOFFSETFROM:-0700
TZOFFSETTO:-0800
TZNAME:PST
DTSTART:20261101T090000
END:STANDARD
END:VTIMEZONE
BEGIN:VEVENT
DTSTART;TZID=America/Los_Angeles:20250601T090000
DTEND;TZID=America/Los_Angeles:20250601T100000
DTSTAMP:20260424T025743
CREATED:20201106T220522Z
LAST-MODIFIED:20201106T220522Z
UID:6710-1748768400-1748772000@hfparish.com
SUMMARY:Sunday Mass
DESCRIPTION:
URL:https://hfparish.com/event/sunday-mass-2025-06-01/
END:VEVENT
BEGIN:VEVENT
DTSTART;TZID=America/Los_Angeles:20250602T080000
DTEND;TZID=America/Los_Angeles:20250602T083000
DTSTAMP:20260424T025743
CREATED:20201106T215649Z
LAST-MODIFIED:20201106T215649Z
UID:6711-1748851200-1748853000@hfparish.com
SUMMARY:Monday Mass
DESCRIPTION:
URL:https://hfparish.com/event/monday-mass-2-2025-06-02/
END:VEVENT
BEGIN:VEVENT
DTSTART;TZID=America/Los_Angeles:20250602T084500
DTEND;TZID=America/Los_Angeles:20250602T100000
DTSTAMP:20260424T025743
CREATED:20220228T233517Z
LAST-MODIFIED:20220228T233517Z
UID:6712-1748853900-1748858400@hfparish.com
SUMMARY:Ladies Prayer Group
DESCRIPTION:
URL:https://hfparish.com/event/ladies-prayer-group-2-2025-06-02/
LOCATION:Holy Family Church Hall\, 1109 Chestnut St\, Clarkston\, WA\, 99403\, United States
END:VEVENT
BEGIN:VEVENT
DTSTART;TZID=America/Los_Angeles:20250604T093000
DTEND;TZID=America/Los_Angeles:20250604T103000
DTSTAMP:20260424T025743
CREATED:20220228T230818Z
LAST-MODIFIED:20220228T230818Z
UID:6713-1749029400-1749033000@hfparish.com
SUMMARY:Confession
DESCRIPTION:Confessions are every Wednesday after Mass unless otherwise announced.
URL:https://hfparish.com/event/confession-2025-06-04/
END:VEVENT
BEGIN:VEVENT
DTSTART;TZID=America/Los_Angeles:20250605T080000
DTEND;TZID=America/Los_Angeles:20250605T090000
DTSTAMP:20260424T025743
CREATED:20201106T220137Z
LAST-MODIFIED:20201106T220137Z
UID:6714-1749110400-1749114000@hfparish.com
SUMMARY:Thursday Mass
DESCRIPTION:
URL:https://hfparish.com/event/thursday-mass-2-2025-06-05/
END:VEVENT
BEGIN:VEVENT
DTSTART;TZID=America/Los_Angeles:20250606T080000
DTEND;TZID=America/Los_Angeles:20250606T090000
DTSTAMP:20260424T025743
CREATED:20201106T220328Z
LAST-MODIFIED:20201106T220328Z
UID:6715-1749196800-1749200400@hfparish.com
SUMMARY:Friday Mass
DESCRIPTION:
URL:https://hfparish.com/event/friday-mass-2025-06-06/
END:VEVENT
BEGIN:VEVENT
DTSTART;TZID=America/Los_Angeles:20250607T150000
DTEND;TZID=America/Los_Angeles:20250607T153000
DTSTAMP:20260424T025743
CREATED:20220228T230620Z
LAST-MODIFIED:20220228T230620Z
UID:6732-1749308400-1749310200@hfparish.com
SUMMARY:Confessions
DESCRIPTION:Confessions are held every Saturday unless otherwise announced.
URL:https://hfparish.com/event/confessions-2-2025-06-07/
END:VEVENT
BEGIN:VEVENT
DTSTART;TZID=America/Los_Angeles:20250607T160000
DTEND;TZID=America/Los_Angeles:20250607T170000
DTSTAMP:20260424T025743
CREATED:20201106T220418Z
LAST-MODIFIED:20201106T220418Z
UID:6733-1749312000-1749315600@hfparish.com
SUMMARY:Saturday Mass
DESCRIPTION:
URL:https://hfparish.com/event/saturday-mass-2025-06-07/
END:VEVENT
BEGIN:VEVENT
DTSTART;TZID=America/Los_Angeles:20250608T090000
DTEND;TZID=America/Los_Angeles:20250608T100000
DTSTAMP:20260424T025743
CREATED:20201106T220522Z
LAST-MODIFIED:20201106T220522Z
UID:6736-1749373200-1749376800@hfparish.com
SUMMARY:Sunday Mass
DESCRIPTION:
URL:https://hfparish.com/event/sunday-mass-2025-06-08/
END:VEVENT
BEGIN:VEVENT
DTSTART;TZID=America/Los_Angeles:20250609T080000
DTEND;TZID=America/Los_Angeles:20250609T083000
DTSTAMP:20260424T025743
CREATED:20201106T215649Z
LAST-MODIFIED:20201106T215649Z
UID:6739-1749456000-1749457800@hfparish.com
SUMMARY:Monday Mass
DESCRIPTION:
URL:https://hfparish.com/event/monday-mass-2-2025-06-09/
END:VEVENT
BEGIN:VEVENT
DTSTART;TZID=America/Los_Angeles:20250609T084500
DTEND;TZID=America/Los_Angeles:20250609T100000
DTSTAMP:20260424T025743
CREATED:20220228T233517Z
LAST-MODIFIED:20220228T233517Z
UID:6740-1749458700-1749463200@hfparish.com
SUMMARY:Ladies Prayer Group
DESCRIPTION:
URL:https://hfparish.com/event/ladies-prayer-group-2-2025-06-09/
LOCATION:Holy Family Church Hall\, 1109 Chestnut St\, Clarkston\, WA\, 99403\, United States
END:VEVENT
BEGIN:VEVENT
DTSTART;TZID=America/Los_Angeles:20250611T093000
DTEND;TZID=America/Los_Angeles:20250611T103000
DTSTAMP:20260424T025743
CREATED:20220228T230818Z
LAST-MODIFIED:20220228T230818Z
UID:6741-1749634200-1749637800@hfparish.com
SUMMARY:Confession
DESCRIPTION:Confessions are every Wednesday after Mass unless otherwise announced.
URL:https://hfparish.com/event/confession-2025-06-11/
END:VEVENT
BEGIN:VEVENT
DTSTART;TZID=America/Los_Angeles:20250612T080000
DTEND;TZID=America/Los_Angeles:20250612T090000
DTSTAMP:20260424T025743
CREATED:20201106T220137Z
LAST-MODIFIED:20201106T220137Z
UID:6743-1749715200-1749718800@hfparish.com
SUMMARY:Thursday Mass
DESCRIPTION:
URL:https://hfparish.com/event/thursday-mass-2-2025-06-12/
END:VEVENT
BEGIN:VEVENT
DTSTART;TZID=America/Los_Angeles:20250613T080000
DTEND;TZID=America/Los_Angeles:20250613T090000
DTSTAMP:20260424T025743
CREATED:20201106T220328Z
LAST-MODIFIED:20201106T220328Z
UID:6747-1749801600-1749805200@hfparish.com
SUMMARY:Friday Mass
DESCRIPTION:
URL:https://hfparish.com/event/friday-mass-2025-06-13/
END:VEVENT
BEGIN:VEVENT
DTSTART;TZID=America/Los_Angeles:20250614T150000
DTEND;TZID=America/Los_Angeles:20250614T153000
DTSTAMP:20260424T025743
CREATED:20220228T230620Z
LAST-MODIFIED:20220228T230620Z
UID:6753-1749913200-1749915000@hfparish.com
SUMMARY:Confessions
DESCRIPTION:Confessions are held every Saturday unless otherwise announced.
URL:https://hfparish.com/event/confessions-2-2025-06-14/
END:VEVENT
BEGIN:VEVENT
DTSTART;TZID=America/Los_Angeles:20250614T160000
DTEND;TZID=America/Los_Angeles:20250614T170000
DTSTAMP:20260424T025743
CREATED:20201106T220418Z
LAST-MODIFIED:20201106T220418Z
UID:6754-1749916800-1749920400@hfparish.com
SUMMARY:Saturday Mass
DESCRIPTION:
URL:https://hfparish.com/event/saturday-mass-2025-06-14/
END:VEVENT
BEGIN:VEVENT
DTSTART;TZID=America/Los_Angeles:20250615T090000
DTEND;TZID=America/Los_Angeles:20250615T100000
DTSTAMP:20260424T025743
CREATED:20201106T220522Z
LAST-MODIFIED:20201106T220522Z
UID:6756-1749978000-1749981600@hfparish.com
SUMMARY:Sunday Mass
DESCRIPTION:
URL:https://hfparish.com/event/sunday-mass-2025-06-15/
END:VEVENT
BEGIN:VEVENT
DTSTART;TZID=America/Los_Angeles:20250616T080000
DTEND;TZID=America/Los_Angeles:20250616T083000
DTSTAMP:20260424T025743
CREATED:20201106T215649Z
LAST-MODIFIED:20201106T215649Z
UID:6757-1750060800-1750062600@hfparish.com
SUMMARY:Monday Mass
DESCRIPTION:
URL:https://hfparish.com/event/monday-mass-2-2025-06-16/
END:VEVENT
BEGIN:VEVENT
DTSTART;TZID=America/Los_Angeles:20250616T084500
DTEND;TZID=America/Los_Angeles:20250616T100000
DTSTAMP:20260424T025743
CREATED:20220228T233517Z
LAST-MODIFIED:20220228T233517Z
UID:6758-1750063500-1750068000@hfparish.com
SUMMARY:Ladies Prayer Group
DESCRIPTION:
URL:https://hfparish.com/event/ladies-prayer-group-2-2025-06-16/
LOCATION:Holy Family Church Hall\, 1109 Chestnut St\, Clarkston\, WA\, 99403\, United States
END:VEVENT
BEGIN:VEVENT
DTSTART;TZID=America/Los_Angeles:20250618T093000
DTEND;TZID=America/Los_Angeles:20250618T103000
DTSTAMP:20260424T025743
CREATED:20220228T230818Z
LAST-MODIFIED:20220228T230818Z
UID:6761-1750239000-1750242600@hfparish.com
SUMMARY:Confession
DESCRIPTION:Confessions are every Wednesday after Mass unless otherwise announced.
URL:https://hfparish.com/event/confession-2025-06-18/
END:VEVENT
BEGIN:VEVENT
DTSTART;TZID=America/Los_Angeles:20250619T080000
DTEND;TZID=America/Los_Angeles:20250619T090000
DTSTAMP:20260424T025743
CREATED:20201106T220137Z
LAST-MODIFIED:20201106T220137Z
UID:6762-1750320000-1750323600@hfparish.com
SUMMARY:Thursday Mass
DESCRIPTION:
URL:https://hfparish.com/event/thursday-mass-2-2025-06-19/
END:VEVENT
BEGIN:VEVENT
DTSTART;TZID=America/Los_Angeles:20250620T080000
DTEND;TZID=America/Los_Angeles:20250620T090000
DTSTAMP:20260424T025743
CREATED:20201106T220328Z
LAST-MODIFIED:20201106T220328Z
UID:6765-1750406400-1750410000@hfparish.com
SUMMARY:Friday Mass
DESCRIPTION:
URL:https://hfparish.com/event/friday-mass-2025-06-20/
END:VEVENT
BEGIN:VEVENT
DTSTART;TZID=America/Los_Angeles:20250621T150000
DTEND;TZID=America/Los_Angeles:20250621T153000
DTSTAMP:20260424T025743
CREATED:20220228T230620Z
LAST-MODIFIED:20220228T230620Z
UID:6766-1750518000-1750519800@hfparish.com
SUMMARY:Confessions
DESCRIPTION:Confessions are held every Saturday unless otherwise announced.
URL:https://hfparish.com/event/confessions-2-2025-06-21/
END:VEVENT
BEGIN:VEVENT
DTSTART;TZID=America/Los_Angeles:20250621T160000
DTEND;TZID=America/Los_Angeles:20250621T170000
DTSTAMP:20260424T025743
CREATED:20201106T220418Z
LAST-MODIFIED:20201106T220418Z
UID:6767-1750521600-1750525200@hfparish.com
SUMMARY:Saturday Mass
DESCRIPTION:
URL:https://hfparish.com/event/saturday-mass-2025-06-21/
END:VEVENT
BEGIN:VEVENT
DTSTART;TZID=America/Los_Angeles:20250622T090000
DTEND;TZID=America/Los_Angeles:20250622T100000
DTSTAMP:20260424T025743
CREATED:20201106T220522Z
LAST-MODIFIED:20201106T220522Z
UID:6770-1750582800-1750586400@hfparish.com
SUMMARY:Sunday Mass
DESCRIPTION:
URL:https://hfparish.com/event/sunday-mass-2025-06-22/
END:VEVENT
BEGIN:VEVENT
DTSTART;TZID=America/Los_Angeles:20250623T080000
DTEND;TZID=America/Los_Angeles:20250623T083000
DTSTAMP:20260424T025743
CREATED:20201106T215649Z
LAST-MODIFIED:20201106T215649Z
UID:6772-1750665600-1750667400@hfparish.com
SUMMARY:Monday Mass
DESCRIPTION:
URL:https://hfparish.com/event/monday-mass-2-2025-06-23/
END:VEVENT
BEGIN:VEVENT
DTSTART;TZID=America/Los_Angeles:20250623T084500
DTEND;TZID=America/Los_Angeles:20250623T100000
DTSTAMP:20260424T025743
CREATED:20220228T233517Z
LAST-MODIFIED:20220228T233517Z
UID:6773-1750668300-1750672800@hfparish.com
SUMMARY:Ladies Prayer Group
DESCRIPTION:
URL:https://hfparish.com/event/ladies-prayer-group-2-2025-06-23/
LOCATION:Holy Family Church Hall\, 1109 Chestnut St\, Clarkston\, WA\, 99403\, United States
END:VEVENT
BEGIN:VEVENT
DTSTART;TZID=America/Los_Angeles:20250625T093000
DTEND;TZID=America/Los_Angeles:20250625T103000
DTSTAMP:20260424T025743
CREATED:20220228T230818Z
LAST-MODIFIED:20220228T230818Z
UID:6776-1750843800-1750847400@hfparish.com
SUMMARY:Confession
DESCRIPTION:Confessions are every Wednesday after Mass unless otherwise announced.
URL:https://hfparish.com/event/confession-2025-06-25/
END:VEVENT
BEGIN:VEVENT
DTSTART;TZID=America/Los_Angeles:20250626T080000
DTEND;TZID=America/Los_Angeles:20250626T090000
DTSTAMP:20260424T025743
CREATED:20201106T220137Z
LAST-MODIFIED:20201106T220137Z
UID:6779-1750924800-1750928400@hfparish.com
SUMMARY:Thursday Mass
DESCRIPTION:
URL:https://hfparish.com/event/thursday-mass-2-2025-06-26/
END:VEVENT
BEGIN:VEVENT
DTSTART;TZID=America/Los_Angeles:20250627T080000
DTEND;TZID=America/Los_Angeles:20250627T090000
DTSTAMP:20260424T025743
CREATED:20201106T220328Z
LAST-MODIFIED:20201106T220328Z
UID:6781-1751011200-1751014800@hfparish.com
SUMMARY:Friday Mass
DESCRIPTION:
URL:https://hfparish.com/event/friday-mass-2025-06-27/
END:VEVENT
END:VCALENDAR