BEGIN:VCALENDAR
VERSION:2.0
PRODID:-//Holy Family Catholic Church - ECPv6.15.20//NONSGML v1.0//EN
CALSCALE:GREGORIAN
METHOD:PUBLISH
X-ORIGINAL-URL:https://hfparish.com
X-WR-CALDESC:Events for Holy Family Catholic Church
REFRESH-INTERVAL;VALUE=DURATION:PT1H
X-Robots-Tag:noindex
X-PUBLISHED-TTL:PT1H
BEGIN:VTIMEZONE
TZID:America/Los_Angeles
BEGIN:DAYLIGHT
TZOFFSETFROM:-0800
TZOFFSETTO:-0700
TZNAME:PDT
DTSTART:20240310T100000
END:DAYLIGHT
BEGIN:STANDARD
TZOFFSETFROM:-0700
TZOFFSETTO:-0800
TZNAME:PST
DTSTART:20241103T090000
END:STANDARD
BEGIN:DAYLIGHT
TZOFFSETFROM:-0800
TZOFFSETTO:-0700
TZNAME:PDT
DTSTART:20250309T100000
END:DAYLIGHT
BEGIN:STANDARD
TZOFFSETFROM:-0700
TZOFFSETTO:-0800
TZNAME:PST
DTSTART:20251102T090000
END:STANDARD
BEGIN:DAYLIGHT
TZOFFSETFROM:-0800
TZOFFSETTO:-0700
TZNAME:PDT
DTSTART:20260308T100000
END:DAYLIGHT
BEGIN:STANDARD
TZOFFSETFROM:-0700
TZOFFSETTO:-0800
TZNAME:PST
DTSTART:20261101T090000
END:STANDARD
END:VTIMEZONE
BEGIN:VEVENT
DTSTART;TZID=America/Los_Angeles:20250702T093000
DTEND;TZID=America/Los_Angeles:20250702T103000
DTSTAMP:20260424T001556
CREATED:20220228T230818Z
LAST-MODIFIED:20220228T230818Z
UID:6789-1751448600-1751452200@hfparish.com
SUMMARY:Confession
DESCRIPTION:Confessions are every Wednesday after Mass unless otherwise announced.
URL:https://hfparish.com/event/confession-2025-07-02/
END:VEVENT
BEGIN:VEVENT
DTSTART;TZID=America/Los_Angeles:20250703T080000
DTEND;TZID=America/Los_Angeles:20250703T090000
DTSTAMP:20260424T001556
CREATED:20201106T220137Z
LAST-MODIFIED:20201106T220137Z
UID:6790-1751529600-1751533200@hfparish.com
SUMMARY:Thursday Mass
DESCRIPTION:
URL:https://hfparish.com/event/thursday-mass-2-2025-07-03/
END:VEVENT
BEGIN:VEVENT
DTSTART;TZID=America/Los_Angeles:20250704T080000
DTEND;TZID=America/Los_Angeles:20250704T090000
DTSTAMP:20260424T001556
CREATED:20201106T220328Z
LAST-MODIFIED:20201106T220328Z
UID:6791-1751616000-1751619600@hfparish.com
SUMMARY:Friday Mass
DESCRIPTION:
URL:https://hfparish.com/event/friday-mass-2025-07-04/
END:VEVENT
BEGIN:VEVENT
DTSTART;TZID=America/Los_Angeles:20250705T150000
DTEND;TZID=America/Los_Angeles:20250705T153000
DTSTAMP:20260424T001556
CREATED:20220228T230620Z
LAST-MODIFIED:20220228T230620Z
UID:6794-1751727600-1751729400@hfparish.com
SUMMARY:Confessions
DESCRIPTION:Confessions are held every Saturday unless otherwise announced.
URL:https://hfparish.com/event/confessions-2-2025-07-05/
END:VEVENT
BEGIN:VEVENT
DTSTART;TZID=America/Los_Angeles:20250705T160000
DTEND;TZID=America/Los_Angeles:20250705T170000
DTSTAMP:20260424T001556
CREATED:20201106T220418Z
LAST-MODIFIED:20201106T220418Z
UID:6795-1751731200-1751734800@hfparish.com
SUMMARY:Saturday Mass
DESCRIPTION:
URL:https://hfparish.com/event/saturday-mass-2025-07-05/
END:VEVENT
BEGIN:VEVENT
DTSTART;TZID=America/Los_Angeles:20250706T090000
DTEND;TZID=America/Los_Angeles:20250706T100000
DTSTAMP:20260424T001556
CREATED:20201106T220522Z
LAST-MODIFIED:20201106T220522Z
UID:6797-1751792400-1751796000@hfparish.com
SUMMARY:Sunday Mass
DESCRIPTION:
URL:https://hfparish.com/event/sunday-mass-2025-07-06/
END:VEVENT
BEGIN:VEVENT
DTSTART;TZID=America/Los_Angeles:20250707T080000
DTEND;TZID=America/Los_Angeles:20250707T083000
DTSTAMP:20260424T001556
CREATED:20201106T215649Z
LAST-MODIFIED:20201106T215649Z
UID:6798-1751875200-1751877000@hfparish.com
SUMMARY:Monday Mass
DESCRIPTION:
URL:https://hfparish.com/event/monday-mass-2-2025-07-07/
END:VEVENT
BEGIN:VEVENT
DTSTART;TZID=America/Los_Angeles:20250707T084500
DTEND;TZID=America/Los_Angeles:20250707T100000
DTSTAMP:20260424T001556
CREATED:20220228T233517Z
LAST-MODIFIED:20220228T233517Z
UID:6799-1751877900-1751882400@hfparish.com
SUMMARY:Ladies Prayer Group
DESCRIPTION:
URL:https://hfparish.com/event/ladies-prayer-group-2-2025-07-07/
LOCATION:Holy Family Church Hall\, 1109 Chestnut St\, Clarkston\, WA\, 99403\, United States
END:VEVENT
BEGIN:VEVENT
DTSTART;TZID=America/Los_Angeles:20250709T093000
DTEND;TZID=America/Los_Angeles:20250709T103000
DTSTAMP:20260424T001556
CREATED:20220228T230818Z
LAST-MODIFIED:20220228T230818Z
UID:6800-1752053400-1752057000@hfparish.com
SUMMARY:Confession
DESCRIPTION:Confessions are every Wednesday after Mass unless otherwise announced.
URL:https://hfparish.com/event/confession-2025-07-09/
END:VEVENT
BEGIN:VEVENT
DTSTART;TZID=America/Los_Angeles:20250710T080000
DTEND;TZID=America/Los_Angeles:20250710T090000
DTSTAMP:20260424T001556
CREATED:20201106T220137Z
LAST-MODIFIED:20201106T220137Z
UID:6802-1752134400-1752138000@hfparish.com
SUMMARY:Thursday Mass
DESCRIPTION:
URL:https://hfparish.com/event/thursday-mass-2-2025-07-10/
END:VEVENT
BEGIN:VEVENT
DTSTART;TZID=America/Los_Angeles:20250711T080000
DTEND;TZID=America/Los_Angeles:20250711T090000
DTSTAMP:20260424T001556
CREATED:20201106T220328Z
LAST-MODIFIED:20201106T220328Z
UID:6803-1752220800-1752224400@hfparish.com
SUMMARY:Friday Mass
DESCRIPTION:
URL:https://hfparish.com/event/friday-mass-2025-07-11/
END:VEVENT
BEGIN:VEVENT
DTSTART;TZID=America/Los_Angeles:20250712T150000
DTEND;TZID=America/Los_Angeles:20250712T153000
DTSTAMP:20260424T001556
CREATED:20220228T230620Z
LAST-MODIFIED:20220228T230620Z
UID:6807-1752332400-1752334200@hfparish.com
SUMMARY:Confessions
DESCRIPTION:Confessions are held every Saturday unless otherwise announced.
URL:https://hfparish.com/event/confessions-2-2025-07-12/
END:VEVENT
BEGIN:VEVENT
DTSTART;TZID=America/Los_Angeles:20250712T160000
DTEND;TZID=America/Los_Angeles:20250712T170000
DTSTAMP:20260424T001556
CREATED:20201106T220418Z
LAST-MODIFIED:20201106T220418Z
UID:6808-1752336000-1752339600@hfparish.com
SUMMARY:Saturday Mass
DESCRIPTION:
URL:https://hfparish.com/event/saturday-mass-2025-07-12/
END:VEVENT
BEGIN:VEVENT
DTSTART;TZID=America/Los_Angeles:20250713T090000
DTEND;TZID=America/Los_Angeles:20250713T100000
DTSTAMP:20260424T001556
CREATED:20201106T220522Z
LAST-MODIFIED:20201106T220522Z
UID:6809-1752397200-1752400800@hfparish.com
SUMMARY:Sunday Mass
DESCRIPTION:
URL:https://hfparish.com/event/sunday-mass-2025-07-13/
END:VEVENT
BEGIN:VEVENT
DTSTART;TZID=America/Los_Angeles:20250714T080000
DTEND;TZID=America/Los_Angeles:20250714T083000
DTSTAMP:20260424T001556
CREATED:20201106T215649Z
LAST-MODIFIED:20201106T215649Z
UID:6810-1752480000-1752481800@hfparish.com
SUMMARY:Monday Mass
DESCRIPTION:
URL:https://hfparish.com/event/monday-mass-2-2025-07-14/
END:VEVENT
BEGIN:VEVENT
DTSTART;TZID=America/Los_Angeles:20250714T084500
DTEND;TZID=America/Los_Angeles:20250714T100000
DTSTAMP:20260424T001556
CREATED:20220228T233517Z
LAST-MODIFIED:20220228T233517Z
UID:6811-1752482700-1752487200@hfparish.com
SUMMARY:Ladies Prayer Group
DESCRIPTION:
URL:https://hfparish.com/event/ladies-prayer-group-2-2025-07-14/
LOCATION:Holy Family Church Hall\, 1109 Chestnut St\, Clarkston\, WA\, 99403\, United States
END:VEVENT
BEGIN:VEVENT
DTSTART;TZID=America/Los_Angeles:20250716T093000
DTEND;TZID=America/Los_Angeles:20250716T103000
DTSTAMP:20260424T001556
CREATED:20220228T230818Z
LAST-MODIFIED:20220228T230818Z
UID:6812-1752658200-1752661800@hfparish.com
SUMMARY:Confession
DESCRIPTION:Confessions are every Wednesday after Mass unless otherwise announced.
URL:https://hfparish.com/event/confession-2025-07-16/
END:VEVENT
BEGIN:VEVENT
DTSTART;TZID=America/Los_Angeles:20250717T080000
DTEND;TZID=America/Los_Angeles:20250717T090000
DTSTAMP:20260424T001556
CREATED:20201106T220137Z
LAST-MODIFIED:20201106T220137Z
UID:6815-1752739200-1752742800@hfparish.com
SUMMARY:Thursday Mass
DESCRIPTION:
URL:https://hfparish.com/event/thursday-mass-2-2025-07-17/
END:VEVENT
BEGIN:VEVENT
DTSTART;TZID=America/Los_Angeles:20250718T080000
DTEND;TZID=America/Los_Angeles:20250718T090000
DTSTAMP:20260424T001556
CREATED:20201106T220328Z
LAST-MODIFIED:20201106T220328Z
UID:6816-1752825600-1752829200@hfparish.com
SUMMARY:Friday Mass
DESCRIPTION:
URL:https://hfparish.com/event/friday-mass-2025-07-18/
END:VEVENT
BEGIN:VEVENT
DTSTART;TZID=America/Los_Angeles:20250719T150000
DTEND;TZID=America/Los_Angeles:20250719T153000
DTSTAMP:20260424T001556
CREATED:20220228T230620Z
LAST-MODIFIED:20220228T230620Z
UID:6817-1752937200-1752939000@hfparish.com
SUMMARY:Confessions
DESCRIPTION:Confessions are held every Saturday unless otherwise announced.
URL:https://hfparish.com/event/confessions-2-2025-07-19/
END:VEVENT
BEGIN:VEVENT
DTSTART;TZID=America/Los_Angeles:20250719T160000
DTEND;TZID=America/Los_Angeles:20250719T170000
DTSTAMP:20260424T001556
CREATED:20201106T220418Z
LAST-MODIFIED:20201106T220418Z
UID:6818-1752940800-1752944400@hfparish.com
SUMMARY:Saturday Mass
DESCRIPTION:
URL:https://hfparish.com/event/saturday-mass-2025-07-19/
END:VEVENT
BEGIN:VEVENT
DTSTART;TZID=America/Los_Angeles:20250720T090000
DTEND;TZID=America/Los_Angeles:20250720T100000
DTSTAMP:20260424T001556
CREATED:20201106T220522Z
LAST-MODIFIED:20201106T220522Z
UID:6820-1753002000-1753005600@hfparish.com
SUMMARY:Sunday Mass
DESCRIPTION:
URL:https://hfparish.com/event/sunday-mass-2025-07-20/
END:VEVENT
BEGIN:VEVENT
DTSTART;TZID=America/Los_Angeles:20250721T080000
DTEND;TZID=America/Los_Angeles:20250721T083000
DTSTAMP:20260424T001556
CREATED:20201106T215649Z
LAST-MODIFIED:20201106T215649Z
UID:6821-1753084800-1753086600@hfparish.com
SUMMARY:Monday Mass
DESCRIPTION:
URL:https://hfparish.com/event/monday-mass-2-2025-07-21/
END:VEVENT
BEGIN:VEVENT
DTSTART;TZID=America/Los_Angeles:20250721T084500
DTEND;TZID=America/Los_Angeles:20250721T100000
DTSTAMP:20260424T001556
CREATED:20220228T233517Z
LAST-MODIFIED:20220228T233517Z
UID:6822-1753087500-1753092000@hfparish.com
SUMMARY:Ladies Prayer Group
DESCRIPTION:
URL:https://hfparish.com/event/ladies-prayer-group-2-2025-07-21/
LOCATION:Holy Family Church Hall\, 1109 Chestnut St\, Clarkston\, WA\, 99403\, United States
END:VEVENT
BEGIN:VEVENT
DTSTART;TZID=America/Los_Angeles:20250723T093000
DTEND;TZID=America/Los_Angeles:20250723T103000
DTSTAMP:20260424T001556
CREATED:20220228T230818Z
LAST-MODIFIED:20220228T230818Z
UID:6823-1753263000-1753266600@hfparish.com
SUMMARY:Confession
DESCRIPTION:Confessions are every Wednesday after Mass unless otherwise announced.
URL:https://hfparish.com/event/confession-2025-07-23/
END:VEVENT
BEGIN:VEVENT
DTSTART;TZID=America/Los_Angeles:20250724T080000
DTEND;TZID=America/Los_Angeles:20250724T090000
DTSTAMP:20260424T001556
CREATED:20201106T220137Z
LAST-MODIFIED:20201106T220137Z
UID:6826-1753344000-1753347600@hfparish.com
SUMMARY:Thursday Mass
DESCRIPTION:
URL:https://hfparish.com/event/thursday-mass-2-2025-07-24/
END:VEVENT
BEGIN:VEVENT
DTSTART;TZID=America/Los_Angeles:20250725T080000
DTEND;TZID=America/Los_Angeles:20250725T090000
DTSTAMP:20260424T001556
CREATED:20201106T220328Z
LAST-MODIFIED:20201106T220328Z
UID:6829-1753430400-1753434000@hfparish.com
SUMMARY:Friday Mass
DESCRIPTION:
URL:https://hfparish.com/event/friday-mass-2025-07-25/
END:VEVENT
BEGIN:VEVENT
DTSTART;TZID=America/Los_Angeles:20250726T150000
DTEND;TZID=America/Los_Angeles:20250726T153000
DTSTAMP:20260424T001556
CREATED:20220228T230620Z
LAST-MODIFIED:20220228T230620Z
UID:6831-1753542000-1753543800@hfparish.com
SUMMARY:Confessions
DESCRIPTION:Confessions are held every Saturday unless otherwise announced.
URL:https://hfparish.com/event/confessions-2-2025-07-26/
END:VEVENT
BEGIN:VEVENT
DTSTART;TZID=America/Los_Angeles:20250726T160000
DTEND;TZID=America/Los_Angeles:20250726T170000
DTSTAMP:20260424T001556
CREATED:20201106T220418Z
LAST-MODIFIED:20201106T220418Z
UID:6832-1753545600-1753549200@hfparish.com
SUMMARY:Saturday Mass
DESCRIPTION:
URL:https://hfparish.com/event/saturday-mass-2025-07-26/
END:VEVENT
BEGIN:VEVENT
DTSTART;TZID=America/Los_Angeles:20250727T090000
DTEND;TZID=America/Los_Angeles:20250727T100000
DTSTAMP:20260424T001556
CREATED:20201106T220522Z
LAST-MODIFIED:20201106T220522Z
UID:6834-1753606800-1753610400@hfparish.com
SUMMARY:Sunday Mass
DESCRIPTION:
URL:https://hfparish.com/event/sunday-mass-2025-07-27/
END:VEVENT
END:VCALENDAR