BEGIN:VCALENDAR
VERSION:2.0
PRODID:-//Holy Family Catholic Church - ECPv6.15.20//NONSGML v1.0//EN
CALSCALE:GREGORIAN
METHOD:PUBLISH
X-ORIGINAL-URL:https://hfparish.com
X-WR-CALDESC:Events for Holy Family Catholic Church
REFRESH-INTERVAL;VALUE=DURATION:PT1H
X-Robots-Tag:noindex
X-PUBLISHED-TTL:PT1H
BEGIN:VTIMEZONE
TZID:America/Los_Angeles
BEGIN:DAYLIGHT
TZOFFSETFROM:-0800
TZOFFSETTO:-0700
TZNAME:PDT
DTSTART:20240310T100000
END:DAYLIGHT
BEGIN:STANDARD
TZOFFSETFROM:-0700
TZOFFSETTO:-0800
TZNAME:PST
DTSTART:20241103T090000
END:STANDARD
BEGIN:DAYLIGHT
TZOFFSETFROM:-0800
TZOFFSETTO:-0700
TZNAME:PDT
DTSTART:20250309T100000
END:DAYLIGHT
BEGIN:STANDARD
TZOFFSETFROM:-0700
TZOFFSETTO:-0800
TZNAME:PST
DTSTART:20251102T090000
END:STANDARD
BEGIN:DAYLIGHT
TZOFFSETFROM:-0800
TZOFFSETTO:-0700
TZNAME:PDT
DTSTART:20260308T100000
END:DAYLIGHT
BEGIN:STANDARD
TZOFFSETFROM:-0700
TZOFFSETTO:-0800
TZNAME:PST
DTSTART:20261101T090000
END:STANDARD
END:VTIMEZONE
BEGIN:VEVENT
DTSTART;TZID=America/Los_Angeles:20250801T080000
DTEND;TZID=America/Los_Angeles:20250801T090000
DTSTAMP:20260423T220746
CREATED:20201106T220328Z
LAST-MODIFIED:20201106T220328Z
UID:6842-1754035200-1754038800@hfparish.com
SUMMARY:Friday Mass
DESCRIPTION:
URL:https://hfparish.com/event/friday-mass-2025-08-01/
END:VEVENT
BEGIN:VEVENT
DTSTART;TZID=America/Los_Angeles:20250802T150000
DTEND;TZID=America/Los_Angeles:20250802T153000
DTSTAMP:20260423T220746
CREATED:20220228T230620Z
LAST-MODIFIED:20220228T230620Z
UID:6845-1754146800-1754148600@hfparish.com
SUMMARY:Confessions
DESCRIPTION:Confessions are held every Saturday unless otherwise announced.
URL:https://hfparish.com/event/confessions-2-2025-08-02/
END:VEVENT
BEGIN:VEVENT
DTSTART;TZID=America/Los_Angeles:20250802T160000
DTEND;TZID=America/Los_Angeles:20250802T170000
DTSTAMP:20260423T220746
CREATED:20201106T220418Z
LAST-MODIFIED:20201106T220418Z
UID:6846-1754150400-1754154000@hfparish.com
SUMMARY:Saturday Mass
DESCRIPTION:
URL:https://hfparish.com/event/saturday-mass-2025-08-02/
END:VEVENT
BEGIN:VEVENT
DTSTART;TZID=America/Los_Angeles:20250803T090000
DTEND;TZID=America/Los_Angeles:20250803T100000
DTSTAMP:20260423T220746
CREATED:20201106T220522Z
LAST-MODIFIED:20201106T220522Z
UID:6847-1754211600-1754215200@hfparish.com
SUMMARY:Sunday Mass
DESCRIPTION:
URL:https://hfparish.com/event/sunday-mass-2025-08-03/
END:VEVENT
BEGIN:VEVENT
DTSTART;TZID=America/Los_Angeles:20250804T080000
DTEND;TZID=America/Los_Angeles:20250804T083000
DTSTAMP:20260423T220746
CREATED:20201106T215649Z
LAST-MODIFIED:20201106T215649Z
UID:6848-1754294400-1754296200@hfparish.com
SUMMARY:Monday Mass
DESCRIPTION:
URL:https://hfparish.com/event/monday-mass-2-2025-08-04/
END:VEVENT
BEGIN:VEVENT
DTSTART;TZID=America/Los_Angeles:20250804T084500
DTEND;TZID=America/Los_Angeles:20250804T100000
DTSTAMP:20260423T220746
CREATED:20220228T233517Z
LAST-MODIFIED:20220228T233517Z
UID:6849-1754297100-1754301600@hfparish.com
SUMMARY:Ladies Prayer Group
DESCRIPTION:
URL:https://hfparish.com/event/ladies-prayer-group-2-2025-08-04/
LOCATION:Holy Family Church Hall\, 1109 Chestnut St\, Clarkston\, WA\, 99403\, United States
END:VEVENT
BEGIN:VEVENT
DTSTART;TZID=America/Los_Angeles:20250806T093000
DTEND;TZID=America/Los_Angeles:20250806T103000
DTSTAMP:20260423T220746
CREATED:20220228T230818Z
LAST-MODIFIED:20220228T230818Z
UID:6851-1754472600-1754476200@hfparish.com
SUMMARY:Confession
DESCRIPTION:Confessions are every Wednesday after Mass unless otherwise announced.
URL:https://hfparish.com/event/confession-2025-08-06/
END:VEVENT
BEGIN:VEVENT
DTSTART;TZID=America/Los_Angeles:20250807T080000
DTEND;TZID=America/Los_Angeles:20250807T090000
DTSTAMP:20260423T220746
CREATED:20201106T220137Z
LAST-MODIFIED:20201106T220137Z
UID:6854-1754553600-1754557200@hfparish.com
SUMMARY:Thursday Mass
DESCRIPTION:
URL:https://hfparish.com/event/thursday-mass-2-2025-08-07/
END:VEVENT
BEGIN:VEVENT
DTSTART;TZID=America/Los_Angeles:20250808T080000
DTEND;TZID=America/Los_Angeles:20250808T090000
DTSTAMP:20260423T220746
CREATED:20201106T220328Z
LAST-MODIFIED:20201106T220328Z
UID:6857-1754640000-1754643600@hfparish.com
SUMMARY:Friday Mass
DESCRIPTION:
URL:https://hfparish.com/event/friday-mass-2025-08-08/
END:VEVENT
BEGIN:VEVENT
DTSTART;TZID=America/Los_Angeles:20250809T150000
DTEND;TZID=America/Los_Angeles:20250809T153000
DTSTAMP:20260423T220746
CREATED:20220228T230620Z
LAST-MODIFIED:20220228T230620Z
UID:6861-1754751600-1754753400@hfparish.com
SUMMARY:Confessions
DESCRIPTION:Confessions are held every Saturday unless otherwise announced.
URL:https://hfparish.com/event/confessions-2-2025-08-09/
END:VEVENT
BEGIN:VEVENT
DTSTART;TZID=America/Los_Angeles:20250809T160000
DTEND;TZID=America/Los_Angeles:20250809T170000
DTSTAMP:20260423T220746
CREATED:20201106T220418Z
LAST-MODIFIED:20201106T220418Z
UID:6862-1754755200-1754758800@hfparish.com
SUMMARY:Saturday Mass
DESCRIPTION:
URL:https://hfparish.com/event/saturday-mass-2025-08-09/
END:VEVENT
BEGIN:VEVENT
DTSTART;TZID=America/Los_Angeles:20250810T090000
DTEND;TZID=America/Los_Angeles:20250810T100000
DTSTAMP:20260423T220746
CREATED:20201106T220522Z
LAST-MODIFIED:20201106T220522Z
UID:6863-1754816400-1754820000@hfparish.com
SUMMARY:Sunday Mass
DESCRIPTION:
URL:https://hfparish.com/event/sunday-mass-2025-08-10/
END:VEVENT
BEGIN:VEVENT
DTSTART;TZID=America/Los_Angeles:20250811T080000
DTEND;TZID=America/Los_Angeles:20250811T083000
DTSTAMP:20260423T220746
CREATED:20201106T215649Z
LAST-MODIFIED:20201106T215649Z
UID:6864-1754899200-1754901000@hfparish.com
SUMMARY:Monday Mass
DESCRIPTION:
URL:https://hfparish.com/event/monday-mass-2-2025-08-11/
END:VEVENT
BEGIN:VEVENT
DTSTART;TZID=America/Los_Angeles:20250811T084500
DTEND;TZID=America/Los_Angeles:20250811T100000
DTSTAMP:20260423T220746
CREATED:20220228T233517Z
LAST-MODIFIED:20220228T233517Z
UID:6865-1754901900-1754906400@hfparish.com
SUMMARY:Ladies Prayer Group
DESCRIPTION:
URL:https://hfparish.com/event/ladies-prayer-group-2-2025-08-11/
LOCATION:Holy Family Church Hall\, 1109 Chestnut St\, Clarkston\, WA\, 99403\, United States
END:VEVENT
BEGIN:VEVENT
DTSTART;TZID=America/Los_Angeles:20250813T093000
DTEND;TZID=America/Los_Angeles:20250813T103000
DTSTAMP:20260423T220746
CREATED:20220228T230818Z
LAST-MODIFIED:20220228T230818Z
UID:6866-1755077400-1755081000@hfparish.com
SUMMARY:Confession
DESCRIPTION:Confessions are every Wednesday after Mass unless otherwise announced.
URL:https://hfparish.com/event/confession-2025-08-13/
END:VEVENT
BEGIN:VEVENT
DTSTART;TZID=America/Los_Angeles:20250814T080000
DTEND;TZID=America/Los_Angeles:20250814T090000
DTSTAMP:20260423T220746
CREATED:20201106T220137Z
LAST-MODIFIED:20201106T220137Z
UID:6869-1755158400-1755162000@hfparish.com
SUMMARY:Thursday Mass
DESCRIPTION:
URL:https://hfparish.com/event/thursday-mass-2-2025-08-14/
END:VEVENT
BEGIN:VEVENT
DTSTART;TZID=America/Los_Angeles:20250815T080000
DTEND;TZID=America/Los_Angeles:20250815T090000
DTSTAMP:20260423T220746
CREATED:20201106T220328Z
LAST-MODIFIED:20201106T220328Z
UID:6870-1755244800-1755248400@hfparish.com
SUMMARY:Friday Mass
DESCRIPTION:
URL:https://hfparish.com/event/friday-mass-2025-08-15/
END:VEVENT
BEGIN:VEVENT
DTSTART;TZID=America/Los_Angeles:20250816T150000
DTEND;TZID=America/Los_Angeles:20250816T153000
DTSTAMP:20260423T220746
CREATED:20220228T230620Z
LAST-MODIFIED:20220228T230620Z
UID:6872-1755356400-1755358200@hfparish.com
SUMMARY:Confessions
DESCRIPTION:Confessions are held every Saturday unless otherwise announced.
URL:https://hfparish.com/event/confessions-2-2025-08-16/
END:VEVENT
BEGIN:VEVENT
DTSTART;TZID=America/Los_Angeles:20250816T160000
DTEND;TZID=America/Los_Angeles:20250816T170000
DTSTAMP:20260423T220746
CREATED:20201106T220418Z
LAST-MODIFIED:20201106T220418Z
UID:6873-1755360000-1755363600@hfparish.com
SUMMARY:Saturday Mass
DESCRIPTION:
URL:https://hfparish.com/event/saturday-mass-2025-08-16/
END:VEVENT
BEGIN:VEVENT
DTSTART;TZID=America/Los_Angeles:20250817T090000
DTEND;TZID=America/Los_Angeles:20250817T100000
DTSTAMP:20260423T220746
CREATED:20201106T220522Z
LAST-MODIFIED:20201106T220522Z
UID:6874-1755421200-1755424800@hfparish.com
SUMMARY:Sunday Mass
DESCRIPTION:
URL:https://hfparish.com/event/sunday-mass-2025-08-17/
END:VEVENT
BEGIN:VEVENT
DTSTART;TZID=America/Los_Angeles:20250818T080000
DTEND;TZID=America/Los_Angeles:20250818T083000
DTSTAMP:20260423T220746
CREATED:20201106T215649Z
LAST-MODIFIED:20201106T215649Z
UID:6875-1755504000-1755505800@hfparish.com
SUMMARY:Monday Mass
DESCRIPTION:
URL:https://hfparish.com/event/monday-mass-2-2025-08-18/
END:VEVENT
BEGIN:VEVENT
DTSTART;TZID=America/Los_Angeles:20250818T084500
DTEND;TZID=America/Los_Angeles:20250818T100000
DTSTAMP:20260423T220746
CREATED:20220228T233517Z
LAST-MODIFIED:20220228T233517Z
UID:6876-1755506700-1755511200@hfparish.com
SUMMARY:Ladies Prayer Group
DESCRIPTION:
URL:https://hfparish.com/event/ladies-prayer-group-2-2025-08-18/
LOCATION:Holy Family Church Hall\, 1109 Chestnut St\, Clarkston\, WA\, 99403\, United States
END:VEVENT
BEGIN:VEVENT
DTSTART;TZID=America/Los_Angeles:20250820T093000
DTEND;TZID=America/Los_Angeles:20250820T103000
DTSTAMP:20260423T220746
CREATED:20220228T230818Z
LAST-MODIFIED:20220228T230818Z
UID:6877-1755682200-1755685800@hfparish.com
SUMMARY:Confession
DESCRIPTION:Confessions are every Wednesday after Mass unless otherwise announced.
URL:https://hfparish.com/event/confession-2025-08-20/
END:VEVENT
BEGIN:VEVENT
DTSTART;TZID=America/Los_Angeles:20250821T080000
DTEND;TZID=America/Los_Angeles:20250821T090000
DTSTAMP:20260423T220746
CREATED:20201106T220137Z
LAST-MODIFIED:20201106T220137Z
UID:6879-1755763200-1755766800@hfparish.com
SUMMARY:Thursday Mass
DESCRIPTION:
URL:https://hfparish.com/event/thursday-mass-2-2025-08-21/
END:VEVENT
BEGIN:VEVENT
DTSTART;TZID=America/Los_Angeles:20250822T080000
DTEND;TZID=America/Los_Angeles:20250822T090000
DTSTAMP:20260423T220746
CREATED:20201106T220328Z
LAST-MODIFIED:20201106T220328Z
UID:6884-1755849600-1755853200@hfparish.com
SUMMARY:Friday Mass
DESCRIPTION:
URL:https://hfparish.com/event/friday-mass-2025-08-22/
END:VEVENT
BEGIN:VEVENT
DTSTART;TZID=America/Los_Angeles:20250823T150000
DTEND;TZID=America/Los_Angeles:20250823T153000
DTSTAMP:20260423T220746
CREATED:20220228T230620Z
LAST-MODIFIED:20220228T230620Z
UID:6888-1755961200-1755963000@hfparish.com
SUMMARY:Confessions
DESCRIPTION:Confessions are held every Saturday unless otherwise announced.
URL:https://hfparish.com/event/confessions-2-2025-08-23/
END:VEVENT
BEGIN:VEVENT
DTSTART;TZID=America/Los_Angeles:20250823T160000
DTEND;TZID=America/Los_Angeles:20250823T170000
DTSTAMP:20260423T220746
CREATED:20201106T220418Z
LAST-MODIFIED:20201106T220418Z
UID:6889-1755964800-1755968400@hfparish.com
SUMMARY:Saturday Mass
DESCRIPTION:
URL:https://hfparish.com/event/saturday-mass-2025-08-23/
END:VEVENT
BEGIN:VEVENT
DTSTART;TZID=America/Los_Angeles:20250824T090000
DTEND;TZID=America/Los_Angeles:20250824T100000
DTSTAMP:20260423T220746
CREATED:20201106T220522Z
LAST-MODIFIED:20201106T220522Z
UID:6890-1756026000-1756029600@hfparish.com
SUMMARY:Sunday Mass
DESCRIPTION:
URL:https://hfparish.com/event/sunday-mass-2025-08-24/
END:VEVENT
BEGIN:VEVENT
DTSTART;TZID=America/Los_Angeles:20250825T080000
DTEND;TZID=America/Los_Angeles:20250825T083000
DTSTAMP:20260423T220746
CREATED:20201106T215649Z
LAST-MODIFIED:20201106T215649Z
UID:6896-1756108800-1756110600@hfparish.com
SUMMARY:Monday Mass
DESCRIPTION:
URL:https://hfparish.com/event/monday-mass-2-2025-08-25/
END:VEVENT
BEGIN:VEVENT
DTSTART;TZID=America/Los_Angeles:20250825T084500
DTEND;TZID=America/Los_Angeles:20250825T100000
DTSTAMP:20260423T220746
CREATED:20220228T233517Z
LAST-MODIFIED:20220228T233517Z
UID:6897-1756111500-1756116000@hfparish.com
SUMMARY:Ladies Prayer Group
DESCRIPTION:
URL:https://hfparish.com/event/ladies-prayer-group-2-2025-08-25/
LOCATION:Holy Family Church Hall\, 1109 Chestnut St\, Clarkston\, WA\, 99403\, United States
END:VEVENT
END:VCALENDAR