BEGIN:VCALENDAR
VERSION:2.0
PRODID:-//Holy Family Catholic Church - ECPv6.15.20//NONSGML v1.0//EN
CALSCALE:GREGORIAN
METHOD:PUBLISH
X-ORIGINAL-URL:https://hfparish.com
X-WR-CALDESC:Events for Holy Family Catholic Church
REFRESH-INTERVAL;VALUE=DURATION:PT1H
X-Robots-Tag:noindex
X-PUBLISHED-TTL:PT1H
BEGIN:VTIMEZONE
TZID:America/Los_Angeles
BEGIN:DAYLIGHT
TZOFFSETFROM:-0800
TZOFFSETTO:-0700
TZNAME:PDT
DTSTART:20240310T100000
END:DAYLIGHT
BEGIN:STANDARD
TZOFFSETFROM:-0700
TZOFFSETTO:-0800
TZNAME:PST
DTSTART:20241103T090000
END:STANDARD
BEGIN:DAYLIGHT
TZOFFSETFROM:-0800
TZOFFSETTO:-0700
TZNAME:PDT
DTSTART:20250309T100000
END:DAYLIGHT
BEGIN:STANDARD
TZOFFSETFROM:-0700
TZOFFSETTO:-0800
TZNAME:PST
DTSTART:20251102T090000
END:STANDARD
BEGIN:DAYLIGHT
TZOFFSETFROM:-0800
TZOFFSETTO:-0700
TZNAME:PDT
DTSTART:20260308T100000
END:DAYLIGHT
BEGIN:STANDARD
TZOFFSETFROM:-0700
TZOFFSETTO:-0800
TZNAME:PST
DTSTART:20261101T090000
END:STANDARD
END:VTIMEZONE
BEGIN:VEVENT
DTSTART;TZID=America/Los_Angeles:20250901T080000
DTEND;TZID=America/Los_Angeles:20250901T083000
DTSTAMP:20260423T194157
CREATED:20201106T215649Z
LAST-MODIFIED:20201106T215649Z
UID:6908-1756713600-1756715400@hfparish.com
SUMMARY:Monday Mass
DESCRIPTION:
URL:https://hfparish.com/event/monday-mass-2-2025-09-01/
END:VEVENT
BEGIN:VEVENT
DTSTART;TZID=America/Los_Angeles:20250901T084500
DTEND;TZID=America/Los_Angeles:20250901T100000
DTSTAMP:20260423T194157
CREATED:20220228T233517Z
LAST-MODIFIED:20220228T233517Z
UID:6909-1756716300-1756720800@hfparish.com
SUMMARY:Ladies Prayer Group
DESCRIPTION:
URL:https://hfparish.com/event/ladies-prayer-group-2-2025-09-01/
LOCATION:Holy Family Church Hall\, 1109 Chestnut St\, Clarkston\, WA\, 99403\, United States
END:VEVENT
BEGIN:VEVENT
DTSTART;TZID=America/Los_Angeles:20250903T093000
DTEND;TZID=America/Los_Angeles:20250903T103000
DTSTAMP:20260423T194157
CREATED:20220228T230818Z
LAST-MODIFIED:20220228T230818Z
UID:6911-1756891800-1756895400@hfparish.com
SUMMARY:Confession
DESCRIPTION:Confessions are every Wednesday after Mass unless otherwise announced.
URL:https://hfparish.com/event/confession-2025-09-03/
END:VEVENT
BEGIN:VEVENT
DTSTART;TZID=America/Los_Angeles:20250904T080000
DTEND;TZID=America/Los_Angeles:20250904T090000
DTSTAMP:20260423T194157
CREATED:20201106T220137Z
LAST-MODIFIED:20201106T220137Z
UID:6922-1756972800-1756976400@hfparish.com
SUMMARY:Thursday Mass
DESCRIPTION:
URL:https://hfparish.com/event/thursday-mass-2-2025-09-04/
END:VEVENT
BEGIN:VEVENT
DTSTART;TZID=America/Los_Angeles:20250905T080000
DTEND;TZID=America/Los_Angeles:20250905T090000
DTSTAMP:20260423T194157
CREATED:20201106T220328Z
LAST-MODIFIED:20201106T220328Z
UID:6923-1757059200-1757062800@hfparish.com
SUMMARY:Friday Mass
DESCRIPTION:
URL:https://hfparish.com/event/friday-mass-2025-09-05/
END:VEVENT
BEGIN:VEVENT
DTSTART;TZID=America/Los_Angeles:20250906T150000
DTEND;TZID=America/Los_Angeles:20250906T153000
DTSTAMP:20260423T194157
CREATED:20220228T230620Z
LAST-MODIFIED:20220228T230620Z
UID:6924-1757170800-1757172600@hfparish.com
SUMMARY:Confessions
DESCRIPTION:Confessions are held every Saturday unless otherwise announced.
URL:https://hfparish.com/event/confessions-2-2025-09-06/
END:VEVENT
BEGIN:VEVENT
DTSTART;TZID=America/Los_Angeles:20250906T160000
DTEND;TZID=America/Los_Angeles:20250906T170000
DTSTAMP:20260423T194157
CREATED:20201106T220418Z
LAST-MODIFIED:20201106T220418Z
UID:6925-1757174400-1757178000@hfparish.com
SUMMARY:Saturday Mass
DESCRIPTION:
URL:https://hfparish.com/event/saturday-mass-2025-09-06/
END:VEVENT
BEGIN:VEVENT
DTSTART;TZID=America/Los_Angeles:20250907T090000
DTEND;TZID=America/Los_Angeles:20250907T100000
DTSTAMP:20260423T194157
CREATED:20201106T220522Z
LAST-MODIFIED:20201106T220522Z
UID:6927-1757235600-1757239200@hfparish.com
SUMMARY:Sunday Mass
DESCRIPTION:
URL:https://hfparish.com/event/sunday-mass-2025-09-07/
END:VEVENT
BEGIN:VEVENT
DTSTART;TZID=America/Los_Angeles:20250908T080000
DTEND;TZID=America/Los_Angeles:20250908T083000
DTSTAMP:20260423T194157
CREATED:20201106T215649Z
LAST-MODIFIED:20201106T215649Z
UID:6928-1757318400-1757320200@hfparish.com
SUMMARY:Monday Mass
DESCRIPTION:
URL:https://hfparish.com/event/monday-mass-2-2025-09-08/
END:VEVENT
BEGIN:VEVENT
DTSTART;TZID=America/Los_Angeles:20250908T084500
DTEND;TZID=America/Los_Angeles:20250908T100000
DTSTAMP:20260423T194157
CREATED:20220228T233517Z
LAST-MODIFIED:20220228T233517Z
UID:6929-1757321100-1757325600@hfparish.com
SUMMARY:Ladies Prayer Group
DESCRIPTION:
URL:https://hfparish.com/event/ladies-prayer-group-2-2025-09-08/
LOCATION:Holy Family Church Hall\, 1109 Chestnut St\, Clarkston\, WA\, 99403\, United States
END:VEVENT
BEGIN:VEVENT
DTSTART;TZID=America/Los_Angeles:20250910T093000
DTEND;TZID=America/Los_Angeles:20250910T103000
DTSTAMP:20260423T194157
CREATED:20220228T230818Z
LAST-MODIFIED:20220228T230818Z
UID:6930-1757496600-1757500200@hfparish.com
SUMMARY:Confession
DESCRIPTION:Confessions are every Wednesday after Mass unless otherwise announced.
URL:https://hfparish.com/event/confession-2025-09-10/
END:VEVENT
BEGIN:VEVENT
DTSTART;TZID=America/Los_Angeles:20250911T080000
DTEND;TZID=America/Los_Angeles:20250911T090000
DTSTAMP:20260423T194157
CREATED:20201106T220137Z
LAST-MODIFIED:20201106T220137Z
UID:6934-1757577600-1757581200@hfparish.com
SUMMARY:Thursday Mass
DESCRIPTION:
URL:https://hfparish.com/event/thursday-mass-2-2025-09-11/
END:VEVENT
BEGIN:VEVENT
DTSTART;TZID=America/Los_Angeles:20250912T080000
DTEND;TZID=America/Los_Angeles:20250912T090000
DTSTAMP:20260423T194157
CREATED:20201106T220328Z
LAST-MODIFIED:20201106T220328Z
UID:6937-1757664000-1757667600@hfparish.com
SUMMARY:Friday Mass
DESCRIPTION:
URL:https://hfparish.com/event/friday-mass-2025-09-12/
END:VEVENT
BEGIN:VEVENT
DTSTART;TZID=America/Los_Angeles:20250913T150000
DTEND;TZID=America/Los_Angeles:20250913T153000
DTSTAMP:20260423T194157
CREATED:20220228T230620Z
LAST-MODIFIED:20220228T230620Z
UID:6943-1757775600-1757777400@hfparish.com
SUMMARY:Confessions
DESCRIPTION:Confessions are held every Saturday unless otherwise announced.
URL:https://hfparish.com/event/confessions-2-2025-09-13/
END:VEVENT
BEGIN:VEVENT
DTSTART;TZID=America/Los_Angeles:20250913T160000
DTEND;TZID=America/Los_Angeles:20250913T170000
DTSTAMP:20260423T194157
CREATED:20201106T220418Z
LAST-MODIFIED:20201106T220418Z
UID:6944-1757779200-1757782800@hfparish.com
SUMMARY:Saturday Mass
DESCRIPTION:
URL:https://hfparish.com/event/saturday-mass-2025-09-13/
END:VEVENT
BEGIN:VEVENT
DTSTART;TZID=America/Los_Angeles:20250914T090000
DTEND;TZID=America/Los_Angeles:20250914T100000
DTSTAMP:20260423T194157
CREATED:20201106T220522Z
LAST-MODIFIED:20201106T220522Z
UID:6947-1757840400-1757844000@hfparish.com
SUMMARY:Sunday Mass
DESCRIPTION:
URL:https://hfparish.com/event/sunday-mass-2025-09-14/
END:VEVENT
BEGIN:VEVENT
DTSTART;TZID=America/Los_Angeles:20250915T080000
DTEND;TZID=America/Los_Angeles:20250915T083000
DTSTAMP:20260423T194157
CREATED:20201106T215649Z
LAST-MODIFIED:20201106T215649Z
UID:6960-1757923200-1757925000@hfparish.com
SUMMARY:Monday Mass
DESCRIPTION:
URL:https://hfparish.com/event/monday-mass-2-2025-09-15/
END:VEVENT
BEGIN:VEVENT
DTSTART;TZID=America/Los_Angeles:20250915T084500
DTEND;TZID=America/Los_Angeles:20250915T100000
DTSTAMP:20260423T194157
CREATED:20220228T233517Z
LAST-MODIFIED:20220228T233517Z
UID:6961-1757925900-1757930400@hfparish.com
SUMMARY:Ladies Prayer Group
DESCRIPTION:
URL:https://hfparish.com/event/ladies-prayer-group-2-2025-09-15/
LOCATION:Holy Family Church Hall\, 1109 Chestnut St\, Clarkston\, WA\, 99403\, United States
END:VEVENT
BEGIN:VEVENT
DTSTART;TZID=America/Los_Angeles:20250917T093000
DTEND;TZID=America/Los_Angeles:20250917T103000
DTSTAMP:20260423T194157
CREATED:20220228T230818Z
LAST-MODIFIED:20220228T230818Z
UID:6962-1758101400-1758105000@hfparish.com
SUMMARY:Confession
DESCRIPTION:Confessions are every Wednesday after Mass unless otherwise announced.
URL:https://hfparish.com/event/confession-2025-09-17/
END:VEVENT
BEGIN:VEVENT
DTSTART;TZID=America/Los_Angeles:20250918T080000
DTEND;TZID=America/Los_Angeles:20250918T090000
DTSTAMP:20260423T194157
CREATED:20201106T220137Z
LAST-MODIFIED:20201106T220137Z
UID:6965-1758182400-1758186000@hfparish.com
SUMMARY:Thursday Mass
DESCRIPTION:
URL:https://hfparish.com/event/thursday-mass-2-2025-09-18/
END:VEVENT
BEGIN:VEVENT
DTSTART;TZID=America/Los_Angeles:20250919T080000
DTEND;TZID=America/Los_Angeles:20250919T090000
DTSTAMP:20260423T194157
CREATED:20201106T220328Z
LAST-MODIFIED:20201106T220328Z
UID:6967-1758268800-1758272400@hfparish.com
SUMMARY:Friday Mass
DESCRIPTION:
URL:https://hfparish.com/event/friday-mass-2025-09-19/
END:VEVENT
BEGIN:VEVENT
DTSTART;TZID=America/Los_Angeles:20250920T150000
DTEND;TZID=America/Los_Angeles:20250920T153000
DTSTAMP:20260423T194157
CREATED:20220228T230620Z
LAST-MODIFIED:20220228T230620Z
UID:6968-1758380400-1758382200@hfparish.com
SUMMARY:Confessions
DESCRIPTION:Confessions are held every Saturday unless otherwise announced.
URL:https://hfparish.com/event/confessions-2-2025-09-20/
END:VEVENT
BEGIN:VEVENT
DTSTART;TZID=America/Los_Angeles:20250920T160000
DTEND;TZID=America/Los_Angeles:20250920T170000
DTSTAMP:20260423T194157
CREATED:20201106T220418Z
LAST-MODIFIED:20201106T220418Z
UID:6969-1758384000-1758387600@hfparish.com
SUMMARY:Saturday Mass
DESCRIPTION:
URL:https://hfparish.com/event/saturday-mass-2025-09-20/
END:VEVENT
BEGIN:VEVENT
DTSTART;TZID=America/Los_Angeles:20250921T090000
DTEND;TZID=America/Los_Angeles:20250921T100000
DTSTAMP:20260423T194157
CREATED:20201106T220522Z
LAST-MODIFIED:20201106T220522Z
UID:6972-1758445200-1758448800@hfparish.com
SUMMARY:Sunday Mass
DESCRIPTION:
URL:https://hfparish.com/event/sunday-mass-2025-09-21/
END:VEVENT
BEGIN:VEVENT
DTSTART;TZID=America/Los_Angeles:20250922T080000
DTEND;TZID=America/Los_Angeles:20250922T083000
DTSTAMP:20260423T194157
CREATED:20201106T215649Z
LAST-MODIFIED:20201106T215649Z
UID:6975-1758528000-1758529800@hfparish.com
SUMMARY:Monday Mass
DESCRIPTION:
URL:https://hfparish.com/event/monday-mass-2-2025-09-22/
END:VEVENT
BEGIN:VEVENT
DTSTART;TZID=America/Los_Angeles:20250922T084500
DTEND;TZID=America/Los_Angeles:20250922T100000
DTSTAMP:20260423T194157
CREATED:20220228T233517Z
LAST-MODIFIED:20220228T233517Z
UID:6976-1758530700-1758535200@hfparish.com
SUMMARY:Ladies Prayer Group
DESCRIPTION:
URL:https://hfparish.com/event/ladies-prayer-group-2-2025-09-22/
LOCATION:Holy Family Church Hall\, 1109 Chestnut St\, Clarkston\, WA\, 99403\, United States
END:VEVENT
BEGIN:VEVENT
DTSTART;TZID=America/Los_Angeles:20250924T093000
DTEND;TZID=America/Los_Angeles:20250924T103000
DTSTAMP:20260423T194157
CREATED:20220228T230818Z
LAST-MODIFIED:20220228T230818Z
UID:6979-1758706200-1758709800@hfparish.com
SUMMARY:Confession
DESCRIPTION:Confessions are every Wednesday after Mass unless otherwise announced.
URL:https://hfparish.com/event/confession-2025-09-24/
END:VEVENT
BEGIN:VEVENT
DTSTART;TZID=America/Los_Angeles:20250925T080000
DTEND;TZID=America/Los_Angeles:20250925T090000
DTSTAMP:20260423T194157
CREATED:20201106T220137Z
LAST-MODIFIED:20201106T220137Z
UID:6980-1758787200-1758790800@hfparish.com
SUMMARY:Thursday Mass
DESCRIPTION:
URL:https://hfparish.com/event/thursday-mass-2-2025-09-25/
END:VEVENT
BEGIN:VEVENT
DTSTART;TZID=America/Los_Angeles:20250926T080000
DTEND;TZID=America/Los_Angeles:20250926T090000
DTSTAMP:20260423T194157
CREATED:20201106T220328Z
LAST-MODIFIED:20201106T220328Z
UID:6981-1758873600-1758877200@hfparish.com
SUMMARY:Friday Mass
DESCRIPTION:
URL:https://hfparish.com/event/friday-mass-2025-09-26/
END:VEVENT
BEGIN:VEVENT
DTSTART;TZID=America/Los_Angeles:20250927T150000
DTEND;TZID=America/Los_Angeles:20250927T153000
DTSTAMP:20260423T194157
CREATED:20220228T230620Z
LAST-MODIFIED:20220228T230620Z
UID:6986-1758985200-1758987000@hfparish.com
SUMMARY:Confessions
DESCRIPTION:Confessions are held every Saturday unless otherwise announced.
URL:https://hfparish.com/event/confessions-2-2025-09-27/
END:VEVENT
END:VCALENDAR