BEGIN:VCALENDAR
VERSION:2.0
PRODID:-//Holy Family Catholic Church - ECPv6.15.20//NONSGML v1.0//EN
CALSCALE:GREGORIAN
METHOD:PUBLISH
X-ORIGINAL-URL:https://hfparish.com
X-WR-CALDESC:Events for Holy Family Catholic Church
REFRESH-INTERVAL;VALUE=DURATION:PT1H
X-Robots-Tag:noindex
X-PUBLISHED-TTL:PT1H
BEGIN:VTIMEZONE
TZID:America/Los_Angeles
BEGIN:DAYLIGHT
TZOFFSETFROM:-0800
TZOFFSETTO:-0700
TZNAME:PDT
DTSTART:20240310T100000
END:DAYLIGHT
BEGIN:STANDARD
TZOFFSETFROM:-0700
TZOFFSETTO:-0800
TZNAME:PST
DTSTART:20241103T090000
END:STANDARD
BEGIN:DAYLIGHT
TZOFFSETFROM:-0800
TZOFFSETTO:-0700
TZNAME:PDT
DTSTART:20250309T100000
END:DAYLIGHT
BEGIN:STANDARD
TZOFFSETFROM:-0700
TZOFFSETTO:-0800
TZNAME:PST
DTSTART:20251102T090000
END:STANDARD
BEGIN:DAYLIGHT
TZOFFSETFROM:-0800
TZOFFSETTO:-0700
TZNAME:PDT
DTSTART:20260308T100000
END:DAYLIGHT
BEGIN:STANDARD
TZOFFSETFROM:-0700
TZOFFSETTO:-0800
TZNAME:PST
DTSTART:20261101T090000
END:STANDARD
END:VTIMEZONE
BEGIN:VEVENT
DTSTART;TZID=America/Los_Angeles:20251001T093000
DTEND;TZID=America/Los_Angeles:20251001T103000
DTSTAMP:20260423T173932
CREATED:20220228T230818Z
LAST-MODIFIED:20220228T230818Z
UID:6999-1759311000-1759314600@hfparish.com
SUMMARY:Confession
DESCRIPTION:Confessions are every Wednesday after Mass unless otherwise announced.
URL:https://hfparish.com/event/confession-2025-10-01/
END:VEVENT
BEGIN:VEVENT
DTSTART;TZID=America/Los_Angeles:20251002T080000
DTEND;TZID=America/Los_Angeles:20251002T090000
DTSTAMP:20260423T173932
CREATED:20201106T220137Z
LAST-MODIFIED:20201106T220137Z
UID:7002-1759392000-1759395600@hfparish.com
SUMMARY:Thursday Mass
DESCRIPTION:
URL:https://hfparish.com/event/thursday-mass-2-2025-10-02/
END:VEVENT
BEGIN:VEVENT
DTSTART;TZID=America/Los_Angeles:20251003T080000
DTEND;TZID=America/Los_Angeles:20251003T090000
DTSTAMP:20260423T173932
CREATED:20201106T220328Z
LAST-MODIFIED:20201106T220328Z
UID:7005-1759478400-1759482000@hfparish.com
SUMMARY:Friday Mass
DESCRIPTION:
URL:https://hfparish.com/event/friday-mass-2025-10-03/
END:VEVENT
BEGIN:VEVENT
DTSTART;TZID=America/Los_Angeles:20251004T150000
DTEND;TZID=America/Los_Angeles:20251004T153000
DTSTAMP:20260423T173932
CREATED:20220228T230620Z
LAST-MODIFIED:20220228T230620Z
UID:7006-1759590000-1759591800@hfparish.com
SUMMARY:Confessions
DESCRIPTION:Confessions are held every Saturday unless otherwise announced.
URL:https://hfparish.com/event/confessions-2-2025-10-04/
END:VEVENT
BEGIN:VEVENT
DTSTART;TZID=America/Los_Angeles:20251004T160000
DTEND;TZID=America/Los_Angeles:20251004T170000
DTSTAMP:20260423T173932
CREATED:20201106T220418Z
LAST-MODIFIED:20201106T220418Z
UID:7007-1759593600-1759597200@hfparish.com
SUMMARY:Saturday Mass
DESCRIPTION:
URL:https://hfparish.com/event/saturday-mass-2025-10-04/
END:VEVENT
BEGIN:VEVENT
DTSTART;TZID=America/Los_Angeles:20251005T090000
DTEND;TZID=America/Los_Angeles:20251005T100000
DTSTAMP:20260423T173932
CREATED:20201106T220522Z
LAST-MODIFIED:20201106T220522Z
UID:7010-1759654800-1759658400@hfparish.com
SUMMARY:Sunday Mass
DESCRIPTION:
URL:https://hfparish.com/event/sunday-mass-2025-10-05/
END:VEVENT
BEGIN:VEVENT
DTSTART;TZID=America/Los_Angeles:20251006T080000
DTEND;TZID=America/Los_Angeles:20251006T083000
DTSTAMP:20260423T173932
CREATED:20201106T215649Z
LAST-MODIFIED:20201106T215649Z
UID:7014-1759737600-1759739400@hfparish.com
SUMMARY:Monday Mass
DESCRIPTION:
URL:https://hfparish.com/event/monday-mass-2-2025-10-06/
END:VEVENT
BEGIN:VEVENT
DTSTART;TZID=America/Los_Angeles:20251006T084500
DTEND;TZID=America/Los_Angeles:20251006T100000
DTSTAMP:20260423T173932
CREATED:20220228T233517Z
LAST-MODIFIED:20220228T233517Z
UID:7015-1759740300-1759744800@hfparish.com
SUMMARY:Ladies Prayer Group
DESCRIPTION:
URL:https://hfparish.com/event/ladies-prayer-group-2-2025-10-06/
LOCATION:Holy Family Church Hall\, 1109 Chestnut St\, Clarkston\, WA\, 99403\, United States
END:VEVENT
BEGIN:VEVENT
DTSTART;TZID=America/Los_Angeles:20251008T093000
DTEND;TZID=America/Los_Angeles:20251008T103000
DTSTAMP:20260423T173932
CREATED:20220228T230818Z
LAST-MODIFIED:20220228T230818Z
UID:7016-1759915800-1759919400@hfparish.com
SUMMARY:Confession
DESCRIPTION:Confessions are every Wednesday after Mass unless otherwise announced.
URL:https://hfparish.com/event/confession-2025-10-08/
END:VEVENT
BEGIN:VEVENT
DTSTART;TZID=America/Los_Angeles:20251009T080000
DTEND;TZID=America/Los_Angeles:20251009T090000
DTSTAMP:20260423T173932
CREATED:20201106T220137Z
LAST-MODIFIED:20201106T220137Z
UID:7019-1759996800-1760000400@hfparish.com
SUMMARY:Thursday Mass
DESCRIPTION:
URL:https://hfparish.com/event/thursday-mass-2-2025-10-09/
END:VEVENT
BEGIN:VEVENT
DTSTART;TZID=America/Los_Angeles:20251010T080000
DTEND;TZID=America/Los_Angeles:20251010T090000
DTSTAMP:20260423T173932
CREATED:20201106T220328Z
LAST-MODIFIED:20201106T220328Z
UID:7022-1760083200-1760086800@hfparish.com
SUMMARY:Friday Mass
DESCRIPTION:
URL:https://hfparish.com/event/friday-mass-2025-10-10/
END:VEVENT
BEGIN:VEVENT
DTSTART;TZID=America/Los_Angeles:20251011T150000
DTEND;TZID=America/Los_Angeles:20251011T153000
DTSTAMP:20260423T173932
CREATED:20220228T230620Z
LAST-MODIFIED:20220228T230620Z
UID:7025-1760194800-1760196600@hfparish.com
SUMMARY:Confessions
DESCRIPTION:Confessions are held every Saturday unless otherwise announced.
URL:https://hfparish.com/event/confessions-2-2025-10-11/
END:VEVENT
BEGIN:VEVENT
DTSTART;TZID=America/Los_Angeles:20251011T160000
DTEND;TZID=America/Los_Angeles:20251011T170000
DTSTAMP:20260423T173932
CREATED:20201106T220418Z
LAST-MODIFIED:20201106T220418Z
UID:7026-1760198400-1760202000@hfparish.com
SUMMARY:Saturday Mass
DESCRIPTION:
URL:https://hfparish.com/event/saturday-mass-2025-10-11/
END:VEVENT
BEGIN:VEVENT
DTSTART;TZID=America/Los_Angeles:20251012T090000
DTEND;TZID=America/Los_Angeles:20251012T100000
DTSTAMP:20260423T173932
CREATED:20201106T220522Z
LAST-MODIFIED:20201106T220522Z
UID:7028-1760259600-1760263200@hfparish.com
SUMMARY:Sunday Mass
DESCRIPTION:
URL:https://hfparish.com/event/sunday-mass-2025-10-12/
END:VEVENT
BEGIN:VEVENT
DTSTART;TZID=America/Los_Angeles:20251013T080000
DTEND;TZID=America/Los_Angeles:20251013T083000
DTSTAMP:20260423T173932
CREATED:20201106T215649Z
LAST-MODIFIED:20201106T215649Z
UID:7033-1760342400-1760344200@hfparish.com
SUMMARY:Monday Mass
DESCRIPTION:
URL:https://hfparish.com/event/monday-mass-2-2025-10-13/
END:VEVENT
BEGIN:VEVENT
DTSTART;TZID=America/Los_Angeles:20251013T084500
DTEND;TZID=America/Los_Angeles:20251013T100000
DTSTAMP:20260423T173932
CREATED:20220228T233517Z
LAST-MODIFIED:20220228T233517Z
UID:7034-1760345100-1760349600@hfparish.com
SUMMARY:Ladies Prayer Group
DESCRIPTION:
URL:https://hfparish.com/event/ladies-prayer-group-2-2025-10-13/
LOCATION:Holy Family Church Hall\, 1109 Chestnut St\, Clarkston\, WA\, 99403\, United States
END:VEVENT
BEGIN:VEVENT
DTSTART;TZID=America/Los_Angeles:20251015T093000
DTEND;TZID=America/Los_Angeles:20251015T103000
DTSTAMP:20260423T173932
CREATED:20220228T230818Z
LAST-MODIFIED:20220228T230818Z
UID:7035-1760520600-1760524200@hfparish.com
SUMMARY:Confession
DESCRIPTION:Confessions are every Wednesday after Mass unless otherwise announced.
URL:https://hfparish.com/event/confession-2025-10-15/
END:VEVENT
BEGIN:VEVENT
DTSTART;TZID=America/Los_Angeles:20251016T080000
DTEND;TZID=America/Los_Angeles:20251016T090000
DTSTAMP:20260423T173932
CREATED:20201106T220137Z
LAST-MODIFIED:20201106T220137Z
UID:7038-1760601600-1760605200@hfparish.com
SUMMARY:Thursday Mass
DESCRIPTION:
URL:https://hfparish.com/event/thursday-mass-2-2025-10-16/
END:VEVENT
BEGIN:VEVENT
DTSTART;TZID=America/Los_Angeles:20251017T080000
DTEND;TZID=America/Los_Angeles:20251017T090000
DTSTAMP:20260423T173932
CREATED:20201106T220328Z
LAST-MODIFIED:20201106T220328Z
UID:7040-1760688000-1760691600@hfparish.com
SUMMARY:Friday Mass
DESCRIPTION:
URL:https://hfparish.com/event/friday-mass-2025-10-17/
END:VEVENT
BEGIN:VEVENT
DTSTART;TZID=America/Los_Angeles:20251018T150000
DTEND;TZID=America/Los_Angeles:20251018T153000
DTSTAMP:20260423T173932
CREATED:20220228T230620Z
LAST-MODIFIED:20220228T230620Z
UID:7041-1760799600-1760801400@hfparish.com
SUMMARY:Confessions
DESCRIPTION:Confessions are held every Saturday unless otherwise announced.
URL:https://hfparish.com/event/confessions-2-2025-10-18/
END:VEVENT
BEGIN:VEVENT
DTSTART;TZID=America/Los_Angeles:20251018T160000
DTEND;TZID=America/Los_Angeles:20251018T170000
DTSTAMP:20260423T173932
CREATED:20201106T220418Z
LAST-MODIFIED:20201106T220418Z
UID:7042-1760803200-1760806800@hfparish.com
SUMMARY:Saturday Mass
DESCRIPTION:
URL:https://hfparish.com/event/saturday-mass-2025-10-18/
END:VEVENT
BEGIN:VEVENT
DTSTART;TZID=America/Los_Angeles:20251019T090000
DTEND;TZID=America/Los_Angeles:20251019T100000
DTSTAMP:20260423T173932
CREATED:20201106T220522Z
LAST-MODIFIED:20201106T220522Z
UID:7045-1760864400-1760868000@hfparish.com
SUMMARY:Sunday Mass
DESCRIPTION:
URL:https://hfparish.com/event/sunday-mass-2025-10-19/
END:VEVENT
BEGIN:VEVENT
DTSTART;TZID=America/Los_Angeles:20251020T080000
DTEND;TZID=America/Los_Angeles:20251020T083000
DTSTAMP:20260423T173932
CREATED:20201106T215649Z
LAST-MODIFIED:20201106T215649Z
UID:7049-1760947200-1760949000@hfparish.com
SUMMARY:Monday Mass
DESCRIPTION:
URL:https://hfparish.com/event/monday-mass-2-2025-10-20/
END:VEVENT
BEGIN:VEVENT
DTSTART;TZID=America/Los_Angeles:20251020T084500
DTEND;TZID=America/Los_Angeles:20251020T100000
DTSTAMP:20260423T173932
CREATED:20220228T233517Z
LAST-MODIFIED:20220228T233517Z
UID:7050-1760949900-1760954400@hfparish.com
SUMMARY:Ladies Prayer Group
DESCRIPTION:
URL:https://hfparish.com/event/ladies-prayer-group-2-2025-10-20/
LOCATION:Holy Family Church Hall\, 1109 Chestnut St\, Clarkston\, WA\, 99403\, United States
END:VEVENT
BEGIN:VEVENT
DTSTART;TZID=America/Los_Angeles:20251022T093000
DTEND;TZID=America/Los_Angeles:20251022T103000
DTSTAMP:20260423T173932
CREATED:20220228T230818Z
LAST-MODIFIED:20220228T230818Z
UID:7052-1761125400-1761129000@hfparish.com
SUMMARY:Confession
DESCRIPTION:Confessions are every Wednesday after Mass unless otherwise announced.
URL:https://hfparish.com/event/confession-2025-10-22/
END:VEVENT
BEGIN:VEVENT
DTSTART;TZID=America/Los_Angeles:20251023T080000
DTEND;TZID=America/Los_Angeles:20251023T090000
DTSTAMP:20260423T173932
CREATED:20201106T220137Z
LAST-MODIFIED:20201106T220137Z
UID:7053-1761206400-1761210000@hfparish.com
SUMMARY:Thursday Mass
DESCRIPTION:
URL:https://hfparish.com/event/thursday-mass-2-2025-10-23/
END:VEVENT
BEGIN:VEVENT
DTSTART;TZID=America/Los_Angeles:20251024T080000
DTEND;TZID=America/Los_Angeles:20251024T090000
DTSTAMP:20260423T173932
CREATED:20201106T220328Z
LAST-MODIFIED:20201106T220328Z
UID:7054-1761292800-1761296400@hfparish.com
SUMMARY:Friday Mass
DESCRIPTION:
URL:https://hfparish.com/event/friday-mass-2025-10-24/
END:VEVENT
BEGIN:VEVENT
DTSTART;TZID=America/Los_Angeles:20251025T150000
DTEND;TZID=America/Los_Angeles:20251025T153000
DTSTAMP:20260423T173932
CREATED:20220228T230620Z
LAST-MODIFIED:20220228T230620Z
UID:7056-1761404400-1761406200@hfparish.com
SUMMARY:Confessions
DESCRIPTION:Confessions are held every Saturday unless otherwise announced.
URL:https://hfparish.com/event/confessions-2-2025-10-25/
END:VEVENT
BEGIN:VEVENT
DTSTART;TZID=America/Los_Angeles:20251025T160000
DTEND;TZID=America/Los_Angeles:20251025T170000
DTSTAMP:20260423T173932
CREATED:20201106T220418Z
LAST-MODIFIED:20201106T220418Z
UID:7057-1761408000-1761411600@hfparish.com
SUMMARY:Saturday Mass
DESCRIPTION:
URL:https://hfparish.com/event/saturday-mass-2025-10-25/
END:VEVENT
BEGIN:VEVENT
DTSTART;TZID=America/Los_Angeles:20251026T090000
DTEND;TZID=America/Los_Angeles:20251026T100000
DTSTAMP:20260423T173932
CREATED:20201106T220522Z
LAST-MODIFIED:20201106T220522Z
UID:7058-1761469200-1761472800@hfparish.com
SUMMARY:Sunday Mass
DESCRIPTION:
URL:https://hfparish.com/event/sunday-mass-2025-10-26/
END:VEVENT
END:VCALENDAR