BEGIN:VCALENDAR
VERSION:2.0
PRODID:-//Holy Family Catholic Church - ECPv6.15.20//NONSGML v1.0//EN
CALSCALE:GREGORIAN
METHOD:PUBLISH
X-WR-CALNAME:Holy Family Catholic Church
X-ORIGINAL-URL:https://hfparish.com
X-WR-CALDESC:Events for Holy Family Catholic Church
REFRESH-INTERVAL;VALUE=DURATION:PT1H
X-Robots-Tag:noindex
X-PUBLISHED-TTL:PT1H
BEGIN:VTIMEZONE
TZID:America/Los_Angeles
BEGIN:DAYLIGHT
TZOFFSETFROM:-0800
TZOFFSETTO:-0700
TZNAME:PDT
DTSTART:20240310T100000
END:DAYLIGHT
BEGIN:STANDARD
TZOFFSETFROM:-0700
TZOFFSETTO:-0800
TZNAME:PST
DTSTART:20241103T090000
END:STANDARD
BEGIN:DAYLIGHT
TZOFFSETFROM:-0800
TZOFFSETTO:-0700
TZNAME:PDT
DTSTART:20250309T100000
END:DAYLIGHT
BEGIN:STANDARD
TZOFFSETFROM:-0700
TZOFFSETTO:-0800
TZNAME:PST
DTSTART:20251102T090000
END:STANDARD
BEGIN:DAYLIGHT
TZOFFSETFROM:-0800
TZOFFSETTO:-0700
TZNAME:PDT
DTSTART:20260308T100000
END:DAYLIGHT
BEGIN:STANDARD
TZOFFSETFROM:-0700
TZOFFSETTO:-0800
TZNAME:PST
DTSTART:20261101T090000
END:STANDARD
END:VTIMEZONE
BEGIN:VEVENT
DTSTART;TZID=America/Los_Angeles:20251101T150000
DTEND;TZID=America/Los_Angeles:20251101T153000
DTSTAMP:20260423T155622
CREATED:20220228T230620Z
LAST-MODIFIED:20220228T230620Z
UID:7074-1762009200-1762011000@hfparish.com
SUMMARY:Confessions
DESCRIPTION:Confessions are held every Saturday unless otherwise announced.
URL:https://hfparish.com/event/confessions-2-2025-11-01/
END:VEVENT
BEGIN:VEVENT
DTSTART;TZID=America/Los_Angeles:20251101T160000
DTEND;TZID=America/Los_Angeles:20251101T170000
DTSTAMP:20260423T155622
CREATED:20201106T220418Z
LAST-MODIFIED:20201106T220418Z
UID:7075-1762012800-1762016400@hfparish.com
SUMMARY:Saturday Mass
DESCRIPTION:
URL:https://hfparish.com/event/saturday-mass-2025-11-01/
END:VEVENT
BEGIN:VEVENT
DTSTART;TZID=America/Los_Angeles:20251102T090000
DTEND;TZID=America/Los_Angeles:20251102T100000
DTSTAMP:20260423T155622
CREATED:20201106T220522Z
LAST-MODIFIED:20201106T220522Z
UID:7076-1762074000-1762077600@hfparish.com
SUMMARY:Sunday Mass
DESCRIPTION:
URL:https://hfparish.com/event/sunday-mass-2025-11-02/
END:VEVENT
BEGIN:VEVENT
DTSTART;TZID=America/Los_Angeles:20251103T080000
DTEND;TZID=America/Los_Angeles:20251103T083000
DTSTAMP:20260423T155622
CREATED:20201106T215649Z
LAST-MODIFIED:20201106T215649Z
UID:7080-1762156800-1762158600@hfparish.com
SUMMARY:Monday Mass
DESCRIPTION:
URL:https://hfparish.com/event/monday-mass-2-2025-11-03/
END:VEVENT
BEGIN:VEVENT
DTSTART;TZID=America/Los_Angeles:20251103T084500
DTEND;TZID=America/Los_Angeles:20251103T100000
DTSTAMP:20260423T155622
CREATED:20220228T233517Z
LAST-MODIFIED:20220228T233517Z
UID:7081-1762159500-1762164000@hfparish.com
SUMMARY:Ladies Prayer Group
DESCRIPTION:
URL:https://hfparish.com/event/ladies-prayer-group-2-2025-11-03/
LOCATION:Holy Family Church Hall\, 1109 Chestnut St\, Clarkston\, WA\, 99403\, United States
END:VEVENT
BEGIN:VEVENT
DTSTART;TZID=America/Los_Angeles:20251105T093000
DTEND;TZID=America/Los_Angeles:20251105T103000
DTSTAMP:20260423T155622
CREATED:20220228T230818Z
LAST-MODIFIED:20220228T230818Z
UID:7082-1762335000-1762338600@hfparish.com
SUMMARY:Confession
DESCRIPTION:Confessions are every Wednesday after Mass unless otherwise announced.
URL:https://hfparish.com/event/confession-2025-11-05/
END:VEVENT
BEGIN:VEVENT
DTSTART;TZID=America/Los_Angeles:20251106T080000
DTEND;TZID=America/Los_Angeles:20251106T090000
DTSTAMP:20260423T155622
CREATED:20201106T220137Z
LAST-MODIFIED:20201106T220137Z
UID:7084-1762416000-1762419600@hfparish.com
SUMMARY:Thursday Mass
DESCRIPTION:
URL:https://hfparish.com/event/thursday-mass-2-2025-11-06/
END:VEVENT
BEGIN:VEVENT
DTSTART;TZID=America/Los_Angeles:20251107T080000
DTEND;TZID=America/Los_Angeles:20251107T090000
DTSTAMP:20260423T155622
CREATED:20201106T220328Z
LAST-MODIFIED:20201106T220328Z
UID:7088-1762502400-1762506000@hfparish.com
SUMMARY:Friday Mass
DESCRIPTION:
URL:https://hfparish.com/event/friday-mass-2025-11-07/
END:VEVENT
BEGIN:VEVENT
DTSTART;TZID=America/Los_Angeles:20251108T150000
DTEND;TZID=America/Los_Angeles:20251108T153000
DTSTAMP:20260423T155622
CREATED:20220228T230620Z
LAST-MODIFIED:20220228T230620Z
UID:7093-1762614000-1762615800@hfparish.com
SUMMARY:Confessions
DESCRIPTION:Confessions are held every Saturday unless otherwise announced.
URL:https://hfparish.com/event/confessions-2-2025-11-08/
END:VEVENT
BEGIN:VEVENT
DTSTART;TZID=America/Los_Angeles:20251108T160000
DTEND;TZID=America/Los_Angeles:20251108T170000
DTSTAMP:20260423T155622
CREATED:20201106T220418Z
LAST-MODIFIED:20201106T220418Z
UID:7094-1762617600-1762621200@hfparish.com
SUMMARY:Saturday Mass
DESCRIPTION:
URL:https://hfparish.com/event/saturday-mass-2025-11-08/
END:VEVENT
BEGIN:VEVENT
DTSTART;TZID=America/Los_Angeles:20251109T090000
DTEND;TZID=America/Los_Angeles:20251109T100000
DTSTAMP:20260423T155622
CREATED:20201106T220522Z
LAST-MODIFIED:20201106T220522Z
UID:7098-1762678800-1762682400@hfparish.com
SUMMARY:Sunday Mass
DESCRIPTION:
URL:https://hfparish.com/event/sunday-mass-2025-11-09/
END:VEVENT
BEGIN:VEVENT
DTSTART;TZID=America/Los_Angeles:20251110T080000
DTEND;TZID=America/Los_Angeles:20251110T083000
DTSTAMP:20260423T155622
CREATED:20201106T215649Z
LAST-MODIFIED:20201106T215649Z
UID:7099-1762761600-1762763400@hfparish.com
SUMMARY:Monday Mass
DESCRIPTION:
URL:https://hfparish.com/event/monday-mass-2-2025-11-10/
END:VEVENT
BEGIN:VEVENT
DTSTART;TZID=America/Los_Angeles:20251110T084500
DTEND;TZID=America/Los_Angeles:20251110T100000
DTSTAMP:20260423T155622
CREATED:20220228T233517Z
LAST-MODIFIED:20220228T233517Z
UID:7100-1762764300-1762768800@hfparish.com
SUMMARY:Ladies Prayer Group
DESCRIPTION:
URL:https://hfparish.com/event/ladies-prayer-group-2-2025-11-10/
LOCATION:Holy Family Church Hall\, 1109 Chestnut St\, Clarkston\, WA\, 99403\, United States
END:VEVENT
BEGIN:VEVENT
DTSTART;TZID=America/Los_Angeles:20251112T093000
DTEND;TZID=America/Los_Angeles:20251112T103000
DTSTAMP:20260423T155622
CREATED:20220228T230818Z
LAST-MODIFIED:20220228T230818Z
UID:7103-1762939800-1762943400@hfparish.com
SUMMARY:Confession
DESCRIPTION:Confessions are every Wednesday after Mass unless otherwise announced.
URL:https://hfparish.com/event/confession-2025-11-12/
END:VEVENT
BEGIN:VEVENT
DTSTART;TZID=America/Los_Angeles:20251113T080000
DTEND;TZID=America/Los_Angeles:20251113T090000
DTSTAMP:20260423T155622
CREATED:20201106T220137Z
LAST-MODIFIED:20201106T220137Z
UID:7104-1763020800-1763024400@hfparish.com
SUMMARY:Thursday Mass
DESCRIPTION:
URL:https://hfparish.com/event/thursday-mass-2-2025-11-13/
END:VEVENT
BEGIN:VEVENT
DTSTART;TZID=America/Los_Angeles:20251114T080000
DTEND;TZID=America/Los_Angeles:20251114T090000
DTSTAMP:20260423T155622
CREATED:20201106T220328Z
LAST-MODIFIED:20201106T220328Z
UID:7108-1763107200-1763110800@hfparish.com
SUMMARY:Friday Mass
DESCRIPTION:
URL:https://hfparish.com/event/friday-mass-2025-11-14/
END:VEVENT
BEGIN:VEVENT
DTSTART;TZID=America/Los_Angeles:20251115T150000
DTEND;TZID=America/Los_Angeles:20251115T153000
DTSTAMP:20260423T155622
CREATED:20220228T230620Z
LAST-MODIFIED:20220228T230620Z
UID:7110-1763218800-1763220600@hfparish.com
SUMMARY:Confessions
DESCRIPTION:Confessions are held every Saturday unless otherwise announced.
URL:https://hfparish.com/event/confessions-2-2025-11-15/
END:VEVENT
BEGIN:VEVENT
DTSTART;TZID=America/Los_Angeles:20251115T160000
DTEND;TZID=America/Los_Angeles:20251115T170000
DTSTAMP:20260423T155622
CREATED:20201106T220418Z
LAST-MODIFIED:20201106T220418Z
UID:7111-1763222400-1763226000@hfparish.com
SUMMARY:Saturday Mass
DESCRIPTION:
URL:https://hfparish.com/event/saturday-mass-2025-11-15/
END:VEVENT
BEGIN:VEVENT
DTSTART;TZID=America/Los_Angeles:20251116T090000
DTEND;TZID=America/Los_Angeles:20251116T100000
DTSTAMP:20260423T155622
CREATED:20201106T220522Z
LAST-MODIFIED:20201106T220522Z
UID:7112-1763283600-1763287200@hfparish.com
SUMMARY:Sunday Mass
DESCRIPTION:
URL:https://hfparish.com/event/sunday-mass-2025-11-16/
END:VEVENT
BEGIN:VEVENT
DTSTART;TZID=America/Los_Angeles:20251117T080000
DTEND;TZID=America/Los_Angeles:20251117T083000
DTSTAMP:20260423T155622
CREATED:20201106T215649Z
LAST-MODIFIED:20201106T215649Z
UID:7117-1763366400-1763368200@hfparish.com
SUMMARY:Monday Mass
DESCRIPTION:
URL:https://hfparish.com/event/monday-mass-2-2025-11-17/
END:VEVENT
BEGIN:VEVENT
DTSTART;TZID=America/Los_Angeles:20251117T084500
DTEND;TZID=America/Los_Angeles:20251117T100000
DTSTAMP:20260423T155622
CREATED:20220228T233517Z
LAST-MODIFIED:20220228T233517Z
UID:7118-1763369100-1763373600@hfparish.com
SUMMARY:Ladies Prayer Group
DESCRIPTION:
URL:https://hfparish.com/event/ladies-prayer-group-2-2025-11-17/
LOCATION:Holy Family Church Hall\, 1109 Chestnut St\, Clarkston\, WA\, 99403\, United States
END:VEVENT
BEGIN:VEVENT
DTSTART;TZID=America/Los_Angeles:20251119T093000
DTEND;TZID=America/Los_Angeles:20251119T103000
DTSTAMP:20260423T155622
CREATED:20220228T230818Z
LAST-MODIFIED:20220228T230818Z
UID:7120-1763544600-1763548200@hfparish.com
SUMMARY:Confession
DESCRIPTION:Confessions are every Wednesday after Mass unless otherwise announced.
URL:https://hfparish.com/event/confession-2025-11-19/
END:VEVENT
BEGIN:VEVENT
DTSTART;TZID=America/Los_Angeles:20251120T080000
DTEND;TZID=America/Los_Angeles:20251120T090000
DTSTAMP:20260423T155622
CREATED:20201106T220137Z
LAST-MODIFIED:20201106T220137Z
UID:7122-1763625600-1763629200@hfparish.com
SUMMARY:Thursday Mass
DESCRIPTION:
URL:https://hfparish.com/event/thursday-mass-2-2025-11-20/
END:VEVENT
BEGIN:VEVENT
DTSTART;TZID=America/Los_Angeles:20251121T080000
DTEND;TZID=America/Los_Angeles:20251121T090000
DTSTAMP:20260423T155622
CREATED:20201106T220328Z
LAST-MODIFIED:20201106T220328Z
UID:7125-1763712000-1763715600@hfparish.com
SUMMARY:Friday Mass
DESCRIPTION:
URL:https://hfparish.com/event/friday-mass-2025-11-21/
END:VEVENT
BEGIN:VEVENT
DTSTART;TZID=America/Los_Angeles:20251122T150000
DTEND;TZID=America/Los_Angeles:20251122T153000
DTSTAMP:20260423T155622
CREATED:20220228T230620Z
LAST-MODIFIED:20220228T230620Z
UID:7127-1763823600-1763825400@hfparish.com
SUMMARY:Confessions
DESCRIPTION:Confessions are held every Saturday unless otherwise announced.
URL:https://hfparish.com/event/confessions-2-2025-11-22/
END:VEVENT
BEGIN:VEVENT
DTSTART;TZID=America/Los_Angeles:20251122T160000
DTEND;TZID=America/Los_Angeles:20251122T170000
DTSTAMP:20260423T155622
CREATED:20201106T220418Z
LAST-MODIFIED:20201106T220418Z
UID:7128-1763827200-1763830800@hfparish.com
SUMMARY:Saturday Mass
DESCRIPTION:
URL:https://hfparish.com/event/saturday-mass-2025-11-22/
END:VEVENT
BEGIN:VEVENT
DTSTART;TZID=America/Los_Angeles:20251123T090000
DTEND;TZID=America/Los_Angeles:20251123T100000
DTSTAMP:20260423T155622
CREATED:20201106T220522Z
LAST-MODIFIED:20201106T220522Z
UID:7129-1763888400-1763892000@hfparish.com
SUMMARY:Sunday Mass
DESCRIPTION:
URL:https://hfparish.com/event/sunday-mass-2025-11-23/
END:VEVENT
BEGIN:VEVENT
DTSTART;TZID=America/Los_Angeles:20251124T080000
DTEND;TZID=America/Los_Angeles:20251124T083000
DTSTAMP:20260423T155622
CREATED:20201106T215649Z
LAST-MODIFIED:20201106T215649Z
UID:7130-1763971200-1763973000@hfparish.com
SUMMARY:Monday Mass
DESCRIPTION:
URL:https://hfparish.com/event/monday-mass-2-2025-11-24/
END:VEVENT
BEGIN:VEVENT
DTSTART;TZID=America/Los_Angeles:20251124T084500
DTEND;TZID=America/Los_Angeles:20251124T100000
DTSTAMP:20260423T155622
CREATED:20220228T233517Z
LAST-MODIFIED:20220228T233517Z
UID:7131-1763973900-1763978400@hfparish.com
SUMMARY:Ladies Prayer Group
DESCRIPTION:
URL:https://hfparish.com/event/ladies-prayer-group-2-2025-11-24/
LOCATION:Holy Family Church Hall\, 1109 Chestnut St\, Clarkston\, WA\, 99403\, United States
END:VEVENT
BEGIN:VEVENT
DTSTART;TZID=America/Los_Angeles:20251126T093000
DTEND;TZID=America/Los_Angeles:20251126T103000
DTSTAMP:20260423T155622
CREATED:20220228T230818Z
LAST-MODIFIED:20220228T230818Z
UID:7134-1764149400-1764153000@hfparish.com
SUMMARY:Confession
DESCRIPTION:Confessions are every Wednesday after Mass unless otherwise announced.
URL:https://hfparish.com/event/confession-2025-11-26/
END:VEVENT
END:VCALENDAR