BEGIN:VCALENDAR
VERSION:2.0
PRODID:-//Holy Family Catholic Church - ECPv6.15.20//NONSGML v1.0//EN
CALSCALE:GREGORIAN
METHOD:PUBLISH
X-WR-CALNAME:Holy Family Catholic Church
X-ORIGINAL-URL:https://hfparish.com
X-WR-CALDESC:Events for Holy Family Catholic Church
REFRESH-INTERVAL;VALUE=DURATION:PT1H
X-Robots-Tag:noindex
X-PUBLISHED-TTL:PT1H
BEGIN:VTIMEZONE
TZID:America/Los_Angeles
BEGIN:DAYLIGHT
TZOFFSETFROM:-0800
TZOFFSETTO:-0700
TZNAME:PDT
DTSTART:20250309T100000
END:DAYLIGHT
BEGIN:STANDARD
TZOFFSETFROM:-0700
TZOFFSETTO:-0800
TZNAME:PST
DTSTART:20251102T090000
END:STANDARD
BEGIN:DAYLIGHT
TZOFFSETFROM:-0800
TZOFFSETTO:-0700
TZNAME:PDT
DTSTART:20260308T100000
END:DAYLIGHT
BEGIN:STANDARD
TZOFFSETFROM:-0700
TZOFFSETTO:-0800
TZNAME:PST
DTSTART:20261101T090000
END:STANDARD
BEGIN:DAYLIGHT
TZOFFSETFROM:-0800
TZOFFSETTO:-0700
TZNAME:PDT
DTSTART:20270314T100000
END:DAYLIGHT
BEGIN:STANDARD
TZOFFSETFROM:-0700
TZOFFSETTO:-0800
TZNAME:PST
DTSTART:20271107T090000
END:STANDARD
END:VTIMEZONE
BEGIN:VEVENT
DTSTART;TZID=America/Los_Angeles:20260101T080000
DTEND;TZID=America/Los_Angeles:20260101T090000
DTSTAMP:20260423T124204
CREATED:20201106T220137Z
LAST-MODIFIED:20201106T220137Z
UID:7215-1767254400-1767258000@hfparish.com
SUMMARY:Thursday Mass
DESCRIPTION:
URL:https://hfparish.com/event/thursday-mass-2-2026-01-01/
END:VEVENT
BEGIN:VEVENT
DTSTART;TZID=America/Los_Angeles:20260102T080000
DTEND;TZID=America/Los_Angeles:20260102T090000
DTSTAMP:20260423T124204
CREATED:20201106T220328Z
LAST-MODIFIED:20201106T220328Z
UID:7217-1767340800-1767344400@hfparish.com
SUMMARY:Friday Mass
DESCRIPTION:
URL:https://hfparish.com/event/friday-mass-2026-01-02/
END:VEVENT
BEGIN:VEVENT
DTSTART;TZID=America/Los_Angeles:20260103T150000
DTEND;TZID=America/Los_Angeles:20260103T153000
DTSTAMP:20260423T124204
CREATED:20220228T230620Z
LAST-MODIFIED:20220228T230620Z
UID:7218-1767452400-1767454200@hfparish.com
SUMMARY:Confessions
DESCRIPTION:Confessions are held every Saturday unless otherwise announced.
URL:https://hfparish.com/event/confessions-2-2026-01-03/
END:VEVENT
BEGIN:VEVENT
DTSTART;TZID=America/Los_Angeles:20260103T160000
DTEND;TZID=America/Los_Angeles:20260103T170000
DTSTAMP:20260423T124204
CREATED:20201106T220418Z
LAST-MODIFIED:20201106T220418Z
UID:7219-1767456000-1767459600@hfparish.com
SUMMARY:Saturday Mass
DESCRIPTION:
URL:https://hfparish.com/event/saturday-mass-2026-01-03/
END:VEVENT
BEGIN:VEVENT
DTSTART;TZID=America/Los_Angeles:20260104T090000
DTEND;TZID=America/Los_Angeles:20260104T100000
DTSTAMP:20260423T124204
CREATED:20201106T220522Z
LAST-MODIFIED:20201106T220522Z
UID:7223-1767517200-1767520800@hfparish.com
SUMMARY:Sunday Mass
DESCRIPTION:
URL:https://hfparish.com/event/sunday-mass-2026-01-04/
END:VEVENT
BEGIN:VEVENT
DTSTART;TZID=America/Los_Angeles:20260105T080000
DTEND;TZID=America/Los_Angeles:20260105T083000
DTSTAMP:20260423T124204
CREATED:20201106T215649Z
LAST-MODIFIED:20201106T215649Z
UID:7227-1767600000-1767601800@hfparish.com
SUMMARY:Monday Mass
DESCRIPTION:
URL:https://hfparish.com/event/monday-mass-2-2026-01-05/
END:VEVENT
BEGIN:VEVENT
DTSTART;TZID=America/Los_Angeles:20260105T084500
DTEND;TZID=America/Los_Angeles:20260105T100000
DTSTAMP:20260423T124204
CREATED:20220228T233517Z
LAST-MODIFIED:20220228T233517Z
UID:7228-1767602700-1767607200@hfparish.com
SUMMARY:Ladies Prayer Group
DESCRIPTION:
URL:https://hfparish.com/event/ladies-prayer-group-2-2026-01-05/
LOCATION:Holy Family Church Hall\, 1109 Chestnut St\, Clarkston\, WA\, 99403\, United States
END:VEVENT
BEGIN:VEVENT
DTSTART;TZID=America/Los_Angeles:20260107T093000
DTEND;TZID=America/Los_Angeles:20260107T103000
DTSTAMP:20260423T124204
CREATED:20220228T230818Z
LAST-MODIFIED:20220228T230818Z
UID:7229-1767778200-1767781800@hfparish.com
SUMMARY:Confession
DESCRIPTION:Confessions are every Wednesday after Mass unless otherwise announced.
URL:https://hfparish.com/event/confession-2026-01-07/
END:VEVENT
BEGIN:VEVENT
DTSTART;TZID=America/Los_Angeles:20260108T080000
DTEND;TZID=America/Los_Angeles:20260108T090000
DTSTAMP:20260423T124204
CREATED:20201106T220137Z
LAST-MODIFIED:20201106T220137Z
UID:7232-1767859200-1767862800@hfparish.com
SUMMARY:Thursday Mass
DESCRIPTION:
URL:https://hfparish.com/event/thursday-mass-2-2026-01-08/
END:VEVENT
BEGIN:VEVENT
DTSTART;TZID=America/Los_Angeles:20260109T080000
DTEND;TZID=America/Los_Angeles:20260109T090000
DTSTAMP:20260423T124204
CREATED:20201106T220328Z
LAST-MODIFIED:20201106T220328Z
UID:7233-1767945600-1767949200@hfparish.com
SUMMARY:Friday Mass
DESCRIPTION:
URL:https://hfparish.com/event/friday-mass-2026-01-09/
END:VEVENT
BEGIN:VEVENT
DTSTART;TZID=America/Los_Angeles:20260110T150000
DTEND;TZID=America/Los_Angeles:20260110T153000
DTSTAMP:20260423T124204
CREATED:20220228T230620Z
LAST-MODIFIED:20220228T230620Z
UID:7236-1768057200-1768059000@hfparish.com
SUMMARY:Confessions
DESCRIPTION:Confessions are held every Saturday unless otherwise announced.
URL:https://hfparish.com/event/confessions-2-2026-01-10/
END:VEVENT
BEGIN:VEVENT
DTSTART;TZID=America/Los_Angeles:20260110T160000
DTEND;TZID=America/Los_Angeles:20260110T170000
DTSTAMP:20260423T124204
CREATED:20201106T220418Z
LAST-MODIFIED:20201106T220418Z
UID:7237-1768060800-1768064400@hfparish.com
SUMMARY:Saturday Mass
DESCRIPTION:
URL:https://hfparish.com/event/saturday-mass-2026-01-10/
END:VEVENT
BEGIN:VEVENT
DTSTART;TZID=America/Los_Angeles:20260111T090000
DTEND;TZID=America/Los_Angeles:20260111T100000
DTSTAMP:20260423T124204
CREATED:20201106T220522Z
LAST-MODIFIED:20201106T220522Z
UID:7238-1768122000-1768125600@hfparish.com
SUMMARY:Sunday Mass
DESCRIPTION:
URL:https://hfparish.com/event/sunday-mass-2026-01-11/
END:VEVENT
BEGIN:VEVENT
DTSTART;TZID=America/Los_Angeles:20260112T080000
DTEND;TZID=America/Los_Angeles:20260112T083000
DTSTAMP:20260423T124204
CREATED:20201106T215649Z
LAST-MODIFIED:20201106T215649Z
UID:7240-1768204800-1768206600@hfparish.com
SUMMARY:Monday Mass
DESCRIPTION:
URL:https://hfparish.com/event/monday-mass-2-2026-01-12/
END:VEVENT
BEGIN:VEVENT
DTSTART;TZID=America/Los_Angeles:20260112T084500
DTEND;TZID=America/Los_Angeles:20260112T100000
DTSTAMP:20260423T124204
CREATED:20220228T233517Z
LAST-MODIFIED:20220228T233517Z
UID:7241-1768207500-1768212000@hfparish.com
SUMMARY:Ladies Prayer Group
DESCRIPTION:
URL:https://hfparish.com/event/ladies-prayer-group-2-2026-01-12/
LOCATION:Holy Family Church Hall\, 1109 Chestnut St\, Clarkston\, WA\, 99403\, United States
END:VEVENT
BEGIN:VEVENT
DTSTART;TZID=America/Los_Angeles:20260114T093000
DTEND;TZID=America/Los_Angeles:20260114T103000
DTSTAMP:20260423T124204
CREATED:20220228T230818Z
LAST-MODIFIED:20220228T230818Z
UID:7242-1768383000-1768386600@hfparish.com
SUMMARY:Confession
DESCRIPTION:Confessions are every Wednesday after Mass unless otherwise announced.
URL:https://hfparish.com/event/confession-2026-01-14/
END:VEVENT
BEGIN:VEVENT
DTSTART;TZID=America/Los_Angeles:20260115T080000
DTEND;TZID=America/Los_Angeles:20260115T090000
DTSTAMP:20260423T124204
CREATED:20201106T220137Z
LAST-MODIFIED:20201106T220137Z
UID:7244-1768464000-1768467600@hfparish.com
SUMMARY:Thursday Mass
DESCRIPTION:
URL:https://hfparish.com/event/thursday-mass-2-2026-01-15/
END:VEVENT
BEGIN:VEVENT
DTSTART;TZID=America/Los_Angeles:20260116T080000
DTEND;TZID=America/Los_Angeles:20260116T090000
DTSTAMP:20260423T124204
CREATED:20201106T220328Z
LAST-MODIFIED:20201106T220328Z
UID:7245-1768550400-1768554000@hfparish.com
SUMMARY:Friday Mass
DESCRIPTION:
URL:https://hfparish.com/event/friday-mass-2026-01-16/
END:VEVENT
BEGIN:VEVENT
DTSTART;TZID=America/Los_Angeles:20260117T150000
DTEND;TZID=America/Los_Angeles:20260117T153000
DTSTAMP:20260423T124204
CREATED:20220228T230620Z
LAST-MODIFIED:20220228T230620Z
UID:7247-1768662000-1768663800@hfparish.com
SUMMARY:Confessions
DESCRIPTION:Confessions are held every Saturday unless otherwise announced.
URL:https://hfparish.com/event/confessions-2-2026-01-17/
END:VEVENT
BEGIN:VEVENT
DTSTART;TZID=America/Los_Angeles:20260117T160000
DTEND;TZID=America/Los_Angeles:20260117T170000
DTSTAMP:20260423T124204
CREATED:20201106T220418Z
LAST-MODIFIED:20201106T220418Z
UID:7248-1768665600-1768669200@hfparish.com
SUMMARY:Saturday Mass
DESCRIPTION:
URL:https://hfparish.com/event/saturday-mass-2026-01-17/
END:VEVENT
BEGIN:VEVENT
DTSTART;TZID=America/Los_Angeles:20260118T090000
DTEND;TZID=America/Los_Angeles:20260118T100000
DTSTAMP:20260423T124204
CREATED:20201106T220522Z
LAST-MODIFIED:20201106T220522Z
UID:7253-1768726800-1768730400@hfparish.com
SUMMARY:Sunday Mass
DESCRIPTION:
URL:https://hfparish.com/event/sunday-mass-2026-01-18/
END:VEVENT
BEGIN:VEVENT
DTSTART;TZID=America/Los_Angeles:20260119T080000
DTEND;TZID=America/Los_Angeles:20260119T083000
DTSTAMP:20260423T124204
CREATED:20201106T215649Z
LAST-MODIFIED:20201106T215649Z
UID:7258-1768809600-1768811400@hfparish.com
SUMMARY:Monday Mass
DESCRIPTION:
URL:https://hfparish.com/event/monday-mass-2-2026-01-19/
END:VEVENT
BEGIN:VEVENT
DTSTART;TZID=America/Los_Angeles:20260119T084500
DTEND;TZID=America/Los_Angeles:20260119T100000
DTSTAMP:20260423T124204
CREATED:20220228T233517Z
LAST-MODIFIED:20220228T233517Z
UID:7259-1768812300-1768816800@hfparish.com
SUMMARY:Ladies Prayer Group
DESCRIPTION:
URL:https://hfparish.com/event/ladies-prayer-group-2-2026-01-19/
LOCATION:Holy Family Church Hall\, 1109 Chestnut St\, Clarkston\, WA\, 99403\, United States
END:VEVENT
BEGIN:VEVENT
DTSTART;TZID=America/Los_Angeles:20260121T093000
DTEND;TZID=America/Los_Angeles:20260121T103000
DTSTAMP:20260423T124204
CREATED:20220228T230818Z
LAST-MODIFIED:20220228T230818Z
UID:7269-1768987800-1768991400@hfparish.com
SUMMARY:Confession
DESCRIPTION:Confessions are every Wednesday after Mass unless otherwise announced.
URL:https://hfparish.com/event/confession-2026-01-21/
END:VEVENT
BEGIN:VEVENT
DTSTART;TZID=America/Los_Angeles:20260122T080000
DTEND;TZID=America/Los_Angeles:20260122T090000
DTSTAMP:20260423T124204
CREATED:20201106T220137Z
LAST-MODIFIED:20201106T220137Z
UID:7272-1769068800-1769072400@hfparish.com
SUMMARY:Thursday Mass
DESCRIPTION:
URL:https://hfparish.com/event/thursday-mass-2-2026-01-22/
END:VEVENT
BEGIN:VEVENT
DTSTART;TZID=America/Los_Angeles:20260123T080000
DTEND;TZID=America/Los_Angeles:20260123T090000
DTSTAMP:20260423T124204
CREATED:20201106T220328Z
LAST-MODIFIED:20201106T220328Z
UID:7275-1769155200-1769158800@hfparish.com
SUMMARY:Friday Mass
DESCRIPTION:
URL:https://hfparish.com/event/friday-mass-2026-01-23/
END:VEVENT
BEGIN:VEVENT
DTSTART;TZID=America/Los_Angeles:20260124T150000
DTEND;TZID=America/Los_Angeles:20260124T153000
DTSTAMP:20260423T124204
CREATED:20220228T230620Z
LAST-MODIFIED:20220228T230620Z
UID:7277-1769266800-1769268600@hfparish.com
SUMMARY:Confessions
DESCRIPTION:Confessions are held every Saturday unless otherwise announced.
URL:https://hfparish.com/event/confessions-2-2026-01-24/
END:VEVENT
BEGIN:VEVENT
DTSTART;TZID=America/Los_Angeles:20260124T160000
DTEND;TZID=America/Los_Angeles:20260124T170000
DTSTAMP:20260423T124204
CREATED:20201106T220418Z
LAST-MODIFIED:20201106T220418Z
UID:7278-1769270400-1769274000@hfparish.com
SUMMARY:Saturday Mass
DESCRIPTION:
URL:https://hfparish.com/event/saturday-mass-2026-01-24/
END:VEVENT
BEGIN:VEVENT
DTSTART;TZID=America/Los_Angeles:20260125T090000
DTEND;TZID=America/Los_Angeles:20260125T100000
DTSTAMP:20260423T124204
CREATED:20201106T220522Z
LAST-MODIFIED:20201106T220522Z
UID:7279-1769331600-1769335200@hfparish.com
SUMMARY:Sunday Mass
DESCRIPTION:
URL:https://hfparish.com/event/sunday-mass-2026-01-25/
END:VEVENT
BEGIN:VEVENT
DTSTART;TZID=America/Los_Angeles:20260126T080000
DTEND;TZID=America/Los_Angeles:20260126T083000
DTSTAMP:20260423T124204
CREATED:20201106T215649Z
LAST-MODIFIED:20201106T215649Z
UID:7284-1769414400-1769416200@hfparish.com
SUMMARY:Monday Mass
DESCRIPTION:
URL:https://hfparish.com/event/monday-mass-2-2026-01-26/
END:VEVENT
END:VCALENDAR