BEGIN:VCALENDAR
VERSION:2.0
PRODID:-//Holy Family Catholic Church - ECPv6.15.20//NONSGML v1.0//EN
CALSCALE:GREGORIAN
METHOD:PUBLISH
X-ORIGINAL-URL:https://hfparish.com
X-WR-CALDESC:Events for Holy Family Catholic Church
REFRESH-INTERVAL;VALUE=DURATION:PT1H
X-Robots-Tag:noindex
X-PUBLISHED-TTL:PT1H
BEGIN:VTIMEZONE
TZID:America/Los_Angeles
BEGIN:DAYLIGHT
TZOFFSETFROM:-0800
TZOFFSETTO:-0700
TZNAME:PDT
DTSTART:20250309T100000
END:DAYLIGHT
BEGIN:STANDARD
TZOFFSETFROM:-0700
TZOFFSETTO:-0800
TZNAME:PST
DTSTART:20251102T090000
END:STANDARD
BEGIN:DAYLIGHT
TZOFFSETFROM:-0800
TZOFFSETTO:-0700
TZNAME:PDT
DTSTART:20260308T100000
END:DAYLIGHT
BEGIN:STANDARD
TZOFFSETFROM:-0700
TZOFFSETTO:-0800
TZNAME:PST
DTSTART:20261101T090000
END:STANDARD
BEGIN:DAYLIGHT
TZOFFSETFROM:-0800
TZOFFSETTO:-0700
TZNAME:PDT
DTSTART:20270314T100000
END:DAYLIGHT
BEGIN:STANDARD
TZOFFSETFROM:-0700
TZOFFSETTO:-0800
TZNAME:PST
DTSTART:20271107T090000
END:STANDARD
END:VTIMEZONE
BEGIN:VEVENT
DTSTART;TZID=America/Los_Angeles:20260501T080000
DTEND;TZID=America/Los_Angeles:20260501T090000
DTSTAMP:20260423T092614
CREATED:20201106T220328Z
LAST-MODIFIED:20201106T220328Z
UID:7505-1777622400-1777626000@hfparish.com
SUMMARY:Friday Mass
DESCRIPTION:
URL:https://hfparish.com/event/friday-mass-2026-05-01/
END:VEVENT
BEGIN:VEVENT
DTSTART;TZID=America/Los_Angeles:20260502T150000
DTEND;TZID=America/Los_Angeles:20260502T153000
DTSTAMP:20260423T092614
CREATED:20220228T230620Z
LAST-MODIFIED:20220228T230620Z
UID:7506-1777734000-1777735800@hfparish.com
SUMMARY:Confessions
DESCRIPTION:Confessions are held every Saturday unless otherwise announced.
URL:https://hfparish.com/event/confessions-2-2026-05-02/
END:VEVENT
BEGIN:VEVENT
DTSTART;TZID=America/Los_Angeles:20260502T160000
DTEND;TZID=America/Los_Angeles:20260502T170000
DTSTAMP:20260423T092614
CREATED:20201106T220418Z
LAST-MODIFIED:20201106T220418Z
UID:7507-1777737600-1777741200@hfparish.com
SUMMARY:Saturday Mass
DESCRIPTION:
URL:https://hfparish.com/event/saturday-mass-2026-05-02/
END:VEVENT
BEGIN:VEVENT
DTSTART;TZID=America/Los_Angeles:20260503T090000
DTEND;TZID=America/Los_Angeles:20260503T100000
DTSTAMP:20260423T092614
CREATED:20201106T220522Z
LAST-MODIFIED:20201106T220522Z
UID:7511-1777798800-1777802400@hfparish.com
SUMMARY:Sunday Mass
DESCRIPTION:
URL:https://hfparish.com/event/sunday-mass-2026-05-03/
END:VEVENT
BEGIN:VEVENT
DTSTART;TZID=America/Los_Angeles:20260504T080000
DTEND;TZID=America/Los_Angeles:20260504T083000
DTSTAMP:20260423T092614
CREATED:20201106T215649Z
LAST-MODIFIED:20201106T215649Z
UID:7512-1777881600-1777883400@hfparish.com
SUMMARY:Monday Mass
DESCRIPTION:
URL:https://hfparish.com/event/monday-mass-2-2026-05-04/
END:VEVENT
BEGIN:VEVENT
DTSTART;TZID=America/Los_Angeles:20260504T084500
DTEND;TZID=America/Los_Angeles:20260504T100000
DTSTAMP:20260423T092614
CREATED:20220228T233517Z
LAST-MODIFIED:20220228T233517Z
UID:7513-1777884300-1777888800@hfparish.com
SUMMARY:Ladies Prayer Group
DESCRIPTION:
URL:https://hfparish.com/event/ladies-prayer-group-2-2026-05-04/
LOCATION:Holy Family Church Hall\, 1109 Chestnut St\, Clarkston\, WA\, 99403\, United States
END:VEVENT
BEGIN:VEVENT
DTSTART;TZID=America/Los_Angeles:20260506T093000
DTEND;TZID=America/Los_Angeles:20260506T103000
DTSTAMP:20260423T092614
CREATED:20220228T230818Z
LAST-MODIFIED:20220228T230818Z
UID:7518-1778059800-1778063400@hfparish.com
SUMMARY:Confession
DESCRIPTION:Confessions are every Wednesday after Mass unless otherwise announced.
URL:https://hfparish.com/event/confession-2026-05-06/
END:VEVENT
BEGIN:VEVENT
DTSTART;TZID=America/Los_Angeles:20260507T080000
DTEND;TZID=America/Los_Angeles:20260507T090000
DTSTAMP:20260423T092614
CREATED:20201106T220137Z
LAST-MODIFIED:20201106T220137Z
UID:7519-1778140800-1778144400@hfparish.com
SUMMARY:Thursday Mass
DESCRIPTION:
URL:https://hfparish.com/event/thursday-mass-2-2026-05-07/
END:VEVENT
BEGIN:VEVENT
DTSTART;TZID=America/Los_Angeles:20260508T080000
DTEND;TZID=America/Los_Angeles:20260508T090000
DTSTAMP:20260423T092614
CREATED:20201106T220328Z
LAST-MODIFIED:20201106T220328Z
UID:7521-1778227200-1778230800@hfparish.com
SUMMARY:Friday Mass
DESCRIPTION:
URL:https://hfparish.com/event/friday-mass-2026-05-08/
END:VEVENT
BEGIN:VEVENT
DTSTART;TZID=America/Los_Angeles:20260509T150000
DTEND;TZID=America/Los_Angeles:20260509T153000
DTSTAMP:20260423T092614
CREATED:20220228T230620Z
LAST-MODIFIED:20220228T230620Z
UID:7523-1778338800-1778340600@hfparish.com
SUMMARY:Confessions
DESCRIPTION:Confessions are held every Saturday unless otherwise announced.
URL:https://hfparish.com/event/confessions-2-2026-05-09/
END:VEVENT
BEGIN:VEVENT
DTSTART;TZID=America/Los_Angeles:20260509T160000
DTEND;TZID=America/Los_Angeles:20260509T170000
DTSTAMP:20260423T092614
CREATED:20201106T220418Z
LAST-MODIFIED:20201106T220418Z
UID:7524-1778342400-1778346000@hfparish.com
SUMMARY:Saturday Mass
DESCRIPTION:
URL:https://hfparish.com/event/saturday-mass-2026-05-09/
END:VEVENT
BEGIN:VEVENT
DTSTART;TZID=America/Los_Angeles:20260510T090000
DTEND;TZID=America/Los_Angeles:20260510T100000
DTSTAMP:20260423T092614
CREATED:20201106T220522Z
LAST-MODIFIED:20201106T220522Z
UID:7525-1778403600-1778407200@hfparish.com
SUMMARY:Sunday Mass
DESCRIPTION:
URL:https://hfparish.com/event/sunday-mass-2026-05-10/
END:VEVENT
BEGIN:VEVENT
DTSTART;TZID=America/Los_Angeles:20260511T080000
DTEND;TZID=America/Los_Angeles:20260511T083000
DTSTAMP:20260423T092614
CREATED:20201106T215649Z
LAST-MODIFIED:20201106T215649Z
UID:7526-1778486400-1778488200@hfparish.com
SUMMARY:Monday Mass
DESCRIPTION:
URL:https://hfparish.com/event/monday-mass-2-2026-05-11/
END:VEVENT
BEGIN:VEVENT
DTSTART;TZID=America/Los_Angeles:20260511T084500
DTEND;TZID=America/Los_Angeles:20260511T100000
DTSTAMP:20260423T092614
CREATED:20220228T233517Z
LAST-MODIFIED:20220228T233517Z
UID:7527-1778489100-1778493600@hfparish.com
SUMMARY:Ladies Prayer Group
DESCRIPTION:
URL:https://hfparish.com/event/ladies-prayer-group-2-2026-05-11/
LOCATION:Holy Family Church Hall\, 1109 Chestnut St\, Clarkston\, WA\, 99403\, United States
END:VEVENT
BEGIN:VEVENT
DTSTART;TZID=America/Los_Angeles:20260513T093000
DTEND;TZID=America/Los_Angeles:20260513T103000
DTSTAMP:20260423T092614
CREATED:20220228T230818Z
LAST-MODIFIED:20220228T230818Z
UID:7531-1778664600-1778668200@hfparish.com
SUMMARY:Confession
DESCRIPTION:Confessions are every Wednesday after Mass unless otherwise announced.
URL:https://hfparish.com/event/confession-2026-05-13/
END:VEVENT
BEGIN:VEVENT
DTSTART;TZID=America/Los_Angeles:20260514T080000
DTEND;TZID=America/Los_Angeles:20260514T090000
DTSTAMP:20260423T092614
CREATED:20201106T220137Z
LAST-MODIFIED:20201106T220137Z
UID:7534-1778745600-1778749200@hfparish.com
SUMMARY:Thursday Mass
DESCRIPTION:
URL:https://hfparish.com/event/thursday-mass-2-2026-05-14/
END:VEVENT
BEGIN:VEVENT
DTSTART;TZID=America/Los_Angeles:20260515T080000
DTEND;TZID=America/Los_Angeles:20260515T090000
DTSTAMP:20260423T092614
CREATED:20201106T220328Z
LAST-MODIFIED:20201106T220328Z
UID:7536-1778832000-1778835600@hfparish.com
SUMMARY:Friday Mass
DESCRIPTION:
URL:https://hfparish.com/event/friday-mass-2026-05-15/
END:VEVENT
BEGIN:VEVENT
DTSTART;TZID=America/Los_Angeles:20260516T150000
DTEND;TZID=America/Los_Angeles:20260516T153000
DTSTAMP:20260423T092614
CREATED:20220228T230620Z
LAST-MODIFIED:20220228T230620Z
UID:7543-1778943600-1778945400@hfparish.com
SUMMARY:Confessions
DESCRIPTION:Confessions are held every Saturday unless otherwise announced.
URL:https://hfparish.com/event/confessions-2-2026-05-16/
END:VEVENT
BEGIN:VEVENT
DTSTART;TZID=America/Los_Angeles:20260516T160000
DTEND;TZID=America/Los_Angeles:20260516T170000
DTSTAMP:20260423T092614
CREATED:20201106T220418Z
LAST-MODIFIED:20201106T220418Z
UID:7544-1778947200-1778950800@hfparish.com
SUMMARY:Saturday Mass
DESCRIPTION:
URL:https://hfparish.com/event/saturday-mass-2026-05-16/
END:VEVENT
BEGIN:VEVENT
DTSTART;TZID=America/Los_Angeles:20260517T090000
DTEND;TZID=America/Los_Angeles:20260517T100000
DTSTAMP:20260423T092614
CREATED:20201106T220522Z
LAST-MODIFIED:20201106T220522Z
UID:7545-1779008400-1779012000@hfparish.com
SUMMARY:Sunday Mass
DESCRIPTION:
URL:https://hfparish.com/event/sunday-mass-2026-05-17/
END:VEVENT
BEGIN:VEVENT
DTSTART;TZID=America/Los_Angeles:20260518T080000
DTEND;TZID=America/Los_Angeles:20260518T083000
DTSTAMP:20260423T092614
CREATED:20201106T215649Z
LAST-MODIFIED:20201106T215649Z
UID:7546-1779091200-1779093000@hfparish.com
SUMMARY:Monday Mass
DESCRIPTION:
URL:https://hfparish.com/event/monday-mass-2-2026-05-18/
END:VEVENT
BEGIN:VEVENT
DTSTART;TZID=America/Los_Angeles:20260518T084500
DTEND;TZID=America/Los_Angeles:20260518T100000
DTSTAMP:20260423T092614
CREATED:20220228T233517Z
LAST-MODIFIED:20220228T233517Z
UID:7547-1779093900-1779098400@hfparish.com
SUMMARY:Ladies Prayer Group
DESCRIPTION:
URL:https://hfparish.com/event/ladies-prayer-group-2-2026-05-18/
LOCATION:Holy Family Church Hall\, 1109 Chestnut St\, Clarkston\, WA\, 99403\, United States
END:VEVENT
BEGIN:VEVENT
DTSTART;TZID=America/Los_Angeles:20260520T093000
DTEND;TZID=America/Los_Angeles:20260520T103000
DTSTAMP:20260423T092614
CREATED:20220228T230818Z
LAST-MODIFIED:20220228T230818Z
UID:7552-1779269400-1779273000@hfparish.com
SUMMARY:Confession
DESCRIPTION:Confessions are every Wednesday after Mass unless otherwise announced.
URL:https://hfparish.com/event/confession-2026-05-20/
END:VEVENT
BEGIN:VEVENT
DTSTART;TZID=America/Los_Angeles:20260521T080000
DTEND;TZID=America/Los_Angeles:20260521T090000
DTSTAMP:20260423T092614
CREATED:20201106T220137Z
LAST-MODIFIED:20201106T220137Z
UID:7553-1779350400-1779354000@hfparish.com
SUMMARY:Thursday Mass
DESCRIPTION:
URL:https://hfparish.com/event/thursday-mass-2-2026-05-21/
END:VEVENT
BEGIN:VEVENT
DTSTART;TZID=America/Los_Angeles:20260522T080000
DTEND;TZID=America/Los_Angeles:20260522T090000
DTSTAMP:20260423T092614
CREATED:20201106T220328Z
LAST-MODIFIED:20201106T220328Z
UID:7557-1779436800-1779440400@hfparish.com
SUMMARY:Friday Mass
DESCRIPTION:
URL:https://hfparish.com/event/friday-mass-2026-05-22/
END:VEVENT
BEGIN:VEVENT
DTSTART;TZID=America/Los_Angeles:20260523T150000
DTEND;TZID=America/Los_Angeles:20260523T153000
DTSTAMP:20260423T092614
CREATED:20220228T230620Z
LAST-MODIFIED:20220228T230620Z
UID:7558-1779548400-1779550200@hfparish.com
SUMMARY:Confessions
DESCRIPTION:Confessions are held every Saturday unless otherwise announced.
URL:https://hfparish.com/event/confessions-2-2026-05-23/
END:VEVENT
BEGIN:VEVENT
DTSTART;TZID=America/Los_Angeles:20260523T160000
DTEND;TZID=America/Los_Angeles:20260523T170000
DTSTAMP:20260423T092614
CREATED:20201106T220418Z
LAST-MODIFIED:20201106T220418Z
UID:7559-1779552000-1779555600@hfparish.com
SUMMARY:Saturday Mass
DESCRIPTION:
URL:https://hfparish.com/event/saturday-mass-2026-05-23/
END:VEVENT
BEGIN:VEVENT
DTSTART;TZID=America/Los_Angeles:20260524T090000
DTEND;TZID=America/Los_Angeles:20260524T100000
DTSTAMP:20260423T092614
CREATED:20201106T220522Z
LAST-MODIFIED:20201106T220522Z
UID:7560-1779613200-1779616800@hfparish.com
SUMMARY:Sunday Mass
DESCRIPTION:
URL:https://hfparish.com/event/sunday-mass-2026-05-24/
END:VEVENT
BEGIN:VEVENT
DTSTART;TZID=America/Los_Angeles:20260525T080000
DTEND;TZID=America/Los_Angeles:20260525T083000
DTSTAMP:20260423T092614
CREATED:20201106T215649Z
LAST-MODIFIED:20201106T215649Z
UID:7561-1779696000-1779697800@hfparish.com
SUMMARY:Monday Mass
DESCRIPTION:
URL:https://hfparish.com/event/monday-mass-2-2026-05-25/
END:VEVENT
BEGIN:VEVENT
DTSTART;TZID=America/Los_Angeles:20260525T084500
DTEND;TZID=America/Los_Angeles:20260525T100000
DTSTAMP:20260423T092614
CREATED:20220228T233517Z
LAST-MODIFIED:20220228T233517Z
UID:7562-1779698700-1779703200@hfparish.com
SUMMARY:Ladies Prayer Group
DESCRIPTION:
URL:https://hfparish.com/event/ladies-prayer-group-2-2026-05-25/
LOCATION:Holy Family Church Hall\, 1109 Chestnut St\, Clarkston\, WA\, 99403\, United States
END:VEVENT
END:VCALENDAR