BEGIN:VCALENDAR
VERSION:2.0
PRODID:-//Holy Family Catholic Church - ECPv6.15.20//NONSGML v1.0//EN
CALSCALE:GREGORIAN
METHOD:PUBLISH
X-WR-CALNAME:Holy Family Catholic Church
X-ORIGINAL-URL:https://hfparish.com
X-WR-CALDESC:Events for Holy Family Catholic Church
REFRESH-INTERVAL;VALUE=DURATION:PT1H
X-Robots-Tag:noindex
X-PUBLISHED-TTL:PT1H
BEGIN:VTIMEZONE
TZID:America/Los_Angeles
BEGIN:DAYLIGHT
TZOFFSETFROM:-0800
TZOFFSETTO:-0700
TZNAME:PDT
DTSTART:20250309T100000
END:DAYLIGHT
BEGIN:STANDARD
TZOFFSETFROM:-0700
TZOFFSETTO:-0800
TZNAME:PST
DTSTART:20251102T090000
END:STANDARD
BEGIN:DAYLIGHT
TZOFFSETFROM:-0800
TZOFFSETTO:-0700
TZNAME:PDT
DTSTART:20260308T100000
END:DAYLIGHT
BEGIN:STANDARD
TZOFFSETFROM:-0700
TZOFFSETTO:-0800
TZNAME:PST
DTSTART:20261101T090000
END:STANDARD
BEGIN:DAYLIGHT
TZOFFSETFROM:-0800
TZOFFSETTO:-0700
TZNAME:PDT
DTSTART:20270314T100000
END:DAYLIGHT
BEGIN:STANDARD
TZOFFSETFROM:-0700
TZOFFSETTO:-0800
TZNAME:PST
DTSTART:20271107T090000
END:STANDARD
END:VTIMEZONE
BEGIN:VEVENT
DTSTART;TZID=America/Los_Angeles:20260701T093000
DTEND;TZID=America/Los_Angeles:20260701T103000
DTSTAMP:20260423T124204
CREATED:20220228T230818Z
LAST-MODIFIED:20220228T230818Z
UID:7652-1782898200-1782901800@hfparish.com
SUMMARY:Confession
DESCRIPTION:Confessions are every Wednesday after Mass unless otherwise announced.
URL:https://hfparish.com/event/confession-2026-07-01/
END:VEVENT
BEGIN:VEVENT
DTSTART;TZID=America/Los_Angeles:20260702T080000
DTEND;TZID=America/Los_Angeles:20260702T090000
DTSTAMP:20260423T124204
CREATED:20201106T220137Z
LAST-MODIFIED:20201106T220137Z
UID:7655-1782979200-1782982800@hfparish.com
SUMMARY:Thursday Mass
DESCRIPTION:
URL:https://hfparish.com/event/thursday-mass-2-2026-07-02/
END:VEVENT
BEGIN:VEVENT
DTSTART;TZID=America/Los_Angeles:20260703T080000
DTEND;TZID=America/Los_Angeles:20260703T090000
DTSTAMP:20260423T124204
CREATED:20201106T220328Z
LAST-MODIFIED:20201106T220328Z
UID:7656-1783065600-1783069200@hfparish.com
SUMMARY:Friday Mass
DESCRIPTION:
URL:https://hfparish.com/event/friday-mass-2026-07-03/
END:VEVENT
BEGIN:VEVENT
DTSTART;TZID=America/Los_Angeles:20260704T150000
DTEND;TZID=America/Los_Angeles:20260704T153000
DTSTAMP:20260423T124204
CREATED:20220228T230620Z
LAST-MODIFIED:20220228T230620Z
UID:7657-1783177200-1783179000@hfparish.com
SUMMARY:Confessions
DESCRIPTION:Confessions are held every Saturday unless otherwise announced.
URL:https://hfparish.com/event/confessions-2-2026-07-04/
END:VEVENT
BEGIN:VEVENT
DTSTART;TZID=America/Los_Angeles:20260704T160000
DTEND;TZID=America/Los_Angeles:20260704T170000
DTSTAMP:20260423T124204
CREATED:20201106T220418Z
LAST-MODIFIED:20201106T220418Z
UID:7658-1783180800-1783184400@hfparish.com
SUMMARY:Saturday Mass
DESCRIPTION:
URL:https://hfparish.com/event/saturday-mass-2026-07-04/
END:VEVENT
BEGIN:VEVENT
DTSTART;TZID=America/Los_Angeles:20260705T090000
DTEND;TZID=America/Los_Angeles:20260705T100000
DTSTAMP:20260423T124204
CREATED:20201106T220522Z
LAST-MODIFIED:20201106T220522Z
UID:7659-1783242000-1783245600@hfparish.com
SUMMARY:Sunday Mass
DESCRIPTION:
URL:https://hfparish.com/event/sunday-mass-2026-07-05/
END:VEVENT
BEGIN:VEVENT
DTSTART;TZID=America/Los_Angeles:20260706T080000
DTEND;TZID=America/Los_Angeles:20260706T083000
DTSTAMP:20260423T124204
CREATED:20201106T215649Z
LAST-MODIFIED:20201106T215649Z
UID:7660-1783324800-1783326600@hfparish.com
SUMMARY:Monday Mass
DESCRIPTION:
URL:https://hfparish.com/event/monday-mass-2-2026-07-06/
END:VEVENT
BEGIN:VEVENT
DTSTART;TZID=America/Los_Angeles:20260706T084500
DTEND;TZID=America/Los_Angeles:20260706T100000
DTSTAMP:20260423T124204
CREATED:20220228T233517Z
LAST-MODIFIED:20220228T233517Z
UID:7661-1783327500-1783332000@hfparish.com
SUMMARY:Ladies Prayer Group
DESCRIPTION:
URL:https://hfparish.com/event/ladies-prayer-group-2-2026-07-06/
LOCATION:Holy Family Church Hall\, 1109 Chestnut St\, Clarkston\, WA\, 99403\, United States
END:VEVENT
BEGIN:VEVENT
DTSTART;TZID=America/Los_Angeles:20260708T093000
DTEND;TZID=America/Los_Angeles:20260708T103000
DTSTAMP:20260423T124204
CREATED:20220228T230818Z
LAST-MODIFIED:20220228T230818Z
UID:7670-1783503000-1783506600@hfparish.com
SUMMARY:Confession
DESCRIPTION:Confessions are every Wednesday after Mass unless otherwise announced.
URL:https://hfparish.com/event/confession-2026-07-08/
END:VEVENT
BEGIN:VEVENT
DTSTART;TZID=America/Los_Angeles:20260709T080000
DTEND;TZID=America/Los_Angeles:20260709T090000
DTSTAMP:20260423T124204
CREATED:20201106T220137Z
LAST-MODIFIED:20201106T220137Z
UID:7672-1783584000-1783587600@hfparish.com
SUMMARY:Thursday Mass
DESCRIPTION:
URL:https://hfparish.com/event/thursday-mass-2-2026-07-09/
END:VEVENT
BEGIN:VEVENT
DTSTART;TZID=America/Los_Angeles:20260710T080000
DTEND;TZID=America/Los_Angeles:20260710T090000
DTSTAMP:20260423T124204
CREATED:20201106T220328Z
LAST-MODIFIED:20201106T220328Z
UID:7678-1783670400-1783674000@hfparish.com
SUMMARY:Friday Mass
DESCRIPTION:
URL:https://hfparish.com/event/friday-mass-2026-07-10/
END:VEVENT
BEGIN:VEVENT
DTSTART;TZID=America/Los_Angeles:20260711T150000
DTEND;TZID=America/Los_Angeles:20260711T153000
DTSTAMP:20260423T124204
CREATED:20220228T230620Z
LAST-MODIFIED:20220228T230620Z
UID:7680-1783782000-1783783800@hfparish.com
SUMMARY:Confessions
DESCRIPTION:Confessions are held every Saturday unless otherwise announced.
URL:https://hfparish.com/event/confessions-2-2026-07-11/
END:VEVENT
BEGIN:VEVENT
DTSTART;TZID=America/Los_Angeles:20260711T160000
DTEND;TZID=America/Los_Angeles:20260711T170000
DTSTAMP:20260423T124204
CREATED:20201106T220418Z
LAST-MODIFIED:20201106T220418Z
UID:7681-1783785600-1783789200@hfparish.com
SUMMARY:Saturday Mass
DESCRIPTION:
URL:https://hfparish.com/event/saturday-mass-2026-07-11/
END:VEVENT
BEGIN:VEVENT
DTSTART;TZID=America/Los_Angeles:20260712T090000
DTEND;TZID=America/Los_Angeles:20260712T100000
DTSTAMP:20260423T124204
CREATED:20201106T220522Z
LAST-MODIFIED:20201106T220522Z
UID:7682-1783846800-1783850400@hfparish.com
SUMMARY:Sunday Mass
DESCRIPTION:
URL:https://hfparish.com/event/sunday-mass-2026-07-12/
END:VEVENT
BEGIN:VEVENT
DTSTART;TZID=America/Los_Angeles:20260713T080000
DTEND;TZID=America/Los_Angeles:20260713T083000
DTSTAMP:20260423T124204
CREATED:20201106T215649Z
LAST-MODIFIED:20201106T215649Z
UID:7683-1783929600-1783931400@hfparish.com
SUMMARY:Monday Mass
DESCRIPTION:
URL:https://hfparish.com/event/monday-mass-2-2026-07-13/
END:VEVENT
BEGIN:VEVENT
DTSTART;TZID=America/Los_Angeles:20260713T084500
DTEND;TZID=America/Los_Angeles:20260713T100000
DTSTAMP:20260423T124204
CREATED:20220228T233517Z
LAST-MODIFIED:20220228T233517Z
UID:7684-1783932300-1783936800@hfparish.com
SUMMARY:Ladies Prayer Group
DESCRIPTION:
URL:https://hfparish.com/event/ladies-prayer-group-2-2026-07-13/
LOCATION:Holy Family Church Hall\, 1109 Chestnut St\, Clarkston\, WA\, 99403\, United States
END:VEVENT
BEGIN:VEVENT
DTSTART;TZID=America/Los_Angeles:20260715T093000
DTEND;TZID=America/Los_Angeles:20260715T103000
DTSTAMP:20260423T124204
CREATED:20220228T230818Z
LAST-MODIFIED:20220228T230818Z
UID:7690-1784107800-1784111400@hfparish.com
SUMMARY:Confession
DESCRIPTION:Confessions are every Wednesday after Mass unless otherwise announced.
URL:https://hfparish.com/event/confession-2026-07-15/
END:VEVENT
BEGIN:VEVENT
DTSTART;TZID=America/Los_Angeles:20260716T080000
DTEND;TZID=America/Los_Angeles:20260716T090000
DTSTAMP:20260423T124204
CREATED:20201106T220137Z
LAST-MODIFIED:20201106T220137Z
UID:7691-1784188800-1784192400@hfparish.com
SUMMARY:Thursday Mass
DESCRIPTION:
URL:https://hfparish.com/event/thursday-mass-2-2026-07-16/
END:VEVENT
BEGIN:VEVENT
DTSTART;TZID=America/Los_Angeles:20260717T080000
DTEND;TZID=America/Los_Angeles:20260717T090000
DTSTAMP:20260423T124204
CREATED:20201106T220328Z
LAST-MODIFIED:20201106T220328Z
UID:7694-1784275200-1784278800@hfparish.com
SUMMARY:Friday Mass
DESCRIPTION:
URL:https://hfparish.com/event/friday-mass-2026-07-17/
END:VEVENT
BEGIN:VEVENT
DTSTART;TZID=America/Los_Angeles:20260718T150000
DTEND;TZID=America/Los_Angeles:20260718T153000
DTSTAMP:20260423T124204
CREATED:20220228T230620Z
LAST-MODIFIED:20220228T230620Z
UID:7695-1784386800-1784388600@hfparish.com
SUMMARY:Confessions
DESCRIPTION:Confessions are held every Saturday unless otherwise announced.
URL:https://hfparish.com/event/confessions-2-2026-07-18/
END:VEVENT
BEGIN:VEVENT
DTSTART;TZID=America/Los_Angeles:20260718T160000
DTEND;TZID=America/Los_Angeles:20260718T170000
DTSTAMP:20260423T124204
CREATED:20201106T220418Z
LAST-MODIFIED:20201106T220418Z
UID:7696-1784390400-1784394000@hfparish.com
SUMMARY:Saturday Mass
DESCRIPTION:
URL:https://hfparish.com/event/saturday-mass-2026-07-18/
END:VEVENT
BEGIN:VEVENT
DTSTART;TZID=America/Los_Angeles:20260719T090000
DTEND;TZID=America/Los_Angeles:20260719T100000
DTSTAMP:20260423T124204
CREATED:20201106T220522Z
LAST-MODIFIED:20201106T220522Z
UID:7697-1784451600-1784455200@hfparish.com
SUMMARY:Sunday Mass
DESCRIPTION:
URL:https://hfparish.com/event/sunday-mass-2026-07-19/
END:VEVENT
BEGIN:VEVENT
DTSTART;TZID=America/Los_Angeles:20260720T080000
DTEND;TZID=America/Los_Angeles:20260720T083000
DTSTAMP:20260423T124204
CREATED:20201106T215649Z
LAST-MODIFIED:20201106T215649Z
UID:7698-1784534400-1784536200@hfparish.com
SUMMARY:Monday Mass
DESCRIPTION:
URL:https://hfparish.com/event/monday-mass-2-2026-07-20/
END:VEVENT
BEGIN:VEVENT
DTSTART;TZID=America/Los_Angeles:20260720T084500
DTEND;TZID=America/Los_Angeles:20260720T100000
DTSTAMP:20260423T124204
CREATED:20220228T233517Z
LAST-MODIFIED:20220228T233517Z
UID:7699-1784537100-1784541600@hfparish.com
SUMMARY:Ladies Prayer Group
DESCRIPTION:
URL:https://hfparish.com/event/ladies-prayer-group-2-2026-07-20/
LOCATION:Holy Family Church Hall\, 1109 Chestnut St\, Clarkston\, WA\, 99403\, United States
END:VEVENT
BEGIN:VEVENT
DTSTART;TZID=America/Los_Angeles:20260722T093000
DTEND;TZID=America/Los_Angeles:20260722T103000
DTSTAMP:20260423T124204
CREATED:20220228T230818Z
LAST-MODIFIED:20220228T230818Z
UID:7704-1784712600-1784716200@hfparish.com
SUMMARY:Confession
DESCRIPTION:Confessions are every Wednesday after Mass unless otherwise announced.
URL:https://hfparish.com/event/confession-2026-07-22/
END:VEVENT
BEGIN:VEVENT
DTSTART;TZID=America/Los_Angeles:20260723T080000
DTEND;TZID=America/Los_Angeles:20260723T090000
DTSTAMP:20260423T124204
CREATED:20201106T220137Z
LAST-MODIFIED:20201106T220137Z
UID:7707-1784793600-1784797200@hfparish.com
SUMMARY:Thursday Mass
DESCRIPTION:
URL:https://hfparish.com/event/thursday-mass-2-2026-07-23/
END:VEVENT
BEGIN:VEVENT
DTSTART;TZID=America/Los_Angeles:20260724T080000
DTEND;TZID=America/Los_Angeles:20260724T090000
DTSTAMP:20260423T124204
CREATED:20201106T220328Z
LAST-MODIFIED:20201106T220328Z
UID:7708-1784880000-1784883600@hfparish.com
SUMMARY:Friday Mass
DESCRIPTION:
URL:https://hfparish.com/event/friday-mass-2026-07-24/
END:VEVENT
BEGIN:VEVENT
DTSTART;TZID=America/Los_Angeles:20260725T150000
DTEND;TZID=America/Los_Angeles:20260725T153000
DTSTAMP:20260423T124204
CREATED:20220228T230620Z
LAST-MODIFIED:20220228T230620Z
UID:7710-1784991600-1784993400@hfparish.com
SUMMARY:Confessions
DESCRIPTION:Confessions are held every Saturday unless otherwise announced.
URL:https://hfparish.com/event/confessions-2-2026-07-25/
END:VEVENT
BEGIN:VEVENT
DTSTART;TZID=America/Los_Angeles:20260725T160000
DTEND;TZID=America/Los_Angeles:20260725T170000
DTSTAMP:20260423T124204
CREATED:20201106T220418Z
LAST-MODIFIED:20201106T220418Z
UID:7711-1784995200-1784998800@hfparish.com
SUMMARY:Saturday Mass
DESCRIPTION:
URL:https://hfparish.com/event/saturday-mass-2026-07-25/
END:VEVENT
BEGIN:VEVENT
DTSTART;TZID=America/Los_Angeles:20260726T090000
DTEND;TZID=America/Los_Angeles:20260726T100000
DTSTAMP:20260423T124204
CREATED:20201106T220522Z
LAST-MODIFIED:20201106T220522Z
UID:7712-1785056400-1785060000@hfparish.com
SUMMARY:Sunday Mass
DESCRIPTION:
URL:https://hfparish.com/event/sunday-mass-2026-07-26/
END:VEVENT
END:VCALENDAR