BEGIN:VCALENDAR
VERSION:2.0
PRODID:-//Holy Family Catholic Church - ECPv6.15.20//NONSGML v1.0//EN
CALSCALE:GREGORIAN
METHOD:PUBLISH
X-ORIGINAL-URL:https://hfparish.com
X-WR-CALDESC:Events for Holy Family Catholic Church
REFRESH-INTERVAL;VALUE=DURATION:PT1H
X-Robots-Tag:noindex
X-PUBLISHED-TTL:PT1H
BEGIN:VTIMEZONE
TZID:America/Los_Angeles
BEGIN:DAYLIGHT
TZOFFSETFROM:-0800
TZOFFSETTO:-0700
TZNAME:PDT
DTSTART:20250309T100000
END:DAYLIGHT
BEGIN:STANDARD
TZOFFSETFROM:-0700
TZOFFSETTO:-0800
TZNAME:PST
DTSTART:20251102T090000
END:STANDARD
BEGIN:DAYLIGHT
TZOFFSETFROM:-0800
TZOFFSETTO:-0700
TZNAME:PDT
DTSTART:20260308T100000
END:DAYLIGHT
BEGIN:STANDARD
TZOFFSETFROM:-0700
TZOFFSETTO:-0800
TZNAME:PST
DTSTART:20261101T090000
END:STANDARD
BEGIN:DAYLIGHT
TZOFFSETFROM:-0800
TZOFFSETTO:-0700
TZNAME:PDT
DTSTART:20270314T100000
END:DAYLIGHT
BEGIN:STANDARD
TZOFFSETFROM:-0700
TZOFFSETTO:-0800
TZNAME:PST
DTSTART:20271107T090000
END:STANDARD
END:VTIMEZONE
BEGIN:VEVENT
DTSTART;TZID=America/Los_Angeles:20260902T093000
DTEND;TZID=America/Los_Angeles:20260902T103000
DTSTAMP:20260423T155726
CREATED:20220228T230818Z
LAST-MODIFIED:20220228T230818Z
UID:7792-1788341400-1788345000@hfparish.com
SUMMARY:Confession
DESCRIPTION:Confessions are every Wednesday after Mass unless otherwise announced.
URL:https://hfparish.com/event/confession-2026-09-02/
END:VEVENT
BEGIN:VEVENT
DTSTART;TZID=America/Los_Angeles:20260903T080000
DTEND;TZID=America/Los_Angeles:20260903T090000
DTSTAMP:20260423T155726
CREATED:20201106T220137Z
LAST-MODIFIED:20201106T220137Z
UID:7793-1788422400-1788426000@hfparish.com
SUMMARY:Thursday Mass
DESCRIPTION:
URL:https://hfparish.com/event/thursday-mass-2-2026-09-03/
END:VEVENT
BEGIN:VEVENT
DTSTART;TZID=America/Los_Angeles:20260904T080000
DTEND;TZID=America/Los_Angeles:20260904T090000
DTSTAMP:20260423T155726
CREATED:20201106T220328Z
LAST-MODIFIED:20201106T220328Z
UID:7794-1788508800-1788512400@hfparish.com
SUMMARY:Friday Mass
DESCRIPTION:
URL:https://hfparish.com/event/friday-mass-2026-09-04/
END:VEVENT
BEGIN:VEVENT
DTSTART;TZID=America/Los_Angeles:20260905T150000
DTEND;TZID=America/Los_Angeles:20260905T153000
DTSTAMP:20260423T155726
CREATED:20220228T230620Z
LAST-MODIFIED:20220228T230620Z
UID:7798-1788620400-1788622200@hfparish.com
SUMMARY:Confessions
DESCRIPTION:Confessions are held every Saturday unless otherwise announced.
URL:https://hfparish.com/event/confessions-2-2026-09-05/
END:VEVENT
BEGIN:VEVENT
DTSTART;TZID=America/Los_Angeles:20260905T160000
DTEND;TZID=America/Los_Angeles:20260905T170000
DTSTAMP:20260423T155726
CREATED:20201106T220418Z
LAST-MODIFIED:20201106T220418Z
UID:7799-1788624000-1788627600@hfparish.com
SUMMARY:Saturday Mass
DESCRIPTION:
URL:https://hfparish.com/event/saturday-mass-2026-09-05/
END:VEVENT
BEGIN:VEVENT
DTSTART;TZID=America/Los_Angeles:20260906T090000
DTEND;TZID=America/Los_Angeles:20260906T100000
DTSTAMP:20260423T155726
CREATED:20201106T220522Z
LAST-MODIFIED:20201106T220522Z
UID:7800-1788685200-1788688800@hfparish.com
SUMMARY:Sunday Mass
DESCRIPTION:
URL:https://hfparish.com/event/sunday-mass-2026-09-06/
END:VEVENT
BEGIN:VEVENT
DTSTART;TZID=America/Los_Angeles:20260907T080000
DTEND;TZID=America/Los_Angeles:20260907T083000
DTSTAMP:20260423T155726
CREATED:20201106T215649Z
LAST-MODIFIED:20201106T215649Z
UID:7801-1788768000-1788769800@hfparish.com
SUMMARY:Monday Mass
DESCRIPTION:
URL:https://hfparish.com/event/monday-mass-2-2026-09-07/
END:VEVENT
BEGIN:VEVENT
DTSTART;TZID=America/Los_Angeles:20260907T084500
DTEND;TZID=America/Los_Angeles:20260907T100000
DTSTAMP:20260423T155726
CREATED:20220228T233517Z
LAST-MODIFIED:20220228T233517Z
UID:7802-1788770700-1788775200@hfparish.com
SUMMARY:Ladies Prayer Group
DESCRIPTION:
URL:https://hfparish.com/event/ladies-prayer-group-2-2026-09-07/
LOCATION:Holy Family Church Hall\, 1109 Chestnut St\, Clarkston\, WA\, 99403\, United States
END:VEVENT
BEGIN:VEVENT
DTSTART;TZID=America/Los_Angeles:20260909T093000
DTEND;TZID=America/Los_Angeles:20260909T103000
DTSTAMP:20260423T155726
CREATED:20220228T230818Z
LAST-MODIFIED:20220228T230818Z
UID:7804-1788946200-1788949800@hfparish.com
SUMMARY:Confession
DESCRIPTION:Confessions are every Wednesday after Mass unless otherwise announced.
URL:https://hfparish.com/event/confession-2026-09-09/
END:VEVENT
BEGIN:VEVENT
DTSTART;TZID=America/Los_Angeles:20260910T080000
DTEND;TZID=America/Los_Angeles:20260910T090000
DTSTAMP:20260423T155726
CREATED:20201106T220137Z
LAST-MODIFIED:20201106T220137Z
UID:7807-1789027200-1789030800@hfparish.com
SUMMARY:Thursday Mass
DESCRIPTION:
URL:https://hfparish.com/event/thursday-mass-2-2026-09-10/
END:VEVENT
BEGIN:VEVENT
DTSTART;TZID=America/Los_Angeles:20260911T080000
DTEND;TZID=America/Los_Angeles:20260911T090000
DTSTAMP:20260423T155726
CREATED:20201106T220328Z
LAST-MODIFIED:20201106T220328Z
UID:7808-1789113600-1789117200@hfparish.com
SUMMARY:Friday Mass
DESCRIPTION:
URL:https://hfparish.com/event/friday-mass-2026-09-11/
END:VEVENT
BEGIN:VEVENT
DTSTART;TZID=America/Los_Angeles:20260912T150000
DTEND;TZID=America/Los_Angeles:20260912T153000
DTSTAMP:20260423T155726
CREATED:20220228T230620Z
LAST-MODIFIED:20220228T230620Z
UID:7809-1789225200-1789227000@hfparish.com
SUMMARY:Confessions
DESCRIPTION:Confessions are held every Saturday unless otherwise announced.
URL:https://hfparish.com/event/confessions-2-2026-09-12/
END:VEVENT
BEGIN:VEVENT
DTSTART;TZID=America/Los_Angeles:20260912T160000
DTEND;TZID=America/Los_Angeles:20260912T170000
DTSTAMP:20260423T155726
CREATED:20201106T220418Z
LAST-MODIFIED:20201106T220418Z
UID:7810-1789228800-1789232400@hfparish.com
SUMMARY:Saturday Mass
DESCRIPTION:
URL:https://hfparish.com/event/saturday-mass-2026-09-12/
END:VEVENT
BEGIN:VEVENT
DTSTART;TZID=America/Los_Angeles:20260913T090000
DTEND;TZID=America/Los_Angeles:20260913T100000
DTSTAMP:20260423T155726
CREATED:20201106T220522Z
LAST-MODIFIED:20201106T220522Z
UID:7811-1789290000-1789293600@hfparish.com
SUMMARY:Sunday Mass
DESCRIPTION:
URL:https://hfparish.com/event/sunday-mass-2026-09-13/
END:VEVENT
BEGIN:VEVENT
DTSTART;TZID=America/Los_Angeles:20260914T080000
DTEND;TZID=America/Los_Angeles:20260914T083000
DTSTAMP:20260423T155726
CREATED:20201106T215649Z
LAST-MODIFIED:20201106T215649Z
UID:7812-1789372800-1789374600@hfparish.com
SUMMARY:Monday Mass
DESCRIPTION:
URL:https://hfparish.com/event/monday-mass-2-2026-09-14/
END:VEVENT
BEGIN:VEVENT
DTSTART;TZID=America/Los_Angeles:20260914T084500
DTEND;TZID=America/Los_Angeles:20260914T100000
DTSTAMP:20260423T155726
CREATED:20220228T233517Z
LAST-MODIFIED:20220228T233517Z
UID:7813-1789375500-1789380000@hfparish.com
SUMMARY:Ladies Prayer Group
DESCRIPTION:
URL:https://hfparish.com/event/ladies-prayer-group-2-2026-09-14/
LOCATION:Holy Family Church Hall\, 1109 Chestnut St\, Clarkston\, WA\, 99403\, United States
END:VEVENT
BEGIN:VEVENT
DTSTART;TZID=America/Los_Angeles:20260916T093000
DTEND;TZID=America/Los_Angeles:20260916T103000
DTSTAMP:20260423T155726
CREATED:20220228T230818Z
LAST-MODIFIED:20220228T230818Z
UID:7823-1789551000-1789554600@hfparish.com
SUMMARY:Confession
DESCRIPTION:Confessions are every Wednesday after Mass unless otherwise announced.
URL:https://hfparish.com/event/confession-2026-09-16/
END:VEVENT
BEGIN:VEVENT
DTSTART;TZID=America/Los_Angeles:20260917T080000
DTEND;TZID=America/Los_Angeles:20260917T090000
DTSTAMP:20260423T155726
CREATED:20201106T220137Z
LAST-MODIFIED:20201106T220137Z
UID:7825-1789632000-1789635600@hfparish.com
SUMMARY:Thursday Mass
DESCRIPTION:
URL:https://hfparish.com/event/thursday-mass-2-2026-09-17/
END:VEVENT
BEGIN:VEVENT
DTSTART;TZID=America/Los_Angeles:20260918T080000
DTEND;TZID=America/Los_Angeles:20260918T090000
DTSTAMP:20260423T155726
CREATED:20201106T220328Z
LAST-MODIFIED:20201106T220328Z
UID:7826-1789718400-1789722000@hfparish.com
SUMMARY:Friday Mass
DESCRIPTION:
URL:https://hfparish.com/event/friday-mass-2026-09-18/
END:VEVENT
BEGIN:VEVENT
DTSTART;TZID=America/Los_Angeles:20260919T150000
DTEND;TZID=America/Los_Angeles:20260919T153000
DTSTAMP:20260423T155726
CREATED:20220228T230620Z
LAST-MODIFIED:20220228T230620Z
UID:7827-1789830000-1789831800@hfparish.com
SUMMARY:Confessions
DESCRIPTION:Confessions are held every Saturday unless otherwise announced.
URL:https://hfparish.com/event/confessions-2-2026-09-19/
END:VEVENT
BEGIN:VEVENT
DTSTART;TZID=America/Los_Angeles:20260919T160000
DTEND;TZID=America/Los_Angeles:20260919T170000
DTSTAMP:20260423T155726
CREATED:20201106T220418Z
LAST-MODIFIED:20201106T220418Z
UID:7828-1789833600-1789837200@hfparish.com
SUMMARY:Saturday Mass
DESCRIPTION:
URL:https://hfparish.com/event/saturday-mass-2026-09-19/
END:VEVENT
BEGIN:VEVENT
DTSTART;TZID=America/Los_Angeles:20260920T090000
DTEND;TZID=America/Los_Angeles:20260920T100000
DTSTAMP:20260423T155726
CREATED:20201106T220522Z
LAST-MODIFIED:20201106T220522Z
UID:7831-1789894800-1789898400@hfparish.com
SUMMARY:Sunday Mass
DESCRIPTION:
URL:https://hfparish.com/event/sunday-mass-2026-09-20/
END:VEVENT
BEGIN:VEVENT
DTSTART;TZID=America/Los_Angeles:20260921T080000
DTEND;TZID=America/Los_Angeles:20260921T083000
DTSTAMP:20260423T155726
CREATED:20201106T215649Z
LAST-MODIFIED:20201106T215649Z
UID:7832-1789977600-1789979400@hfparish.com
SUMMARY:Monday Mass
DESCRIPTION:
URL:https://hfparish.com/event/monday-mass-2-2026-09-21/
END:VEVENT
BEGIN:VEVENT
DTSTART;TZID=America/Los_Angeles:20260921T084500
DTEND;TZID=America/Los_Angeles:20260921T100000
DTSTAMP:20260423T155726
CREATED:20220228T233517Z
LAST-MODIFIED:20220228T233517Z
UID:7833-1789980300-1789984800@hfparish.com
SUMMARY:Ladies Prayer Group
DESCRIPTION:
URL:https://hfparish.com/event/ladies-prayer-group-2-2026-09-21/
LOCATION:Holy Family Church Hall\, 1109 Chestnut St\, Clarkston\, WA\, 99403\, United States
END:VEVENT
BEGIN:VEVENT
DTSTART;TZID=America/Los_Angeles:20260923T093000
DTEND;TZID=America/Los_Angeles:20260923T103000
DTSTAMP:20260423T155726
CREATED:20220228T230818Z
LAST-MODIFIED:20220228T230818Z
UID:7839-1790155800-1790159400@hfparish.com
SUMMARY:Confession
DESCRIPTION:Confessions are every Wednesday after Mass unless otherwise announced.
URL:https://hfparish.com/event/confession-2026-09-23/
END:VEVENT
BEGIN:VEVENT
DTSTART;TZID=America/Los_Angeles:20260924T080000
DTEND;TZID=America/Los_Angeles:20260924T090000
DTSTAMP:20260423T155726
CREATED:20201106T220137Z
LAST-MODIFIED:20201106T220137Z
UID:7842-1790236800-1790240400@hfparish.com
SUMMARY:Thursday Mass
DESCRIPTION:
URL:https://hfparish.com/event/thursday-mass-2-2026-09-24/
END:VEVENT
BEGIN:VEVENT
DTSTART;TZID=America/Los_Angeles:20260925T080000
DTEND;TZID=America/Los_Angeles:20260925T090000
DTSTAMP:20260423T155726
CREATED:20201106T220328Z
LAST-MODIFIED:20201106T220328Z
UID:7843-1790323200-1790326800@hfparish.com
SUMMARY:Friday Mass
DESCRIPTION:
URL:https://hfparish.com/event/friday-mass-2026-09-25/
END:VEVENT
BEGIN:VEVENT
DTSTART;TZID=America/Los_Angeles:20260926T150000
DTEND;TZID=America/Los_Angeles:20260926T153000
DTSTAMP:20260423T155726
CREATED:20220228T230620Z
LAST-MODIFIED:20220228T230620Z
UID:7849-1790434800-1790436600@hfparish.com
SUMMARY:Confessions
DESCRIPTION:Confessions are held every Saturday unless otherwise announced.
URL:https://hfparish.com/event/confessions-2-2026-09-26/
END:VEVENT
BEGIN:VEVENT
DTSTART;TZID=America/Los_Angeles:20260926T160000
DTEND;TZID=America/Los_Angeles:20260926T170000
DTSTAMP:20260423T155726
CREATED:20201106T220418Z
LAST-MODIFIED:20201106T220418Z
UID:7850-1790438400-1790442000@hfparish.com
SUMMARY:Saturday Mass
DESCRIPTION:
URL:https://hfparish.com/event/saturday-mass-2026-09-26/
END:VEVENT
BEGIN:VEVENT
DTSTART;TZID=America/Los_Angeles:20260927T090000
DTEND;TZID=America/Los_Angeles:20260927T100000
DTSTAMP:20260423T155726
CREATED:20201106T220522Z
LAST-MODIFIED:20201106T220522Z
UID:7851-1790499600-1790503200@hfparish.com
SUMMARY:Sunday Mass
DESCRIPTION:
URL:https://hfparish.com/event/sunday-mass-2026-09-27/
END:VEVENT
END:VCALENDAR