BEGIN:VCALENDAR
VERSION:2.0
PRODID:-//Holy Family Catholic Church - ECPv6.15.20//NONSGML v1.0//EN
CALSCALE:GREGORIAN
METHOD:PUBLISH
X-WR-CALNAME:Holy Family Catholic Church
X-ORIGINAL-URL:https://hfparish.com
X-WR-CALDESC:Events for Holy Family Catholic Church
REFRESH-INTERVAL;VALUE=DURATION:PT1H
X-Robots-Tag:noindex
X-PUBLISHED-TTL:PT1H
BEGIN:VTIMEZONE
TZID:America/Los_Angeles
BEGIN:DAYLIGHT
TZOFFSETFROM:-0800
TZOFFSETTO:-0700
TZNAME:PDT
DTSTART:20250309T100000
END:DAYLIGHT
BEGIN:STANDARD
TZOFFSETFROM:-0700
TZOFFSETTO:-0800
TZNAME:PST
DTSTART:20251102T090000
END:STANDARD
BEGIN:DAYLIGHT
TZOFFSETFROM:-0800
TZOFFSETTO:-0700
TZNAME:PDT
DTSTART:20260308T100000
END:DAYLIGHT
BEGIN:STANDARD
TZOFFSETFROM:-0700
TZOFFSETTO:-0800
TZNAME:PST
DTSTART:20261101T090000
END:STANDARD
BEGIN:DAYLIGHT
TZOFFSETFROM:-0800
TZOFFSETTO:-0700
TZNAME:PDT
DTSTART:20270314T100000
END:DAYLIGHT
BEGIN:STANDARD
TZOFFSETFROM:-0700
TZOFFSETTO:-0800
TZNAME:PST
DTSTART:20271107T090000
END:STANDARD
END:VTIMEZONE
BEGIN:VEVENT
DTSTART;TZID=America/Los_Angeles:20261101T090000
DTEND;TZID=America/Los_Angeles:20261101T100000
DTSTAMP:20260423T194240
CREATED:20201106T220522Z
LAST-MODIFIED:20201106T220522Z
UID:7935-1793523600-1793527200@hfparish.com
SUMMARY:Sunday Mass
DESCRIPTION:
URL:https://hfparish.com/event/sunday-mass-2026-11-01/
END:VEVENT
BEGIN:VEVENT
DTSTART;TZID=America/Los_Angeles:20261102T080000
DTEND;TZID=America/Los_Angeles:20261102T083000
DTSTAMP:20260423T194240
CREATED:20201106T215649Z
LAST-MODIFIED:20201106T215649Z
UID:7936-1793606400-1793608200@hfparish.com
SUMMARY:Monday Mass
DESCRIPTION:
URL:https://hfparish.com/event/monday-mass-2-2026-11-02/
END:VEVENT
BEGIN:VEVENT
DTSTART;TZID=America/Los_Angeles:20261102T084500
DTEND;TZID=America/Los_Angeles:20261102T100000
DTSTAMP:20260423T194240
CREATED:20220228T233517Z
LAST-MODIFIED:20220228T233517Z
UID:7937-1793609100-1793613600@hfparish.com
SUMMARY:Ladies Prayer Group
DESCRIPTION:
URL:https://hfparish.com/event/ladies-prayer-group-2-2026-11-02/
LOCATION:Holy Family Church Hall\, 1109 Chestnut St\, Clarkston\, WA\, 99403\, United States
END:VEVENT
BEGIN:VEVENT
DTSTART;TZID=America/Los_Angeles:20261104T093000
DTEND;TZID=America/Los_Angeles:20261104T103000
DTSTAMP:20260423T194240
CREATED:20220228T230818Z
LAST-MODIFIED:20220228T230818Z
UID:7943-1793784600-1793788200@hfparish.com
SUMMARY:Confession
DESCRIPTION:Confessions are every Wednesday after Mass unless otherwise announced.
URL:https://hfparish.com/event/confession-2026-11-04/
END:VEVENT
BEGIN:VEVENT
DTSTART;TZID=America/Los_Angeles:20261105T080000
DTEND;TZID=America/Los_Angeles:20261105T090000
DTSTAMP:20260423T194240
CREATED:20201106T220137Z
LAST-MODIFIED:20201106T220137Z
UID:7944-1793865600-1793869200@hfparish.com
SUMMARY:Thursday Mass
DESCRIPTION:
URL:https://hfparish.com/event/thursday-mass-2-2026-11-05/
END:VEVENT
BEGIN:VEVENT
DTSTART;TZID=America/Los_Angeles:20261106T080000
DTEND;TZID=America/Los_Angeles:20261106T090000
DTSTAMP:20260423T194240
CREATED:20201106T220328Z
LAST-MODIFIED:20201106T220328Z
UID:7947-1793952000-1793955600@hfparish.com
SUMMARY:Friday Mass
DESCRIPTION:
URL:https://hfparish.com/event/friday-mass-2026-11-06/
END:VEVENT
BEGIN:VEVENT
DTSTART;TZID=America/Los_Angeles:20261107T150000
DTEND;TZID=America/Los_Angeles:20261107T153000
DTSTAMP:20260423T194240
CREATED:20220228T230620Z
LAST-MODIFIED:20220228T230620Z
UID:7950-1794063600-1794065400@hfparish.com
SUMMARY:Confessions
DESCRIPTION:Confessions are held every Saturday unless otherwise announced.
URL:https://hfparish.com/event/confessions-2-2026-11-07/
END:VEVENT
BEGIN:VEVENT
DTSTART;TZID=America/Los_Angeles:20261107T160000
DTEND;TZID=America/Los_Angeles:20261107T170000
DTSTAMP:20260423T194240
CREATED:20201106T220418Z
LAST-MODIFIED:20201106T220418Z
UID:7951-1794067200-1794070800@hfparish.com
SUMMARY:Saturday Mass
DESCRIPTION:
URL:https://hfparish.com/event/saturday-mass-2026-11-07/
END:VEVENT
BEGIN:VEVENT
DTSTART;TZID=America/Los_Angeles:20261108T090000
DTEND;TZID=America/Los_Angeles:20261108T100000
DTSTAMP:20260423T194240
CREATED:20201106T220522Z
LAST-MODIFIED:20201106T220522Z
UID:7952-1794128400-1794132000@hfparish.com
SUMMARY:Sunday Mass
DESCRIPTION:
URL:https://hfparish.com/event/sunday-mass-2026-11-08/
END:VEVENT
BEGIN:VEVENT
DTSTART;TZID=America/Los_Angeles:20261109T080000
DTEND;TZID=America/Los_Angeles:20261109T083000
DTSTAMP:20260423T194240
CREATED:20201106T215649Z
LAST-MODIFIED:20201106T215649Z
UID:7953-1794211200-1794213000@hfparish.com
SUMMARY:Monday Mass
DESCRIPTION:
URL:https://hfparish.com/event/monday-mass-2-2026-11-09/
END:VEVENT
BEGIN:VEVENT
DTSTART;TZID=America/Los_Angeles:20261109T084500
DTEND;TZID=America/Los_Angeles:20261109T100000
DTSTAMP:20260423T194240
CREATED:20220228T233517Z
LAST-MODIFIED:20220228T233517Z
UID:7954-1794213900-1794218400@hfparish.com
SUMMARY:Ladies Prayer Group
DESCRIPTION:
URL:https://hfparish.com/event/ladies-prayer-group-2-2026-11-09/
LOCATION:Holy Family Church Hall\, 1109 Chestnut St\, Clarkston\, WA\, 99403\, United States
END:VEVENT
BEGIN:VEVENT
DTSTART;TZID=America/Los_Angeles:20261111T093000
DTEND;TZID=America/Los_Angeles:20261111T103000
DTSTAMP:20260423T194240
CREATED:20220228T230818Z
LAST-MODIFIED:20220228T230818Z
UID:7958-1794389400-1794393000@hfparish.com
SUMMARY:Confession
DESCRIPTION:Confessions are every Wednesday after Mass unless otherwise announced.
URL:https://hfparish.com/event/confession-2026-11-11/
END:VEVENT
BEGIN:VEVENT
DTSTART;TZID=America/Los_Angeles:20261112T080000
DTEND;TZID=America/Los_Angeles:20261112T090000
DTSTAMP:20260423T194240
CREATED:20201106T220137Z
LAST-MODIFIED:20201106T220137Z
UID:7962-1794470400-1794474000@hfparish.com
SUMMARY:Thursday Mass
DESCRIPTION:
URL:https://hfparish.com/event/thursday-mass-2-2026-11-12/
END:VEVENT
BEGIN:VEVENT
DTSTART;TZID=America/Los_Angeles:20261113T080000
DTEND;TZID=America/Los_Angeles:20261113T090000
DTSTAMP:20260423T194240
CREATED:20201106T220328Z
LAST-MODIFIED:20201106T220328Z
UID:7966-1794556800-1794560400@hfparish.com
SUMMARY:Friday Mass
DESCRIPTION:
URL:https://hfparish.com/event/friday-mass-2026-11-13/
END:VEVENT
BEGIN:VEVENT
DTSTART;TZID=America/Los_Angeles:20261114T150000
DTEND;TZID=America/Los_Angeles:20261114T153000
DTSTAMP:20260423T194240
CREATED:20220228T230620Z
LAST-MODIFIED:20220228T230620Z
UID:7975-1794668400-1794670200@hfparish.com
SUMMARY:Confessions
DESCRIPTION:Confessions are held every Saturday unless otherwise announced.
URL:https://hfparish.com/event/confessions-2-2026-11-14/
END:VEVENT
BEGIN:VEVENT
DTSTART;TZID=America/Los_Angeles:20261114T160000
DTEND;TZID=America/Los_Angeles:20261114T170000
DTSTAMP:20260423T194240
CREATED:20201106T220418Z
LAST-MODIFIED:20201106T220418Z
UID:7976-1794672000-1794675600@hfparish.com
SUMMARY:Saturday Mass
DESCRIPTION:
URL:https://hfparish.com/event/saturday-mass-2026-11-14/
END:VEVENT
BEGIN:VEVENT
DTSTART;TZID=America/Los_Angeles:20261115T090000
DTEND;TZID=America/Los_Angeles:20261115T100000
DTSTAMP:20260423T194240
CREATED:20201106T220522Z
LAST-MODIFIED:20201106T220522Z
UID:7977-1794733200-1794736800@hfparish.com
SUMMARY:Sunday Mass
DESCRIPTION:
URL:https://hfparish.com/event/sunday-mass-2026-11-15/
END:VEVENT
BEGIN:VEVENT
DTSTART;TZID=America/Los_Angeles:20261116T080000
DTEND;TZID=America/Los_Angeles:20261116T083000
DTSTAMP:20260423T194240
CREATED:20201106T215649Z
LAST-MODIFIED:20201106T215649Z
UID:7978-1794816000-1794817800@hfparish.com
SUMMARY:Monday Mass
DESCRIPTION:
URL:https://hfparish.com/event/monday-mass-2-2026-11-16/
END:VEVENT
BEGIN:VEVENT
DTSTART;TZID=America/Los_Angeles:20261116T084500
DTEND;TZID=America/Los_Angeles:20261116T100000
DTSTAMP:20260423T194240
CREATED:20220228T233517Z
LAST-MODIFIED:20220228T233517Z
UID:7979-1794818700-1794823200@hfparish.com
SUMMARY:Ladies Prayer Group
DESCRIPTION:
URL:https://hfparish.com/event/ladies-prayer-group-2-2026-11-16/
LOCATION:Holy Family Church Hall\, 1109 Chestnut St\, Clarkston\, WA\, 99403\, United States
END:VEVENT
BEGIN:VEVENT
DTSTART;TZID=America/Los_Angeles:20261118T093000
DTEND;TZID=America/Los_Angeles:20261118T103000
DTSTAMP:20260423T194240
CREATED:20220228T230818Z
LAST-MODIFIED:20220228T230818Z
UID:7985-1794994200-1794997800@hfparish.com
SUMMARY:Confession
DESCRIPTION:Confessions are every Wednesday after Mass unless otherwise announced.
URL:https://hfparish.com/event/confession-2026-11-18/
END:VEVENT
BEGIN:VEVENT
DTSTART;TZID=America/Los_Angeles:20261119T080000
DTEND;TZID=America/Los_Angeles:20261119T090000
DTSTAMP:20260423T194240
CREATED:20201106T220137Z
LAST-MODIFIED:20201106T220137Z
UID:7986-1795075200-1795078800@hfparish.com
SUMMARY:Thursday Mass
DESCRIPTION:
URL:https://hfparish.com/event/thursday-mass-2-2026-11-19/
END:VEVENT
BEGIN:VEVENT
DTSTART;TZID=America/Los_Angeles:20261120T080000
DTEND;TZID=America/Los_Angeles:20261120T090000
DTSTAMP:20260423T194240
CREATED:20201106T220328Z
LAST-MODIFIED:20201106T220328Z
UID:7990-1795161600-1795165200@hfparish.com
SUMMARY:Friday Mass
DESCRIPTION:
URL:https://hfparish.com/event/friday-mass-2026-11-20/
END:VEVENT
BEGIN:VEVENT
DTSTART;TZID=America/Los_Angeles:20261121T150000
DTEND;TZID=America/Los_Angeles:20261121T153000
DTSTAMP:20260423T194240
CREATED:20220228T230620Z
LAST-MODIFIED:20220228T230620Z
UID:7997-1795273200-1795275000@hfparish.com
SUMMARY:Confessions
DESCRIPTION:Confessions are held every Saturday unless otherwise announced.
URL:https://hfparish.com/event/confessions-2-2026-11-21/
END:VEVENT
BEGIN:VEVENT
DTSTART;TZID=America/Los_Angeles:20261121T160000
DTEND;TZID=America/Los_Angeles:20261121T170000
DTSTAMP:20260423T194240
CREATED:20201106T220418Z
LAST-MODIFIED:20201106T220418Z
UID:7998-1795276800-1795280400@hfparish.com
SUMMARY:Saturday Mass
DESCRIPTION:
URL:https://hfparish.com/event/saturday-mass-2026-11-21/
END:VEVENT
BEGIN:VEVENT
DTSTART;TZID=America/Los_Angeles:20261122T090000
DTEND;TZID=America/Los_Angeles:20261122T100000
DTSTAMP:20260423T194240
CREATED:20201106T220522Z
LAST-MODIFIED:20201106T220522Z
UID:7999-1795338000-1795341600@hfparish.com
SUMMARY:Sunday Mass
DESCRIPTION:
URL:https://hfparish.com/event/sunday-mass-2026-11-22/
END:VEVENT
BEGIN:VEVENT
DTSTART;TZID=America/Los_Angeles:20261123T080000
DTEND;TZID=America/Los_Angeles:20261123T083000
DTSTAMP:20260423T194240
CREATED:20201106T215649Z
LAST-MODIFIED:20201106T215649Z
UID:8000-1795420800-1795422600@hfparish.com
SUMMARY:Monday Mass
DESCRIPTION:
URL:https://hfparish.com/event/monday-mass-2-2026-11-23/
END:VEVENT
BEGIN:VEVENT
DTSTART;TZID=America/Los_Angeles:20261123T084500
DTEND;TZID=America/Los_Angeles:20261123T100000
DTSTAMP:20260423T194240
CREATED:20220228T233517Z
LAST-MODIFIED:20220228T233517Z
UID:8001-1795423500-1795428000@hfparish.com
SUMMARY:Ladies Prayer Group
DESCRIPTION:
URL:https://hfparish.com/event/ladies-prayer-group-2-2026-11-23/
LOCATION:Holy Family Church Hall\, 1109 Chestnut St\, Clarkston\, WA\, 99403\, United States
END:VEVENT
BEGIN:VEVENT
DTSTART;TZID=America/Los_Angeles:20261125T093000
DTEND;TZID=America/Los_Angeles:20261125T103000
DTSTAMP:20260423T194240
CREATED:20220228T230818Z
LAST-MODIFIED:20220228T230818Z
UID:8005-1795599000-1795602600@hfparish.com
SUMMARY:Confession
DESCRIPTION:Confessions are every Wednesday after Mass unless otherwise announced.
URL:https://hfparish.com/event/confession-2026-11-25/
END:VEVENT
BEGIN:VEVENT
DTSTART;TZID=America/Los_Angeles:20261126T080000
DTEND;TZID=America/Los_Angeles:20261126T090000
DTSTAMP:20260423T194240
CREATED:20201106T220137Z
LAST-MODIFIED:20201106T220137Z
UID:8009-1795680000-1795683600@hfparish.com
SUMMARY:Thursday Mass
DESCRIPTION:
URL:https://hfparish.com/event/thursday-mass-2-2026-11-26/
END:VEVENT
BEGIN:VEVENT
DTSTART;TZID=America/Los_Angeles:20261127T080000
DTEND;TZID=America/Los_Angeles:20261127T090000
DTSTAMP:20260423T194240
CREATED:20201106T220328Z
LAST-MODIFIED:20201106T220328Z
UID:8010-1795766400-1795770000@hfparish.com
SUMMARY:Friday Mass
DESCRIPTION:
URL:https://hfparish.com/event/friday-mass-2026-11-27/
END:VEVENT
END:VCALENDAR