BEGIN:VCALENDAR
VERSION:2.0
PRODID:-//Holy Family Catholic Church - ECPv6.15.20//NONSGML v1.0//EN
CALSCALE:GREGORIAN
METHOD:PUBLISH
X-ORIGINAL-URL:https://hfparish.com
X-WR-CALDESC:Events for Holy Family Catholic Church
REFRESH-INTERVAL;VALUE=DURATION:PT1H
X-Robots-Tag:noindex
X-PUBLISHED-TTL:PT1H
BEGIN:VTIMEZONE
TZID:America/Los_Angeles
BEGIN:DAYLIGHT
TZOFFSETFROM:-0800
TZOFFSETTO:-0700
TZNAME:PDT
DTSTART:20260308T100000
END:DAYLIGHT
BEGIN:STANDARD
TZOFFSETFROM:-0700
TZOFFSETTO:-0800
TZNAME:PST
DTSTART:20261101T090000
END:STANDARD
BEGIN:DAYLIGHT
TZOFFSETFROM:-0800
TZOFFSETTO:-0700
TZNAME:PDT
DTSTART:20270314T100000
END:DAYLIGHT
BEGIN:STANDARD
TZOFFSETFROM:-0700
TZOFFSETTO:-0800
TZNAME:PST
DTSTART:20271107T090000
END:STANDARD
BEGIN:DAYLIGHT
TZOFFSETFROM:-0800
TZOFFSETTO:-0700
TZNAME:PDT
DTSTART:20280312T100000
END:DAYLIGHT
BEGIN:STANDARD
TZOFFSETFROM:-0700
TZOFFSETTO:-0800
TZNAME:PST
DTSTART:20281105T090000
END:STANDARD
END:VTIMEZONE
BEGIN:VEVENT
DTSTART;TZID=America/Los_Angeles:20270501T150000
DTEND;TZID=America/Los_Angeles:20270501T153000
DTSTAMP:20260424T090610
CREATED:20220228T230620Z
LAST-MODIFIED:20220228T230620Z
UID:8386-1809183600-1809185400@hfparish.com
SUMMARY:Confessions
DESCRIPTION:Confessions are held every Saturday unless otherwise announced.
URL:https://hfparish.com/event/confessions-2-2027-05-01/
END:VEVENT
BEGIN:VEVENT
DTSTART;TZID=America/Los_Angeles:20270501T160000
DTEND;TZID=America/Los_Angeles:20270501T170000
DTSTAMP:20260424T090610
CREATED:20201106T220418Z
LAST-MODIFIED:20201106T220418Z
UID:8387-1809187200-1809190800@hfparish.com
SUMMARY:Saturday Mass
DESCRIPTION:
URL:https://hfparish.com/event/saturday-mass-2027-05-01/
END:VEVENT
BEGIN:VEVENT
DTSTART;TZID=America/Los_Angeles:20270502T090000
DTEND;TZID=America/Los_Angeles:20270502T100000
DTSTAMP:20260424T090610
CREATED:20201106T220522Z
LAST-MODIFIED:20201106T220522Z
UID:8388-1809248400-1809252000@hfparish.com
SUMMARY:Sunday Mass
DESCRIPTION:
URL:https://hfparish.com/event/sunday-mass-2027-05-02/
END:VEVENT
BEGIN:VEVENT
DTSTART;TZID=America/Los_Angeles:20270503T080000
DTEND;TZID=America/Los_Angeles:20270503T083000
DTSTAMP:20260424T090610
CREATED:20201106T215649Z
LAST-MODIFIED:20201106T215649Z
UID:8389-1809331200-1809333000@hfparish.com
SUMMARY:Monday Mass
DESCRIPTION:
URL:https://hfparish.com/event/monday-mass-2-2027-05-03/
END:VEVENT
BEGIN:VEVENT
DTSTART;TZID=America/Los_Angeles:20270503T084500
DTEND;TZID=America/Los_Angeles:20270503T100000
DTSTAMP:20260424T090610
CREATED:20220228T233517Z
LAST-MODIFIED:20220228T233517Z
UID:8390-1809333900-1809338400@hfparish.com
SUMMARY:Ladies Prayer Group
DESCRIPTION:
URL:https://hfparish.com/event/ladies-prayer-group-2-2027-05-03/
LOCATION:Holy Family Church Hall\, 1109 Chestnut St\, Clarkston\, WA\, 99403\, United States
END:VEVENT
BEGIN:VEVENT
DTSTART;TZID=America/Los_Angeles:20270505T093000
DTEND;TZID=America/Los_Angeles:20270505T103000
DTSTAMP:20260424T090610
CREATED:20220228T230818Z
LAST-MODIFIED:20220228T230818Z
UID:8393-1809509400-1809513000@hfparish.com
SUMMARY:Confession
DESCRIPTION:Confessions are every Wednesday after Mass unless otherwise announced.
URL:https://hfparish.com/event/confession-2027-05-05/
END:VEVENT
BEGIN:VEVENT
DTSTART;TZID=America/Los_Angeles:20270506T080000
DTEND;TZID=America/Los_Angeles:20270506T090000
DTSTAMP:20260424T090610
CREATED:20201106T220137Z
LAST-MODIFIED:20201106T220137Z
UID:8397-1809590400-1809594000@hfparish.com
SUMMARY:Thursday Mass
DESCRIPTION:
URL:https://hfparish.com/event/thursday-mass-2-2027-05-06/
END:VEVENT
BEGIN:VEVENT
DTSTART;TZID=America/Los_Angeles:20270507T080000
DTEND;TZID=America/Los_Angeles:20270507T090000
DTSTAMP:20260424T090610
CREATED:20201106T220328Z
LAST-MODIFIED:20201106T220328Z
UID:8400-1809676800-1809680400@hfparish.com
SUMMARY:Friday Mass
DESCRIPTION:
URL:https://hfparish.com/event/friday-mass-2027-05-07/
END:VEVENT
BEGIN:VEVENT
DTSTART;TZID=America/Los_Angeles:20270508T150000
DTEND;TZID=America/Los_Angeles:20270508T153000
DTSTAMP:20260424T090610
CREATED:20220228T230620Z
LAST-MODIFIED:20220228T230620Z
UID:8403-1809788400-1809790200@hfparish.com
SUMMARY:Confessions
DESCRIPTION:Confessions are held every Saturday unless otherwise announced.
URL:https://hfparish.com/event/confessions-2-2027-05-08/
END:VEVENT
BEGIN:VEVENT
DTSTART;TZID=America/Los_Angeles:20270508T160000
DTEND;TZID=America/Los_Angeles:20270508T170000
DTSTAMP:20260424T090610
CREATED:20201106T220418Z
LAST-MODIFIED:20201106T220418Z
UID:8404-1809792000-1809795600@hfparish.com
SUMMARY:Saturday Mass
DESCRIPTION:
URL:https://hfparish.com/event/saturday-mass-2027-05-08/
END:VEVENT
BEGIN:VEVENT
DTSTART;TZID=America/Los_Angeles:20270509T090000
DTEND;TZID=America/Los_Angeles:20270509T100000
DTSTAMP:20260424T090610
CREATED:20201106T220522Z
LAST-MODIFIED:20201106T220522Z
UID:8405-1809853200-1809856800@hfparish.com
SUMMARY:Sunday Mass
DESCRIPTION:
URL:https://hfparish.com/event/sunday-mass-2027-05-09/
END:VEVENT
BEGIN:VEVENT
DTSTART;TZID=America/Los_Angeles:20270510T080000
DTEND;TZID=America/Los_Angeles:20270510T083000
DTSTAMP:20260424T090610
CREATED:20201106T215649Z
LAST-MODIFIED:20201106T215649Z
UID:8406-1809936000-1809937800@hfparish.com
SUMMARY:Monday Mass
DESCRIPTION:
URL:https://hfparish.com/event/monday-mass-2-2027-05-10/
END:VEVENT
BEGIN:VEVENT
DTSTART;TZID=America/Los_Angeles:20270510T084500
DTEND;TZID=America/Los_Angeles:20270510T100000
DTSTAMP:20260424T090610
CREATED:20220228T233517Z
LAST-MODIFIED:20220228T233517Z
UID:8407-1809938700-1809943200@hfparish.com
SUMMARY:Ladies Prayer Group
DESCRIPTION:
URL:https://hfparish.com/event/ladies-prayer-group-2-2027-05-10/
LOCATION:Holy Family Church Hall\, 1109 Chestnut St\, Clarkston\, WA\, 99403\, United States
END:VEVENT
BEGIN:VEVENT
DTSTART;TZID=America/Los_Angeles:20270512T093000
DTEND;TZID=America/Los_Angeles:20270512T103000
DTSTAMP:20260424T090610
CREATED:20220228T230818Z
LAST-MODIFIED:20220228T230818Z
UID:8413-1810114200-1810117800@hfparish.com
SUMMARY:Confession
DESCRIPTION:Confessions are every Wednesday after Mass unless otherwise announced.
URL:https://hfparish.com/event/confession-2027-05-12/
END:VEVENT
BEGIN:VEVENT
DTSTART;TZID=America/Los_Angeles:20270513T080000
DTEND;TZID=America/Los_Angeles:20270513T090000
DTSTAMP:20260424T090610
CREATED:20201106T220137Z
LAST-MODIFIED:20201106T220137Z
UID:8417-1810195200-1810198800@hfparish.com
SUMMARY:Thursday Mass
DESCRIPTION:
URL:https://hfparish.com/event/thursday-mass-2-2027-05-13/
END:VEVENT
BEGIN:VEVENT
DTSTART;TZID=America/Los_Angeles:20270514T080000
DTEND;TZID=America/Los_Angeles:20270514T090000
DTSTAMP:20260424T090610
CREATED:20201106T220328Z
LAST-MODIFIED:20201106T220328Z
UID:8423-1810281600-1810285200@hfparish.com
SUMMARY:Friday Mass
DESCRIPTION:
URL:https://hfparish.com/event/friday-mass-2027-05-14/
END:VEVENT
BEGIN:VEVENT
DTSTART;TZID=America/Los_Angeles:20270515T150000
DTEND;TZID=America/Los_Angeles:20270515T153000
DTSTAMP:20260424T090610
CREATED:20220228T230620Z
LAST-MODIFIED:20220228T230620Z
UID:8428-1810393200-1810395000@hfparish.com
SUMMARY:Confessions
DESCRIPTION:Confessions are held every Saturday unless otherwise announced.
URL:https://hfparish.com/event/confessions-2-2027-05-15/
END:VEVENT
BEGIN:VEVENT
DTSTART;TZID=America/Los_Angeles:20270515T160000
DTEND;TZID=America/Los_Angeles:20270515T170000
DTSTAMP:20260424T090610
CREATED:20201106T220418Z
LAST-MODIFIED:20201106T220418Z
UID:8429-1810396800-1810400400@hfparish.com
SUMMARY:Saturday Mass
DESCRIPTION:
URL:https://hfparish.com/event/saturday-mass-2027-05-15/
END:VEVENT
BEGIN:VEVENT
DTSTART;TZID=America/Los_Angeles:20270516T090000
DTEND;TZID=America/Los_Angeles:20270516T100000
DTSTAMP:20260424T090610
CREATED:20201106T220522Z
LAST-MODIFIED:20201106T220522Z
UID:8430-1810458000-1810461600@hfparish.com
SUMMARY:Sunday Mass
DESCRIPTION:
URL:https://hfparish.com/event/sunday-mass-2027-05-16/
END:VEVENT
BEGIN:VEVENT
DTSTART;TZID=America/Los_Angeles:20270517T080000
DTEND;TZID=America/Los_Angeles:20270517T083000
DTSTAMP:20260424T090610
CREATED:20201106T215649Z
LAST-MODIFIED:20201106T215649Z
UID:8431-1810540800-1810542600@hfparish.com
SUMMARY:Monday Mass
DESCRIPTION:
URL:https://hfparish.com/event/monday-mass-2-2027-05-17/
END:VEVENT
BEGIN:VEVENT
DTSTART;TZID=America/Los_Angeles:20270517T084500
DTEND;TZID=America/Los_Angeles:20270517T100000
DTSTAMP:20260424T090610
CREATED:20220228T233517Z
LAST-MODIFIED:20220228T233517Z
UID:8432-1810543500-1810548000@hfparish.com
SUMMARY:Ladies Prayer Group
DESCRIPTION:
URL:https://hfparish.com/event/ladies-prayer-group-2-2027-05-17/
LOCATION:Holy Family Church Hall\, 1109 Chestnut St\, Clarkston\, WA\, 99403\, United States
END:VEVENT
BEGIN:VEVENT
DTSTART;TZID=America/Los_Angeles:20270519T093000
DTEND;TZID=America/Los_Angeles:20270519T103000
DTSTAMP:20260424T090610
CREATED:20220228T230818Z
LAST-MODIFIED:20220228T230818Z
UID:8436-1810719000-1810722600@hfparish.com
SUMMARY:Confession
DESCRIPTION:Confessions are every Wednesday after Mass unless otherwise announced.
URL:https://hfparish.com/event/confession-2027-05-19/
END:VEVENT
BEGIN:VEVENT
DTSTART;TZID=America/Los_Angeles:20270520T080000
DTEND;TZID=America/Los_Angeles:20270520T090000
DTSTAMP:20260424T090610
CREATED:20201106T220137Z
LAST-MODIFIED:20201106T220137Z
UID:8437-1810800000-1810803600@hfparish.com
SUMMARY:Thursday Mass
DESCRIPTION:
URL:https://hfparish.com/event/thursday-mass-2-2027-05-20/
END:VEVENT
BEGIN:VEVENT
DTSTART;TZID=America/Los_Angeles:20270521T080000
DTEND;TZID=America/Los_Angeles:20270521T090000
DTSTAMP:20260424T090610
CREATED:20201106T220328Z
LAST-MODIFIED:20201106T220328Z
UID:8440-1810886400-1810890000@hfparish.com
SUMMARY:Friday Mass
DESCRIPTION:
URL:https://hfparish.com/event/friday-mass-2027-05-21/
END:VEVENT
BEGIN:VEVENT
DTSTART;TZID=America/Los_Angeles:20270522T150000
DTEND;TZID=America/Los_Angeles:20270522T153000
DTSTAMP:20260424T090610
CREATED:20220228T230620Z
LAST-MODIFIED:20220228T230620Z
UID:8441-1810998000-1810999800@hfparish.com
SUMMARY:Confessions
DESCRIPTION:Confessions are held every Saturday unless otherwise announced.
URL:https://hfparish.com/event/confessions-2-2027-05-22/
END:VEVENT
BEGIN:VEVENT
DTSTART;TZID=America/Los_Angeles:20270522T160000
DTEND;TZID=America/Los_Angeles:20270522T170000
DTSTAMP:20260424T090610
CREATED:20201106T220418Z
LAST-MODIFIED:20201106T220418Z
UID:8442-1811001600-1811005200@hfparish.com
SUMMARY:Saturday Mass
DESCRIPTION:
URL:https://hfparish.com/event/saturday-mass-2027-05-22/
END:VEVENT
BEGIN:VEVENT
DTSTART;TZID=America/Los_Angeles:20270523T090000
DTEND;TZID=America/Los_Angeles:20270523T100000
DTSTAMP:20260424T090610
CREATED:20201106T220522Z
LAST-MODIFIED:20201106T220522Z
UID:8446-1811062800-1811066400@hfparish.com
SUMMARY:Sunday Mass
DESCRIPTION:
URL:https://hfparish.com/event/sunday-mass-2027-05-23/
END:VEVENT
BEGIN:VEVENT
DTSTART;TZID=America/Los_Angeles:20270524T080000
DTEND;TZID=America/Los_Angeles:20270524T083000
DTSTAMP:20260424T090610
CREATED:20201106T215649Z
LAST-MODIFIED:20201106T215649Z
UID:8447-1811145600-1811147400@hfparish.com
SUMMARY:Monday Mass
DESCRIPTION:
URL:https://hfparish.com/event/monday-mass-2-2027-05-24/
END:VEVENT
BEGIN:VEVENT
DTSTART;TZID=America/Los_Angeles:20270524T084500
DTEND;TZID=America/Los_Angeles:20270524T100000
DTSTAMP:20260424T090610
CREATED:20220228T233517Z
LAST-MODIFIED:20220228T233517Z
UID:8448-1811148300-1811152800@hfparish.com
SUMMARY:Ladies Prayer Group
DESCRIPTION:
URL:https://hfparish.com/event/ladies-prayer-group-2-2027-05-24/
LOCATION:Holy Family Church Hall\, 1109 Chestnut St\, Clarkston\, WA\, 99403\, United States
END:VEVENT
BEGIN:VEVENT
DTSTART;TZID=America/Los_Angeles:20270526T093000
DTEND;TZID=America/Los_Angeles:20270526T103000
DTSTAMP:20260424T090610
CREATED:20220228T230818Z
LAST-MODIFIED:20220228T230818Z
UID:8452-1811323800-1811327400@hfparish.com
SUMMARY:Confession
DESCRIPTION:Confessions are every Wednesday after Mass unless otherwise announced.
URL:https://hfparish.com/event/confession-2027-05-26/
END:VEVENT
END:VCALENDAR