BEGIN:VCALENDAR
VERSION:2.0
PRODID:-//Holy Family Catholic Church - ECPv6.15.20//NONSGML v1.0//EN
CALSCALE:GREGORIAN
METHOD:PUBLISH
X-WR-CALNAME:Holy Family Catholic Church
X-ORIGINAL-URL:https://hfparish.com
X-WR-CALDESC:Events for Holy Family Catholic Church
REFRESH-INTERVAL;VALUE=DURATION:PT1H
X-Robots-Tag:noindex
X-PUBLISHED-TTL:PT1H
BEGIN:VTIMEZONE
TZID:America/Los_Angeles
BEGIN:DAYLIGHT
TZOFFSETFROM:-0800
TZOFFSETTO:-0700
TZNAME:PDT
DTSTART:20260308T100000
END:DAYLIGHT
BEGIN:STANDARD
TZOFFSETFROM:-0700
TZOFFSETTO:-0800
TZNAME:PST
DTSTART:20261101T090000
END:STANDARD
BEGIN:DAYLIGHT
TZOFFSETFROM:-0800
TZOFFSETTO:-0700
TZNAME:PDT
DTSTART:20270314T100000
END:DAYLIGHT
BEGIN:STANDARD
TZOFFSETFROM:-0700
TZOFFSETTO:-0800
TZNAME:PST
DTSTART:20271107T090000
END:STANDARD
BEGIN:DAYLIGHT
TZOFFSETFROM:-0800
TZOFFSETTO:-0700
TZNAME:PDT
DTSTART:20280312T100000
END:DAYLIGHT
BEGIN:STANDARD
TZOFFSETFROM:-0700
TZOFFSETTO:-0800
TZNAME:PST
DTSTART:20281105T090000
END:STANDARD
END:VTIMEZONE
BEGIN:VEVENT
DTSTART;TZID=America/Los_Angeles:20270701T080000
DTEND;TZID=America/Los_Angeles:20270701T090000
DTSTAMP:20260424T123807
CREATED:20201106T220137Z
LAST-MODIFIED:20201106T220137Z
UID:8535-1814428800-1814432400@hfparish.com
SUMMARY:Thursday Mass
DESCRIPTION:
URL:https://hfparish.com/event/thursday-mass-2-2027-07-01/
END:VEVENT
BEGIN:VEVENT
DTSTART;TZID=America/Los_Angeles:20270702T080000
DTEND;TZID=America/Los_Angeles:20270702T090000
DTSTAMP:20260424T123807
CREATED:20201106T220328Z
LAST-MODIFIED:20201106T220328Z
UID:8538-1814515200-1814518800@hfparish.com
SUMMARY:Friday Mass
DESCRIPTION:
URL:https://hfparish.com/event/friday-mass-2027-07-02/
END:VEVENT
BEGIN:VEVENT
DTSTART;TZID=America/Los_Angeles:20270703T150000
DTEND;TZID=America/Los_Angeles:20270703T153000
DTSTAMP:20260424T123807
CREATED:20220228T230620Z
LAST-MODIFIED:20220228T230620Z
UID:8539-1814626800-1814628600@hfparish.com
SUMMARY:Confessions
DESCRIPTION:Confessions are held every Saturday unless otherwise announced.
URL:https://hfparish.com/event/confessions-2-2027-07-03/
END:VEVENT
BEGIN:VEVENT
DTSTART;TZID=America/Los_Angeles:20270703T160000
DTEND;TZID=America/Los_Angeles:20270703T170000
DTSTAMP:20260424T123807
CREATED:20201106T220418Z
LAST-MODIFIED:20201106T220418Z
UID:8540-1814630400-1814634000@hfparish.com
SUMMARY:Saturday Mass
DESCRIPTION:
URL:https://hfparish.com/event/saturday-mass-2027-07-03/
END:VEVENT
BEGIN:VEVENT
DTSTART;TZID=America/Los_Angeles:20270704T090000
DTEND;TZID=America/Los_Angeles:20270704T100000
DTSTAMP:20260424T123807
CREATED:20201106T220522Z
LAST-MODIFIED:20201106T220522Z
UID:8541-1814691600-1814695200@hfparish.com
SUMMARY:Sunday Mass
DESCRIPTION:
URL:https://hfparish.com/event/sunday-mass-2027-07-04/
END:VEVENT
BEGIN:VEVENT
DTSTART;TZID=America/Los_Angeles:20270705T080000
DTEND;TZID=America/Los_Angeles:20270705T083000
DTSTAMP:20260424T123807
CREATED:20201106T215649Z
LAST-MODIFIED:20201106T215649Z
UID:8542-1814774400-1814776200@hfparish.com
SUMMARY:Monday Mass
DESCRIPTION:
URL:https://hfparish.com/event/monday-mass-2-2027-07-05/
END:VEVENT
BEGIN:VEVENT
DTSTART;TZID=America/Los_Angeles:20270705T084500
DTEND;TZID=America/Los_Angeles:20270705T100000
DTSTAMP:20260424T123807
CREATED:20220228T233517Z
LAST-MODIFIED:20220228T233517Z
UID:8543-1814777100-1814781600@hfparish.com
SUMMARY:Ladies Prayer Group
DESCRIPTION:
URL:https://hfparish.com/event/ladies-prayer-group-2-2027-07-05/
LOCATION:Holy Family Church Hall\, 1109 Chestnut St\, Clarkston\, WA\, 99403\, United States
END:VEVENT
BEGIN:VEVENT
DTSTART;TZID=America/Los_Angeles:20270707T093000
DTEND;TZID=America/Los_Angeles:20270707T103000
DTSTAMP:20260424T123807
CREATED:20220228T230818Z
LAST-MODIFIED:20220228T230818Z
UID:8548-1814952600-1814956200@hfparish.com
SUMMARY:Confession
DESCRIPTION:Confessions are every Wednesday after Mass unless otherwise announced.
URL:https://hfparish.com/event/confession-2027-07-07/
END:VEVENT
BEGIN:VEVENT
DTSTART;TZID=America/Los_Angeles:20270708T080000
DTEND;TZID=America/Los_Angeles:20270708T090000
DTSTAMP:20260424T123807
CREATED:20201106T220137Z
LAST-MODIFIED:20201106T220137Z
UID:8554-1815033600-1815037200@hfparish.com
SUMMARY:Thursday Mass
DESCRIPTION:
URL:https://hfparish.com/event/thursday-mass-2-2027-07-08/
END:VEVENT
BEGIN:VEVENT
DTSTART;TZID=America/Los_Angeles:20270709T080000
DTEND;TZID=America/Los_Angeles:20270709T090000
DTSTAMP:20260424T123807
CREATED:20201106T220328Z
LAST-MODIFIED:20201106T220328Z
UID:8557-1815120000-1815123600@hfparish.com
SUMMARY:Friday Mass
DESCRIPTION:
URL:https://hfparish.com/event/friday-mass-2027-07-09/
END:VEVENT
BEGIN:VEVENT
DTSTART;TZID=America/Los_Angeles:20270710T150000
DTEND;TZID=America/Los_Angeles:20270710T153000
DTSTAMP:20260424T123807
CREATED:20220228T230620Z
LAST-MODIFIED:20220228T230620Z
UID:8560-1815231600-1815233400@hfparish.com
SUMMARY:Confessions
DESCRIPTION:Confessions are held every Saturday unless otherwise announced.
URL:https://hfparish.com/event/confessions-2-2027-07-10/
END:VEVENT
BEGIN:VEVENT
DTSTART;TZID=America/Los_Angeles:20270710T160000
DTEND;TZID=America/Los_Angeles:20270710T170000
DTSTAMP:20260424T123807
CREATED:20201106T220418Z
LAST-MODIFIED:20201106T220418Z
UID:8561-1815235200-1815238800@hfparish.com
SUMMARY:Saturday Mass
DESCRIPTION:
URL:https://hfparish.com/event/saturday-mass-2027-07-10/
END:VEVENT
BEGIN:VEVENT
DTSTART;TZID=America/Los_Angeles:20270711T090000
DTEND;TZID=America/Los_Angeles:20270711T100000
DTSTAMP:20260424T123807
CREATED:20201106T220522Z
LAST-MODIFIED:20201106T220522Z
UID:8562-1815296400-1815300000@hfparish.com
SUMMARY:Sunday Mass
DESCRIPTION:
URL:https://hfparish.com/event/sunday-mass-2027-07-11/
END:VEVENT
BEGIN:VEVENT
DTSTART;TZID=America/Los_Angeles:20270712T080000
DTEND;TZID=America/Los_Angeles:20270712T083000
DTSTAMP:20260424T123807
CREATED:20201106T215649Z
LAST-MODIFIED:20201106T215649Z
UID:8563-1815379200-1815381000@hfparish.com
SUMMARY:Monday Mass
DESCRIPTION:
URL:https://hfparish.com/event/monday-mass-2-2027-07-12/
END:VEVENT
BEGIN:VEVENT
DTSTART;TZID=America/Los_Angeles:20270712T084500
DTEND;TZID=America/Los_Angeles:20270712T100000
DTSTAMP:20260424T123807
CREATED:20220228T233517Z
LAST-MODIFIED:20220228T233517Z
UID:8564-1815381900-1815386400@hfparish.com
SUMMARY:Ladies Prayer Group
DESCRIPTION:
URL:https://hfparish.com/event/ladies-prayer-group-2-2027-07-12/
LOCATION:Holy Family Church Hall\, 1109 Chestnut St\, Clarkston\, WA\, 99403\, United States
END:VEVENT
BEGIN:VEVENT
DTSTART;TZID=America/Los_Angeles:20270714T093000
DTEND;TZID=America/Los_Angeles:20270714T103000
DTSTAMP:20260424T123807
CREATED:20220228T230818Z
LAST-MODIFIED:20220228T230818Z
UID:8566-1815557400-1815561000@hfparish.com
SUMMARY:Confession
DESCRIPTION:Confessions are every Wednesday after Mass unless otherwise announced.
URL:https://hfparish.com/event/confession-2027-07-14/
END:VEVENT
BEGIN:VEVENT
DTSTART;TZID=America/Los_Angeles:20270715T080000
DTEND;TZID=America/Los_Angeles:20270715T090000
DTSTAMP:20260424T123807
CREATED:20201106T220137Z
LAST-MODIFIED:20201106T220137Z
UID:8569-1815638400-1815642000@hfparish.com
SUMMARY:Thursday Mass
DESCRIPTION:
URL:https://hfparish.com/event/thursday-mass-2-2027-07-15/
END:VEVENT
BEGIN:VEVENT
DTSTART;TZID=America/Los_Angeles:20270716T080000
DTEND;TZID=America/Los_Angeles:20270716T090000
DTSTAMP:20260424T123807
CREATED:20201106T220328Z
LAST-MODIFIED:20201106T220328Z
UID:8578-1815724800-1815728400@hfparish.com
SUMMARY:Friday Mass
DESCRIPTION:
URL:https://hfparish.com/event/friday-mass-2027-07-16/
END:VEVENT
BEGIN:VEVENT
DTSTART;TZID=America/Los_Angeles:20270717T150000
DTEND;TZID=America/Los_Angeles:20270717T153000
DTSTAMP:20260424T123807
CREATED:20220228T230620Z
LAST-MODIFIED:20220228T230620Z
UID:8579-1815836400-1815838200@hfparish.com
SUMMARY:Confessions
DESCRIPTION:Confessions are held every Saturday unless otherwise announced.
URL:https://hfparish.com/event/confessions-2-2027-07-17/
END:VEVENT
BEGIN:VEVENT
DTSTART;TZID=America/Los_Angeles:20270717T160000
DTEND;TZID=America/Los_Angeles:20270717T170000
DTSTAMP:20260424T123807
CREATED:20201106T220418Z
LAST-MODIFIED:20201106T220418Z
UID:8580-1815840000-1815843600@hfparish.com
SUMMARY:Saturday Mass
DESCRIPTION:
URL:https://hfparish.com/event/saturday-mass-2027-07-17/
END:VEVENT
BEGIN:VEVENT
DTSTART;TZID=America/Los_Angeles:20270718T090000
DTEND;TZID=America/Los_Angeles:20270718T100000
DTSTAMP:20260424T123807
CREATED:20201106T220522Z
LAST-MODIFIED:20201106T220522Z
UID:8582-1815901200-1815904800@hfparish.com
SUMMARY:Sunday Mass
DESCRIPTION:
URL:https://hfparish.com/event/sunday-mass-2027-07-18/
END:VEVENT
BEGIN:VEVENT
DTSTART;TZID=America/Los_Angeles:20270719T080000
DTEND;TZID=America/Los_Angeles:20270719T083000
DTSTAMP:20260424T123807
CREATED:20201106T215649Z
LAST-MODIFIED:20201106T215649Z
UID:8583-1815984000-1815985800@hfparish.com
SUMMARY:Monday Mass
DESCRIPTION:
URL:https://hfparish.com/event/monday-mass-2-2027-07-19/
END:VEVENT
BEGIN:VEVENT
DTSTART;TZID=America/Los_Angeles:20270719T084500
DTEND;TZID=America/Los_Angeles:20270719T100000
DTSTAMP:20260424T123807
CREATED:20220228T233517Z
LAST-MODIFIED:20220228T233517Z
UID:8584-1815986700-1815991200@hfparish.com
SUMMARY:Ladies Prayer Group
DESCRIPTION:
URL:https://hfparish.com/event/ladies-prayer-group-2-2027-07-19/
LOCATION:Holy Family Church Hall\, 1109 Chestnut St\, Clarkston\, WA\, 99403\, United States
END:VEVENT
BEGIN:VEVENT
DTSTART;TZID=America/Los_Angeles:20270721T093000
DTEND;TZID=America/Los_Angeles:20270721T103000
DTSTAMP:20260424T123807
CREATED:20220228T230818Z
LAST-MODIFIED:20220228T230818Z
UID:8585-1816162200-1816165800@hfparish.com
SUMMARY:Confession
DESCRIPTION:Confessions are every Wednesday after Mass unless otherwise announced.
URL:https://hfparish.com/event/confession-2027-07-21/
END:VEVENT
BEGIN:VEVENT
DTSTART;TZID=America/Los_Angeles:20270722T080000
DTEND;TZID=America/Los_Angeles:20270722T090000
DTSTAMP:20260424T123807
CREATED:20201106T220137Z
LAST-MODIFIED:20201106T220137Z
UID:8586-1816243200-1816246800@hfparish.com
SUMMARY:Thursday Mass
DESCRIPTION:
URL:https://hfparish.com/event/thursday-mass-2-2027-07-22/
END:VEVENT
BEGIN:VEVENT
DTSTART;TZID=America/Los_Angeles:20270723T080000
DTEND;TZID=America/Los_Angeles:20270723T090000
DTSTAMP:20260424T123807
CREATED:20201106T220328Z
LAST-MODIFIED:20201106T220328Z
UID:8591-1816329600-1816333200@hfparish.com
SUMMARY:Friday Mass
DESCRIPTION:
URL:https://hfparish.com/event/friday-mass-2027-07-23/
END:VEVENT
BEGIN:VEVENT
DTSTART;TZID=America/Los_Angeles:20270724T150000
DTEND;TZID=America/Los_Angeles:20270724T153000
DTSTAMP:20260424T123807
CREATED:20220228T230620Z
LAST-MODIFIED:20220228T230620Z
UID:8592-1816441200-1816443000@hfparish.com
SUMMARY:Confessions
DESCRIPTION:Confessions are held every Saturday unless otherwise announced.
URL:https://hfparish.com/event/confessions-2-2027-07-24/
END:VEVENT
BEGIN:VEVENT
DTSTART;TZID=America/Los_Angeles:20270724T160000
DTEND;TZID=America/Los_Angeles:20270724T170000
DTSTAMP:20260424T123807
CREATED:20201106T220418Z
LAST-MODIFIED:20201106T220418Z
UID:8593-1816444800-1816448400@hfparish.com
SUMMARY:Saturday Mass
DESCRIPTION:
URL:https://hfparish.com/event/saturday-mass-2027-07-24/
END:VEVENT
BEGIN:VEVENT
DTSTART;TZID=America/Los_Angeles:20270725T090000
DTEND;TZID=America/Los_Angeles:20270725T100000
DTSTAMP:20260424T123807
CREATED:20201106T220522Z
LAST-MODIFIED:20201106T220522Z
UID:8594-1816506000-1816509600@hfparish.com
SUMMARY:Sunday Mass
DESCRIPTION:
URL:https://hfparish.com/event/sunday-mass-2027-07-25/
END:VEVENT
BEGIN:VEVENT
DTSTART;TZID=America/Los_Angeles:20270726T080000
DTEND;TZID=America/Los_Angeles:20270726T083000
DTSTAMP:20260424T123807
CREATED:20201106T215649Z
LAST-MODIFIED:20201106T215649Z
UID:8595-1816588800-1816590600@hfparish.com
SUMMARY:Monday Mass
DESCRIPTION:
URL:https://hfparish.com/event/monday-mass-2-2027-07-26/
END:VEVENT
END:VCALENDAR