BEGIN:VCALENDAR
VERSION:2.0
PRODID:-//Holy Family Catholic Church - ECPv6.15.20//NONSGML v1.0//EN
CALSCALE:GREGORIAN
METHOD:PUBLISH
X-WR-CALNAME:Holy Family Catholic Church
X-ORIGINAL-URL:https://hfparish.com
X-WR-CALDESC:Events for Holy Family Catholic Church
REFRESH-INTERVAL;VALUE=DURATION:PT1H
X-Robots-Tag:noindex
X-PUBLISHED-TTL:PT1H
BEGIN:VTIMEZONE
TZID:America/Los_Angeles
BEGIN:DAYLIGHT
TZOFFSETFROM:-0800
TZOFFSETTO:-0700
TZNAME:PDT
DTSTART:20260308T100000
END:DAYLIGHT
BEGIN:STANDARD
TZOFFSETFROM:-0700
TZOFFSETTO:-0800
TZNAME:PST
DTSTART:20261101T090000
END:STANDARD
BEGIN:DAYLIGHT
TZOFFSETFROM:-0800
TZOFFSETTO:-0700
TZNAME:PDT
DTSTART:20270314T100000
END:DAYLIGHT
BEGIN:STANDARD
TZOFFSETFROM:-0700
TZOFFSETTO:-0800
TZNAME:PST
DTSTART:20271107T090000
END:STANDARD
BEGIN:DAYLIGHT
TZOFFSETFROM:-0800
TZOFFSETTO:-0700
TZNAME:PDT
DTSTART:20280312T100000
END:DAYLIGHT
BEGIN:STANDARD
TZOFFSETFROM:-0700
TZOFFSETTO:-0800
TZNAME:PST
DTSTART:20281105T090000
END:STANDARD
END:VTIMEZONE
BEGIN:VEVENT
DTSTART;TZID=America/Los_Angeles:20270901T093000
DTEND;TZID=America/Los_Angeles:20270901T103000
DTSTAMP:20260424T161411
CREATED:20220228T230818Z
LAST-MODIFIED:20220228T230818Z
UID:8676-1819791000-1819794600@hfparish.com
SUMMARY:Confession
DESCRIPTION:Confessions are every Wednesday after Mass unless otherwise announced.
URL:https://hfparish.com/event/confession-2027-09-01/
END:VEVENT
BEGIN:VEVENT
DTSTART;TZID=America/Los_Angeles:20270902T080000
DTEND;TZID=America/Los_Angeles:20270902T090000
DTSTAMP:20260424T161411
CREATED:20201106T220137Z
LAST-MODIFIED:20201106T220137Z
UID:8677-1819872000-1819875600@hfparish.com
SUMMARY:Thursday Mass
DESCRIPTION:
URL:https://hfparish.com/event/thursday-mass-2-2027-09-02/
END:VEVENT
BEGIN:VEVENT
DTSTART;TZID=America/Los_Angeles:20270903T080000
DTEND;TZID=America/Los_Angeles:20270903T090000
DTSTAMP:20260424T161411
CREATED:20201106T220328Z
LAST-MODIFIED:20201106T220328Z
UID:8678-1819958400-1819962000@hfparish.com
SUMMARY:Friday Mass
DESCRIPTION:
URL:https://hfparish.com/event/friday-mass-2027-09-03/
END:VEVENT
BEGIN:VEVENT
DTSTART;TZID=America/Los_Angeles:20270904T150000
DTEND;TZID=America/Los_Angeles:20270904T153000
DTSTAMP:20260424T161411
CREATED:20220228T230620Z
LAST-MODIFIED:20220228T230620Z
UID:8684-1820070000-1820071800@hfparish.com
SUMMARY:Confessions
DESCRIPTION:Confessions are held every Saturday unless otherwise announced.
URL:https://hfparish.com/event/confessions-2-2027-09-04/
END:VEVENT
BEGIN:VEVENT
DTSTART;TZID=America/Los_Angeles:20270904T160000
DTEND;TZID=America/Los_Angeles:20270904T170000
DTSTAMP:20260424T161411
CREATED:20201106T220418Z
LAST-MODIFIED:20201106T220418Z
UID:8685-1820073600-1820077200@hfparish.com
SUMMARY:Saturday Mass
DESCRIPTION:
URL:https://hfparish.com/event/saturday-mass-2027-09-04/
END:VEVENT
BEGIN:VEVENT
DTSTART;TZID=America/Los_Angeles:20270905T090000
DTEND;TZID=America/Los_Angeles:20270905T100000
DTSTAMP:20260424T161411
CREATED:20201106T220522Z
LAST-MODIFIED:20201106T220522Z
UID:8686-1820134800-1820138400@hfparish.com
SUMMARY:Sunday Mass
DESCRIPTION:
URL:https://hfparish.com/event/sunday-mass-2027-09-05/
END:VEVENT
BEGIN:VEVENT
DTSTART;TZID=America/Los_Angeles:20270906T080000
DTEND;TZID=America/Los_Angeles:20270906T083000
DTSTAMP:20260424T161411
CREATED:20201106T215649Z
LAST-MODIFIED:20201106T215649Z
UID:8687-1820217600-1820219400@hfparish.com
SUMMARY:Monday Mass
DESCRIPTION:
URL:https://hfparish.com/event/monday-mass-2-2027-09-06/
END:VEVENT
BEGIN:VEVENT
DTSTART;TZID=America/Los_Angeles:20270906T084500
DTEND;TZID=America/Los_Angeles:20270906T100000
DTSTAMP:20260424T161411
CREATED:20220228T233517Z
LAST-MODIFIED:20220228T233517Z
UID:8688-1820220300-1820224800@hfparish.com
SUMMARY:Ladies Prayer Group
DESCRIPTION:
URL:https://hfparish.com/event/ladies-prayer-group-2-2027-09-06/
LOCATION:Holy Family Church Hall\, 1109 Chestnut St\, Clarkston\, WA\, 99403\, United States
END:VEVENT
BEGIN:VEVENT
DTSTART;TZID=America/Los_Angeles:20270908T093000
DTEND;TZID=America/Los_Angeles:20270908T103000
DTSTAMP:20260424T161411
CREATED:20220228T230818Z
LAST-MODIFIED:20220228T230818Z
UID:8696-1820395800-1820399400@hfparish.com
SUMMARY:Confession
DESCRIPTION:Confessions are every Wednesday after Mass unless otherwise announced.
URL:https://hfparish.com/event/confession-2027-09-08/
END:VEVENT
BEGIN:VEVENT
DTSTART;TZID=America/Los_Angeles:20270909T080000
DTEND;TZID=America/Los_Angeles:20270909T090000
DTSTAMP:20260424T161411
CREATED:20201106T220137Z
LAST-MODIFIED:20201106T220137Z
UID:8697-1820476800-1820480400@hfparish.com
SUMMARY:Thursday Mass
DESCRIPTION:
URL:https://hfparish.com/event/thursday-mass-2-2027-09-09/
END:VEVENT
BEGIN:VEVENT
DTSTART;TZID=America/Los_Angeles:20270910T080000
DTEND;TZID=America/Los_Angeles:20270910T090000
DTSTAMP:20260424T161411
CREATED:20201106T220328Z
LAST-MODIFIED:20201106T220328Z
UID:8701-1820563200-1820566800@hfparish.com
SUMMARY:Friday Mass
DESCRIPTION:
URL:https://hfparish.com/event/friday-mass-2027-09-10/
END:VEVENT
BEGIN:VEVENT
DTSTART;TZID=America/Los_Angeles:20270911T150000
DTEND;TZID=America/Los_Angeles:20270911T153000
DTSTAMP:20260424T161411
CREATED:20220228T230620Z
LAST-MODIFIED:20220228T230620Z
UID:8704-1820674800-1820676600@hfparish.com
SUMMARY:Confessions
DESCRIPTION:Confessions are held every Saturday unless otherwise announced.
URL:https://hfparish.com/event/confessions-2-2027-09-11/
END:VEVENT
BEGIN:VEVENT
DTSTART;TZID=America/Los_Angeles:20270911T160000
DTEND;TZID=America/Los_Angeles:20270911T170000
DTSTAMP:20260424T161411
CREATED:20201106T220418Z
LAST-MODIFIED:20201106T220418Z
UID:8705-1820678400-1820682000@hfparish.com
SUMMARY:Saturday Mass
DESCRIPTION:
URL:https://hfparish.com/event/saturday-mass-2027-09-11/
END:VEVENT
BEGIN:VEVENT
DTSTART;TZID=America/Los_Angeles:20270912T090000
DTEND;TZID=America/Los_Angeles:20270912T100000
DTSTAMP:20260424T161411
CREATED:20201106T220522Z
LAST-MODIFIED:20201106T220522Z
UID:8706-1820739600-1820743200@hfparish.com
SUMMARY:Sunday Mass
DESCRIPTION:
URL:https://hfparish.com/event/sunday-mass-2027-09-12/
END:VEVENT
BEGIN:VEVENT
DTSTART;TZID=America/Los_Angeles:20270913T080000
DTEND;TZID=America/Los_Angeles:20270913T083000
DTSTAMP:20260424T161411
CREATED:20201106T215649Z
LAST-MODIFIED:20201106T215649Z
UID:8707-1820822400-1820824200@hfparish.com
SUMMARY:Monday Mass
DESCRIPTION:
URL:https://hfparish.com/event/monday-mass-2-2027-09-13/
END:VEVENT
BEGIN:VEVENT
DTSTART;TZID=America/Los_Angeles:20270913T084500
DTEND;TZID=America/Los_Angeles:20270913T100000
DTSTAMP:20260424T161411
CREATED:20220228T233517Z
LAST-MODIFIED:20220228T233517Z
UID:8708-1820825100-1820829600@hfparish.com
SUMMARY:Ladies Prayer Group
DESCRIPTION:
URL:https://hfparish.com/event/ladies-prayer-group-2-2027-09-13/
LOCATION:Holy Family Church Hall\, 1109 Chestnut St\, Clarkston\, WA\, 99403\, United States
END:VEVENT
BEGIN:VEVENT
DTSTART;TZID=America/Los_Angeles:20270915T093000
DTEND;TZID=America/Los_Angeles:20270915T103000
DTSTAMP:20260424T161411
CREATED:20220228T230818Z
LAST-MODIFIED:20220228T230818Z
UID:8710-1821000600-1821004200@hfparish.com
SUMMARY:Confession
DESCRIPTION:Confessions are every Wednesday after Mass unless otherwise announced.
URL:https://hfparish.com/event/confession-2027-09-15/
END:VEVENT
BEGIN:VEVENT
DTSTART;TZID=America/Los_Angeles:20270916T080000
DTEND;TZID=America/Los_Angeles:20270916T090000
DTSTAMP:20260424T161411
CREATED:20201106T220137Z
LAST-MODIFIED:20201106T220137Z
UID:8711-1821081600-1821085200@hfparish.com
SUMMARY:Thursday Mass
DESCRIPTION:
URL:https://hfparish.com/event/thursday-mass-2-2027-09-16/
END:VEVENT
BEGIN:VEVENT
DTSTART;TZID=America/Los_Angeles:20270917T080000
DTEND;TZID=America/Los_Angeles:20270917T090000
DTSTAMP:20260424T161411
CREATED:20201106T220328Z
LAST-MODIFIED:20201106T220328Z
UID:8714-1821168000-1821171600@hfparish.com
SUMMARY:Friday Mass
DESCRIPTION:
URL:https://hfparish.com/event/friday-mass-2027-09-17/
END:VEVENT
BEGIN:VEVENT
DTSTART;TZID=America/Los_Angeles:20270918T150000
DTEND;TZID=America/Los_Angeles:20270918T153000
DTSTAMP:20260424T161411
CREATED:20220228T230620Z
LAST-MODIFIED:20220228T230620Z
UID:8721-1821279600-1821281400@hfparish.com
SUMMARY:Confessions
DESCRIPTION:Confessions are held every Saturday unless otherwise announced.
URL:https://hfparish.com/event/confessions-2-2027-09-18/
END:VEVENT
BEGIN:VEVENT
DTSTART;TZID=America/Los_Angeles:20270918T160000
DTEND;TZID=America/Los_Angeles:20270918T170000
DTSTAMP:20260424T161411
CREATED:20201106T220418Z
LAST-MODIFIED:20201106T220418Z
UID:8722-1821283200-1821286800@hfparish.com
SUMMARY:Saturday Mass
DESCRIPTION:
URL:https://hfparish.com/event/saturday-mass-2027-09-18/
END:VEVENT
BEGIN:VEVENT
DTSTART;TZID=America/Los_Angeles:20270919T090000
DTEND;TZID=America/Los_Angeles:20270919T100000
DTSTAMP:20260424T161411
CREATED:20201106T220522Z
LAST-MODIFIED:20201106T220522Z
UID:8723-1821344400-1821348000@hfparish.com
SUMMARY:Sunday Mass
DESCRIPTION:
URL:https://hfparish.com/event/sunday-mass-2027-09-19/
END:VEVENT
BEGIN:VEVENT
DTSTART;TZID=America/Los_Angeles:20270920T080000
DTEND;TZID=America/Los_Angeles:20270920T083000
DTSTAMP:20260424T161411
CREATED:20201106T215649Z
LAST-MODIFIED:20201106T215649Z
UID:8724-1821427200-1821429000@hfparish.com
SUMMARY:Monday Mass
DESCRIPTION:
URL:https://hfparish.com/event/monday-mass-2-2027-09-20/
END:VEVENT
BEGIN:VEVENT
DTSTART;TZID=America/Los_Angeles:20270920T084500
DTEND;TZID=America/Los_Angeles:20270920T100000
DTSTAMP:20260424T161411
CREATED:20220228T233517Z
LAST-MODIFIED:20220228T233517Z
UID:8725-1821429900-1821434400@hfparish.com
SUMMARY:Ladies Prayer Group
DESCRIPTION:
URL:https://hfparish.com/event/ladies-prayer-group-2-2027-09-20/
LOCATION:Holy Family Church Hall\, 1109 Chestnut St\, Clarkston\, WA\, 99403\, United States
END:VEVENT
BEGIN:VEVENT
DTSTART;TZID=America/Los_Angeles:20270922T093000
DTEND;TZID=America/Los_Angeles:20270922T103000
DTSTAMP:20260424T161411
CREATED:20220228T230818Z
LAST-MODIFIED:20220228T230818Z
UID:8726-1821605400-1821609000@hfparish.com
SUMMARY:Confession
DESCRIPTION:Confessions are every Wednesday after Mass unless otherwise announced.
URL:https://hfparish.com/event/confession-2027-09-22/
END:VEVENT
BEGIN:VEVENT
DTSTART;TZID=America/Los_Angeles:20270923T080000
DTEND;TZID=America/Los_Angeles:20270923T090000
DTSTAMP:20260424T161411
CREATED:20201106T220137Z
LAST-MODIFIED:20201106T220137Z
UID:8730-1821686400-1821690000@hfparish.com
SUMMARY:Thursday Mass
DESCRIPTION:
URL:https://hfparish.com/event/thursday-mass-2-2027-09-23/
END:VEVENT
BEGIN:VEVENT
DTSTART;TZID=America/Los_Angeles:20270924T080000
DTEND;TZID=America/Los_Angeles:20270924T090000
DTSTAMP:20260424T161411
CREATED:20201106T220328Z
LAST-MODIFIED:20201106T220328Z
UID:8731-1821772800-1821776400@hfparish.com
SUMMARY:Friday Mass
DESCRIPTION:
URL:https://hfparish.com/event/friday-mass-2027-09-24/
END:VEVENT
BEGIN:VEVENT
DTSTART;TZID=America/Los_Angeles:20270925T150000
DTEND;TZID=America/Los_Angeles:20270925T153000
DTSTAMP:20260424T161411
CREATED:20220228T230620Z
LAST-MODIFIED:20220228T230620Z
UID:8736-1821884400-1821886200@hfparish.com
SUMMARY:Confessions
DESCRIPTION:Confessions are held every Saturday unless otherwise announced.
URL:https://hfparish.com/event/confessions-2-2027-09-25/
END:VEVENT
BEGIN:VEVENT
DTSTART;TZID=America/Los_Angeles:20270925T160000
DTEND;TZID=America/Los_Angeles:20270925T170000
DTSTAMP:20260424T161411
CREATED:20201106T220418Z
LAST-MODIFIED:20201106T220418Z
UID:8737-1821888000-1821891600@hfparish.com
SUMMARY:Saturday Mass
DESCRIPTION:
URL:https://hfparish.com/event/saturday-mass-2027-09-25/
END:VEVENT
BEGIN:VEVENT
DTSTART;TZID=America/Los_Angeles:20270926T090000
DTEND;TZID=America/Los_Angeles:20270926T100000
DTSTAMP:20260424T161411
CREATED:20201106T220522Z
LAST-MODIFIED:20201106T220522Z
UID:8738-1821949200-1821952800@hfparish.com
SUMMARY:Sunday Mass
DESCRIPTION:
URL:https://hfparish.com/event/sunday-mass-2027-09-26/
END:VEVENT
END:VCALENDAR